{"text_format":"1","workbook":"xlsx","n_sheets":11,"sheets":["Anleitung","Deckblatt","Teilnehmer","Mannschaften","Kampfrichter","Übersicht","Veranstaltung","Vereine","Wettkämpfe","Schwierigkeitsstufen","Zahlungsarten"],"not_rendered":{"charts":0,"images":0,"macros":1,"external_links":0,"defined_names":24,"comments":0,"pivot_tables":0},"unopened":[],"bounds":{"document_bytes":16777216,"sheet_cells":100000,"rows_first":2000,"rows_last":500,"rows_between":2000,"halvings":0,"cell_chars":16384,"cell_head_chars":4096},"cells_cut":0,"cells_raw":0,"read":"whole","date_system":"1900"}

{"sheet":"Anleitung","index":0,"n_rows":26,"n_cols":2,"rows_kept":26,"cut":false,"hidden":false,"merged":[]}
[{"$f":"Deckblatt!C14","v":"Turngau Rems-Murr"}]
[]
[]
[null,"Liebe Mitarbeiterin, lieber Mitarbeiter im Verein, "]
[null,"dieses Anmeldungsformular für Microsoft Excel soll Ihnen und den Mitarbeitern des Organisationsteams die Arbeit erleichtern. Die in diesem Formular eingegebenen Daten übernehmen wir automatisch in das Programm WOTuS, mit dem die Unterlagen für die Wettkämpfe ausgedruckt, die Ergebnisse erfasst und dann Urkunden und Siegerlisten gedruckt werden. Achten Sie deshalb beim Ausfüllen nicht nur auf die richtige Schreibweise der Vor- und Nachnamen, sondern insbesondere auf die Angabe der richtigen Wettkampf-Nummer. Wenn ein Teilnehmer an einem WAHL-Wettkampf teilnimmt, markieren Sie bitte die gewählten Leichtathletik-, Schwimm- und RopeSkipping-Disziplinen mit einem \"X\", bzw. tragen Sie bei Geräte / Gymnastik die Schwierigkeitsstufe (P-Stufe) ein."]
[]
[null,"Füllen Sie auf den Seiten \"Deckblatt\", \"Teilnehmer\", \"Mannschaften\" und \"Kampfrichter\" jeweils die grün hinterlegten Felder aus und speichern Sie die Datei unter einem neuen Namen, am Besten indem sie den Namen ihres Vereins anhängen. Beispiel:"]
[null,{"$f":"\"Anmeldung_GauKi2019_TV Murrhardt.xls\"","v":"Anmeldung_GauKi2019_TV Murrhardt.xls"}]
[]
[null,"Senden Sie die vollständig ausgefüllte Datei per eMail an:"]
[null,{"$f":"Deckblatt!B10","v":"gauki@turngau-rm.de"}]
[null,"Sie erhalten von uns innerhalb 2 Tagen eine Empfangsbestätigung per Mail."]
[]
[null,{"$f":"\"Liegt von ihrem Verein kein SEPA-Lastschritmandat für wiederkehrende Zahlungen vor, müssen Sie das Deckblatt ausdrucken, unterschreiben und an die auf dem Deckblatt angegebene Anschrift (\" &Deckblatt!B4 & \") schicken.\"","v":"Liegt von ihrem Verein kein SEPA-Lastschritmandat für wiederkehrende Zahlungen vor, müssen Sie das Deckblatt ausdrucken, unterschreiben und an die auf dem Deckblatt angegebene Anschrift (Turngau Rems-Murr e.V.) schicken."}]
[]
[null,"Für die Höhe der Meldegebühr ist allein die Ausschreibung maßgeblich. Die aufgrund der Teilnehmer-Anmeldung automatisch auf dem Deckblatt dieses Formulars eingetragene Meldegebühr soll Ihnen die Arbeit erleichtern, dient aber lediglich zu ihrer Information. Bitte überprüfen Sie die automatisch errechnete Meldegebühr anhand der Angaben in der Ausschreibung."]
[]
[null,"Durch die rechtzeitige Abgabe der Meldung ermöglichen Sie eine bessere Planung und Vorbereitung."]
[null,"Unvollständige Anmeldungen müssen wir leider unbearbeitet an Sie zurücksenden."]
[]
[null,{"$f":"\"Falls Sie Fragen zum Ausfüllen des Formulars haben, wenden Sie sich bitte per eMail an: \" &Deckblatt!B10 & \" oder telefonisch an \" & Deckblatt!B11","v":"Falls Sie Fragen zum Ausfüllen des Formulars haben, wenden Sie sich bitte per eMail an: gauki@turngau-rm.de oder telefonisch an 0 71 83 183998-0"}]
[]
["Erläuterung der Farb-Markierungen:"]
[null,"Diese Felder müssen vom Vereinsmitarbeiter bei der Anmeldung ausgefüllt werden"]
[null,"Diese Felder werden automatisch berechnet, wenn die grünen Felder ausgefüllt wurden"]
[null,"In diesen Feldern muß auf dem Ausdruck unterschrieben werden"]

{"sheet":"Deckblatt","index":1,"n_rows":85,"n_cols":5,"rows_kept":85,"cut":false,"hidden":false,"merged":[[51,1,53,2],[63,1,63,2],[64,1,64,2]]}
["Anmeldung"]
[]
[]
[null,"Turngau Rems-Murr e.V."]
[null,"Geschäftsstelle"]
[null,"Rathausplatz 5"]
[null,"73635 Rudersberg"]
[]
[]
["E-Mail:","gauki@turngau-rm.de"]
["Telefon:","0 71 83 183998-0"]
[]
["Veranstaltungsdaten"]
[null,"Veranstalter:","Turngau Rems-Murr"]
[null,"Titel:",{"$f":"IF(ISTEXT(C17),LOOKUP(C17,Titel,Veranstaltung!G2:G2),\"\")","v":"Turngau Event 2024"}]
[null,"Untertitel:"]
[null,"Auswahl","Turngau Event"]
[null,"Termin:",{"$f":"IF(ISTEXT(C17),LOOKUP(C17,Titel,Veranstaltung!B2:B2),\"\")","v":"2024-06-23"}]
[null,"Anmeldeschluss:",{"$f":"IF(ISTEXT(C17),LOOKUP(C17,Titel,Veranstaltung!E2:E2),\"\")","v":"2024-06-07"},{"$f":"LOOKUP(C17,Titel,Veranstaltung!#REF!)","v":{"$error":"#REF!"}}]
[null,"Ort:",{"$f":"IF(ISTEXT(C17),LOOKUP(C17,Titel,Veranstaltung!C2:C2),\"\")","v":"Weissach im Tal"}]
[null,"Ausrichter:",{"$f":"IF(ISTEXT(C17),LOOKUP(C17,Titel,Veranstaltung!D2:D2),\"\")","v":"SG Weissach im Tal"}]
[]
["Vereinsdaten",null,{"$f":"IF(ISBLANK(C24),\"Wählen Sie hier ihren Verein aus:\",\"\")","v":"Wählen Sie hier ihren Verein aus:"}]
[null,"Verein:"]
[null,"anderer Verein:"]
[]
["Meldeverantwortlicher"]
[null,"Nachname:",null,null,{"$f":"IF(ISBLANK(C28),\"Bitte tragen Sie Ihren Namen ein\",\"\")","v":"Bitte tragen Sie Ihren Namen ein"}]
[null,"Vorname:",null,null,{"$f":"IF(ISBLANK(C29),\"Bitte tragen Sie Ihren Vornamen ein\",\"\")","v":"Bitte tragen Sie Ihren Vornamen ein"}]
[null,"Strasse:",null,null,{"$f":"IF(ISBLANK(C30),\"Bitte tragen Sie die Rechnungsanschrift ein\",\"\")","v":"Bitte tragen Sie die Rechnungsanschrift ein"}]
[null,"PLZ:",null,null,{"$f":"IF(ISBLANK(C31),\"Bitte tragen Sie die Rechnungsanschrift ein\",\"\")","v":"Bitte tragen Sie die Rechnungsanschrift ein"}]
[null,"Ort:",null,null,{"$f":"IF(ISBLANK(C32),\"Bitte tragen Sie die Rechnungsanschrift ein\",\"\")","v":"Bitte tragen Sie die Rechnungsanschrift ein"}]
[null,"Telefon:"]
[null,"Telefax:"]
[null,"eMail:",null,null,{"$f":"IF(ISBLANK(C35),\"Bitte tragen Sie die eMail-Adresse ein\",\"\")","v":"Bitte tragen Sie die eMail-Adresse ein"}]
[]
["Anmeldungsübersicht",null,{"$f":"IF(AND(C38=0,C39=0),\"Füllen Sie die Seiten 'Teilnehmer' und 'Mannschaft' aus!\",\"\")","v":"Füllen Sie die Seiten 'Teilnehmer' und 'Mannschaft' aus!"}]
[null,"Teilnehmer Einzelwettkämpfe gesamt:",{"$f":"Übersicht!D78","v":0}]
[null,"Mannschaften gesamt:",{"$f":"Übersicht!M78","v":0}]
[null,"Teilnehmer gesamt:",{"$f":"Teilnehmer!A1006","v":0}]
[null,"Meldegebühr gesamt:",{"$f":"IF(ISBLANK(C56),\"Bitte Anmeldedatum (unten) ausfüllen!\",Übersicht!U83)","v":"Bitte Anmeldedatum (unten) ausfüllen!"}]
[]
["Vereinsvorführungen"]
[null,"Wir freuen uns über Ihren aktiven Beitrag zur Gestaltung des Festnachmittags."]
[null,"Bitte tragen Sie Vorführungen Ihrer Gruppen (Gymnastik, Tanz, Turnen, ..) hier ein:"]
[]
[]
[]
[]
[]
["Einverständnisserklärung"]
[null,"Mit der Anmeldung erkläre ich mein Einverständniss zu der elektronischen Speicherung und Auswertung der Anmelde-/Teilnehmerdaten und Ergebnisse sowie deren Veröffentlichung im Internet erkläre ich mich einverstanden."]
[]
[]
[null,null,{"$f":"IF(ISBLANK(C56),\" Tragen Sie hier das heutige Datum ein:\",\"\")","v":" Tragen Sie hier das heutige Datum ein:"}]
[null,"Anmeldedatum:"]
[null,"Unterschrift:"]
[]
[]
["Zahlung",null,{"$f":"IF(AND(ISBLANK(#REF!),ISBLANK(#REF!)),\"Markieren Sie eine Zahlungsweise:\",\"\")","v":""}]
[null,"(Bitte eine der Alternativen auswählen)"]
[null,"Zahlungsart:",null,null,{"$f":"IF(ISBLANK(C62),\"Bitte wählen Sie die Zahlungsart aus\",\"\")","v":"Bitte wählen Sie die Zahlungsart aus"}]
[]
[null,{"$f":"IF(ISTEXT(C62),LOOKUP(C62,Zahlungsart,Zahlungsarten!B2:B3),\"\")","v":""}]
[null,{"$f":"IF(ISTEXT(C62),LOOKUP(C62,Zahlungsart,Zahlungsarten!C2:C3),\"\")","v":""}]
[null,"IBAN:"]
[null,"BIC:"]
[null,"Name Kontoinhaber:"]
[null,"Anschrift Kontoinhaber:"]
[]
[]
[]
[null,"Datum:"]
[null,"Unterschrift:"]
[]
[]
["Bitte speichern Sie diese Excel-Arbeitsmappe als Datei im Format \"Excel 97-2003-Arbeitsmappe (*.xls)\" unter folgendem Namen:"]
[null,{"$f":"IF(ISTEXT(C25),\"Anmeldung_\"& LOOKUP(C15,Titel,Veranstaltung!H2:H2) & \"_\" & $C25 & \".xls\",IF(ISTEXT(C24),\"Anmeldung_\" & LOOKUP(C15,Titel,Veranstaltung!H2:H2) & \"_\" & $C24 & \".xls\",\"\"))","v":""}]
["und senden Sie diese Datei per E-Mail mit Betreff \"Anmeldung\" an:"]
[null,{"$f":"B10","v":"gauki@turngau-rm.de"}]
["Wenn Sie Fragen oder Probleme mit diesem Anmeldeformular haben:"]
[null,{"$f":"IF(ISBLANK(B11),\"\",A11 & \" \" & B11 & \" - Montag 10-12 Uhr und Donnerstag 15-18 Uhr\" )","v":"Telefon: 0 71 83 183998-0 - Montag 10-12 Uhr und Donnerstag 15-18 Uhr"}]
[]
[{"$f":"Veranstaltung!H2","v":"GauKi2024"}]
["© 2019 Turngau Rems-Murr"]

{"sheet":"Teilnehmer","index":2,"n_rows":1006,"n_cols":33,"rows_kept":1006,"cut":false,"hidden":false,"merged":[[2,13,2,17],[1,30,1,31]]}
["Nachname","Vorname","Geschlecht","Startpassnr","Geburtsjahr","WK",null,"Mannschaft","MWK"]
[{"$f":"\"Teilnehmer \" & IF(LEN(Deckblatt!C24)>0,Deckblatt!C24,\"\")","v":"Teilnehmer "},null,null,null,null,"Wettkampf",null,"Mannschaft",null,"Disziplinen für Wahlwettkampf",null,null,null,null,null,null,null,null,null,null,null,null,null,null,null,null,null,null,null,null,"Wahlwettkampf"]
[null,null,null,null,null,null,null,null,null,"Leichtatheltik",null,null,null,"Geräteturnen",null,null,null,null,"Gymnastik",null,null,null,null,null,"Schwimmen",null,null,null,"Ropeskipping"]
["Nachname","Vorname","Geschlecht","DTB-ID","Geburts-jahr","Einzel WK-Nr.","Einzel-Wettkampf-Bezeichnung","Mannschaft Nr.","Mannschafts-WK-Nr.","Lauf","Weit-sprung / Zone","Weit-sprung / Stand","Wurf / Stoß","Boden ","Sprung","(Parallel-) Barren","Reck / Stufenbarren","Balken","Keulen","Reifen","Seil","Ball","Band","ohne  Hand- Gerät","Tauchen","Brust","Rücken","Kraul","Easy           Jump","Speed","Anzahl Disziplinen gewählt","Anzahl Disziplinen erforderlich","Überprüfungsergebnis"]
[null,null,null,null,null,null,{"$f":"IF(ISERROR(MATCH(F5,WKNrListe_Einzel,0)),\"\",LOOKUP(F5,WKNrListe_Einzel,Übersicht!$B$7:$B$62))","v":""},null,{"$f":"IF(ISBLANK(H5),\" \",IF(LOOKUP(H5,MannschaftsNrListe,Mannschaften!B$4:B$53)<>0,LOOKUP(H5,MannschaftsNrListe,Mannschaften!B$4:B$53),\"\"))","v":" "},null,null,null,null,null,null,null,null,null,null,null,null,null,null,null,null,null,null,null,null,null,{"$f":"COUNTIF(J5:AD5,\">''\")","v":0},{"$f":"IF(NOT(ISBLANK(F5)),LOOKUP(F5,WKNrListe,Übersicht!E$7:E$77),0)","v":0},{"$f":"IF(\n AND(\n  OR(ISTEXT(A5), ISTEXT(B5), NOT(ISBLANK(E5)), NOT(ISBLANK(F5)), NOT(ISBLANK(H5))),\n  OR(ISBLANK(A5),ISBLANK(B5),AND(ISBLANK(E5),ISBLANK(F5),ISBLANK(H5)))\n ),\n \"unvollständig\",\n IF(\n  AND(\n   NOT(\n    ISBLANK(H5)\n    ),\n   NOT(ISNUMBER(I5))\n  ),\n  \"Seite Mannschaften ausfüllen!\",\n  IF(AF5>AE5,\"zu wenig Disziplinen gewählt\",IF(AE5>AF5,\"zu viele Disziplinen gewählt\",\"\"))\n )\n)","v":""}]
[null,null,null,null,null,null,{"$f":"IF(ISERROR(MATCH(F6,WKNrListe_Einzel,0)),\"\",LOOKUP(F6,WKNrListe_Einzel,Übersicht!$B$7:$B$62))","v":""},null,{"$f":"IF(ISBLANK(H6),\" \",IF(LOOKUP(H6,MannschaftsNrListe,Mannschaften!B$4:B$53)<>0,LOOKUP(H6,MannschaftsNrListe,Mannschaften!B$4:B$53),\"\"))","v":" "},null,null,null,null,null,null,null,null,null,null,null,null,null,null,null,null,null,null,null,null,null,{"$f":"COUNTIF(J6:AD6,\">''\")","v":0},{"$f":"IF(NOT(ISBLANK(F6)),LOOKUP(F6,WKNrListe,Übersicht!E$7:E$77),0)","v":0},{"$f":"IF(\n AND(\n  OR(ISTEXT(A6), ISTEXT(B6), NOT(ISBLANK(E6)), NOT(ISBLANK(F6)), NOT(ISBLANK(H6))),\n  OR(ISBLANK(A6),ISBLANK(B6),AND(ISBLANK(E6),ISBLANK(F6),ISBLANK(H6)))\n ),\n \"unvollständig\",\n IF(\n  AND(\n   NOT(\n    ISBLANK(H6)\n    ),\n   NOT(ISNUMBER(I6))\n  ),\n  \"Seite Mannschaften ausfüllen!\",\n  IF(AF6>AE6,\"zu wenig Disziplinen gewählt\",IF(AE6>AF6,\"zu viele Disziplinen gewählt\",\"\"))\n )\n)","v":""}]
[null,null,null,null,null,null,{"$f":"IF(ISERROR(MATCH(F7,WKNrListe_Einzel,0)),\"\",LOOKUP(F7,WKNrListe_Einzel,Übersicht!$B$7:$B$62))","v":""},null,{"$f":"IF(ISBLANK(H7),\" \",IF(LOOKUP(H7,MannschaftsNrListe,Mannschaften!B$4:B$53)<>0,LOOKUP(H7,MannschaftsNrListe,Mannschaften!B$4:B$53),\"\"))","v":" "},null,null,null,null,null,null,null,null,null,null,null,null,null,null,null,null,null,null,null,null,null,0,{"$f":"IF(NOT(ISBLANK(F7)),LOOKUP(F7,WKNrListe,Übersicht!E$7:E$77),0)","v":0},""]
[null,null,null,null,null,null,{"$f":"IF(ISERROR(MATCH(F8,WKNrListe_Einzel,0)),\"\",LOOKUP(F8,WKNrListe_Einzel,Übersicht!$B$7:$B$62))","v":""},null,{"$f":"IF(ISBLANK(H8),\" \",IF(LOOKUP(H8,MannschaftsNrListe,Mannschaften!B$4:B$53)<>0,LOOKUP(H8,MannschaftsNrListe,Mannschaften!B$4:B$53),\"\"))","v":" "},null,null,null,null,null,null,null,null,null,null,null,null,null,null,null,null,null,null,null,null,null,0,{"$f":"IF(NOT(ISBLANK(F8)),LOOKUP(F8,WKNrListe,Übersicht!E$7:E$77),0)","v":0},""]
[null,null,null,null,null,null,{"$f":"IF(ISERROR(MATCH(F9,WKNrListe_Einzel,0)),\"\",LOOKUP(F9,WKNrListe_Einzel,Übersicht!$B$7:$B$62))","v":""},null,{"$f":"IF(ISBLANK(H9),\" \",IF(LOOKUP(H9,MannschaftsNrListe,Mannschaften!B$4:B$53)<>0,LOOKUP(H9,MannschaftsNrListe,Mannschaften!B$4:B$53),\"\"))","v":" "},null,null,null,null,null,null,null,null,null,null,null,null,null,null,null,null,null,null,null,null,null,0,{"$f":"IF(NOT(ISBLANK(F9)),LOOKUP(F9,WKNrListe,Übersicht!E$7:E$77),0)","v":0},""]
[null,null,null,null,null,null,{"$f":"IF(ISERROR(MATCH(F10,WKNrListe_Einzel,0)),\"\",LOOKUP(F10,WKNrListe_Einzel,Übersicht!$B$7:$B$62))","v":""},null,{"$f":"IF(ISBLANK(H10),\" \",IF(LOOKUP(H10,MannschaftsNrListe,Mannschaften!B$4:B$53)<>0,LOOKUP(H10,MannschaftsNrListe,Mannschaften!B$4:B$53),\"\"))","v":" "},null,null,null,null,null,null,null,null,null,null,null,null,null,null,null,null,null,null,null,null,null,0,{"$f":"IF(NOT(ISBLANK(F10)),LOOKUP(F10,WKNrListe,Übersicht!E$7:E$77),0)","v":0},""]
[null,null,null,null,null,null,{"$f":"IF(ISERROR(MATCH(F11,WKNrListe_Einzel,0)),\"\",LOOKUP(F11,WKNrListe_Einzel,Übersicht!$B$7:$B$62))","v":""},null,{"$f":"IF(ISBLANK(H11),\" \",IF(LOOKUP(H11,MannschaftsNrListe,Mannschaften!B$4:B$53)<>0,LOOKUP(H11,MannschaftsNrListe,Mannschaften!B$4:B$53),\"\"))","v":" "},null,null,null,null,null,null,null,null,null,null,null,null,null,null,null,null,null,null,null,null,null,0,{"$f":"IF(NOT(ISBLANK(F11)),LOOKUP(F11,WKNrListe,Übersicht!E$7:E$77),0)","v":0},""]
[null,null,null,null,null,null,{"$f":"IF(ISERROR(MATCH(F12,WKNrListe_Einzel,0)),\"\",LOOKUP(F12,WKNrListe_Einzel,Übersicht!$B$7:$B$62))","v":""},null,{"$f":"IF(ISBLANK(H12),\" \",IF(LOOKUP(H12,MannschaftsNrListe,Mannschaften!B$4:B$53)<>0,LOOKUP(H12,MannschaftsNrListe,Mannschaften!B$4:B$53),\"\"))","v":" "},null,null,null,null,null,null,null,null,null,null,null,null,null,null,null,null,null,null,null,null,null,0,{"$f":"IF(NOT(ISBLANK(F12)),LOOKUP(F12,WKNrListe,Übersicht!E$7:E$77),0)","v":0},""]
[null,null,null,null,null,null,{"$f":"IF(ISERROR(MATCH(F13,WKNrListe_Einzel,0)),\"\",LOOKUP(F13,WKNrListe_Einzel,Übersicht!$B$7:$B$62))","v":""},null,{"$f":"IF(ISBLANK(H13),\" \",IF(LOOKUP(H13,MannschaftsNrListe,Mannschaften!B$4:B$53)<>0,LOOKUP(H13,MannschaftsNrListe,Mannschaften!B$4:B$53),\"\"))","v":" "},null,null,null,null,null,null,null,null,null,null,null,null,null,null,null,null,null,null,null,null,null,0,{"$f":"IF(NOT(ISBLANK(F13)),LOOKUP(F13,WKNrListe,Übersicht!E$7:E$77),0)","v":0},""]
[null,null,null,null,null,null,{"$f":"IF(ISERROR(MATCH(F14,WKNrListe_Einzel,0)),\"\",LOOKUP(F14,WKNrListe_Einzel,Übersicht!$B$7:$B$62))","v":""},null,{"$f":"IF(ISBLANK(H14),\" \",IF(LOOKUP(H14,MannschaftsNrListe,Mannschaften!B$4:B$53)<>0,LOOKUP(H14,MannschaftsNrListe,Mannschaften!B$4:B$53),\"\"))","v":" "},null,null,null,null,null,null,null,null,null,null,null,null,null,null,null,null,null,null,null,null,null,0,{"$f":"IF(NOT(ISBLANK(F14)),LOOKUP(F14,WKNrListe,Übersicht!E$7:E$77),0)","v":0},""]
[null,null,null,null,null,null,{"$f":"IF(ISERROR(MATCH(F15,WKNrListe_Einzel,0)),\"\",LOOKUP(F15,WKNrListe_Einzel,Übersicht!$B$7:$B$62))","v":""},null,{"$f":"IF(ISBLANK(H15),\" \",IF(LOOKUP(H15,MannschaftsNrListe,Mannschaften!B$4:B$53)<>0,LOOKUP(H15,MannschaftsNrListe,Mannschaften!B$4:B$53),\"\"))","v":" "},null,null,null,null,null,null,null,null,null,null,null,null,null,null,null,null,null,null,null,null,null,0,{"$f":"IF(NOT(ISBLANK(F15)),LOOKUP(F15,WKNrListe,Übersicht!E$7:E$77),0)","v":0},""]
[null,null,null,null,null,null,{"$f":"IF(ISERROR(MATCH(F16,WKNrListe_Einzel,0)),\"\",LOOKUP(F16,WKNrListe_Einzel,Übersicht!$B$7:$B$62))","v":""},null,{"$f":"IF(ISBLANK(H16),\" \",IF(LOOKUP(H16,MannschaftsNrListe,Mannschaften!B$4:B$53)<>0,LOOKUP(H16,MannschaftsNrListe,Mannschaften!B$4:B$53),\"\"))","v":" "},null,null,null,null,null,null,null,null,null,null,null,null,null,null,null,null,null,null,null,null,null,0,{"$f":"IF(NOT(ISBLANK(F16)),LOOKUP(F16,WKNrListe,Übersicht!E$7:E$77),0)","v":0},""]
[null,null,null,null,null,null,{"$f":"IF(ISERROR(MATCH(F17,WKNrListe_Einzel,0)),\"\",LOOKUP(F17,WKNrListe_Einzel,Übersicht!$B$7:$B$62))","v":""},null,{"$f":"IF(ISBLANK(H17),\" \",IF(LOOKUP(H17,MannschaftsNrListe,Mannschaften!B$4:B$53)<>0,LOOKUP(H17,MannschaftsNrListe,Mannschaften!B$4:B$53),\"\"))","v":" "},null,null,null,null,null,null,null,null,null,null,null,null,null,null,null,null,null,null,null,null,null,0,{"$f":"IF(NOT(ISBLANK(F17)),LOOKUP(F17,WKNrListe,Übersicht!E$7:E$77),0)","v":0},""]
[null,null,null,null,null,null,{"$f":"IF(ISERROR(MATCH(F18,WKNrListe_Einzel,0)),\"\",LOOKUP(F18,WKNrListe_Einzel,Übersicht!$B$7:$B$62))","v":""},null,{"$f":"IF(ISBLANK(H18),\" \",IF(LOOKUP(H18,MannschaftsNrListe,Mannschaften!B$4:B$53)<>0,LOOKUP(H18,MannschaftsNrListe,Mannschaften!B$4:B$53),\"\"))","v":" "},null,null,null,null,null,null,null,null,null,null,null,null,null,null,null,null,null,null,null,null,null,0,{"$f":"IF(NOT(ISBLANK(F18)),LOOKUP(F18,WKNrListe,Übersicht!E$7:E$77),0)","v":0},""]
[null,null,null,null,null,null,{"$f":"IF(ISERROR(MATCH(F19,WKNrListe_Einzel,0)),\"\",LOOKUP(F19,WKNrListe_Einzel,Übersicht!$B$7:$B$62))","v":""},null,{"$f":"IF(ISBLANK(H19),\" \",IF(LOOKUP(H19,MannschaftsNrListe,Mannschaften!B$4:B$53)<>0,LOOKUP(H19,MannschaftsNrListe,Mannschaften!B$4:B$53),\"\"))","v":" "},null,null,null,null,null,null,null,null,null,null,null,null,null,null,null,null,null,null,null,null,null,0,{"$f":"IF(NOT(ISBLANK(F19)),LOOKUP(F19,WKNrListe,Übersicht!E$7:E$77),0)","v":0},""]
[null,null,null,null,null,null,{"$f":"IF(ISERROR(MATCH(F20,WKNrListe_Einzel,0)),\"\",LOOKUP(F20,WKNrListe_Einzel,Übersicht!$B$7:$B$62))","v":""},null,{"$f":"IF(ISBLANK(H20),\" \",IF(LOOKUP(H20,MannschaftsNrListe,Mannschaften!B$4:B$53)<>0,LOOKUP(H20,MannschaftsNrListe,Mannschaften!B$4:B$53),\"\"))","v":" "},null,null,null,null,null,null,null,null,null,null,null,null,null,null,null,null,null,null,null,null,null,0,{"$f":"IF(NOT(ISBLANK(F20)),LOOKUP(F20,WKNrListe,Übersicht!E$7:E$77),0)","v":0},""]
[null,null,null,null,null,null,{"$f":"IF(ISERROR(MATCH(F21,WKNrListe_Einzel,0)),\"\",LOOKUP(F21,WKNrListe_Einzel,Übersicht!$B$7:$B$62))","v":""},null,{"$f":"IF(ISBLANK(H21),\" \",IF(LOOKUP(H21,MannschaftsNrListe,Mannschaften!B$4:B$53)<>0,LOOKUP(H21,MannschaftsNrListe,Mannschaften!B$4:B$53),\"\"))","v":" "},null,null,null,null,null,null,null,null,null,null,null,null,null,null,null,null,null,null,null,null,null,0,{"$f":"IF(NOT(ISBLANK(F21)),LOOKUP(F21,WKNrListe,Übersicht!E$7:E$77),0)","v":0},""]
[null,null,null,null,null,null,{"$f":"IF(ISERROR(MATCH(F22,WKNrListe_Einzel,0)),\"\",LOOKUP(F22,WKNrListe_Einzel,Übersicht!$B$7:$B$62))","v":""},null,{"$f":"IF(ISBLANK(H22),\" \",IF(LOOKUP(H22,MannschaftsNrListe,Mannschaften!B$4:B$53)<>0,LOOKUP(H22,MannschaftsNrListe,Mannschaften!B$4:B$53),\"\"))","v":" "},null,null,null,null,null,null,null,null,null,null,null,null,null,null,null,null,null,null,null,null,null,0,{"$f":"IF(NOT(ISBLANK(F22)),LOOKUP(F22,WKNrListe,Übersicht!E$7:E$77),0)","v":0},""]
[null,null,null,null,null,null,{"$f":"IF(ISERROR(MATCH(F23,WKNrListe_Einzel,0)),\"\",LOOKUP(F23,WKNrListe_Einzel,Übersicht!$B$7:$B$62))","v":""},null,{"$f":"IF(ISBLANK(H23),\" \",IF(LOOKUP(H23,MannschaftsNrListe,Mannschaften!B$4:B$53)<>0,LOOKUP(H23,MannschaftsNrListe,Mannschaften!B$4:B$53),\"\"))","v":" "},null,null,null,null,null,null,null,null,null,null,null,null,null,null,null,null,null,null,null,null,null,0,{"$f":"IF(NOT(ISBLANK(F23)),LOOKUP(F23,WKNrListe,Übersicht!E$7:E$77),0)","v":0},""]
[null,null,null,null,null,null,{"$f":"IF(ISERROR(MATCH(F24,WKNrListe_Einzel,0)),\"\",LOOKUP(F24,WKNrListe_Einzel,Übersicht!$B$7:$B$62))","v":""},null,{"$f":"IF(ISBLANK(H24),\" \",IF(LOOKUP(H24,MannschaftsNrListe,Mannschaften!B$4:B$53)<>0,LOOKUP(H24,MannschaftsNrListe,Mannschaften!B$4:B$53),\"\"))","v":" "},null,null,null,null,null,null,null,null,null,null,null,null,null,null,null,null,null,null,null,null,null,0,{"$f":"IF(NOT(ISBLANK(F24)),LOOKUP(F24,WKNrListe,Übersicht!E$7:E$77),0)","v":0},""]
[null,null,null,null,null,null,{"$f":"IF(ISERROR(MATCH(F25,WKNrListe_Einzel,0)),\"\",LOOKUP(F25,WKNrListe_Einzel,Übersicht!$B$7:$B$62))","v":""},null,{"$f":"IF(ISBLANK(H25),\" \",IF(LOOKUP(H25,MannschaftsNrListe,Mannschaften!B$4:B$53)<>0,LOOKUP(H25,MannschaftsNrListe,Mannschaften!B$4:B$53),\"\"))","v":" "},null,null,null,null,null,null,null,null,null,null,null,null,null,null,null,null,null,null,null,null,null,0,{"$f":"IF(NOT(ISBLANK(F25)),LOOKUP(F25,WKNrListe,Übersicht!E$7:E$77),0)","v":0},""]
[null,null,null,null,null,null,{"$f":"IF(ISERROR(MATCH(F26,WKNrListe_Einzel,0)),\"\",LOOKUP(F26,WKNrListe_Einzel,Übersicht!$B$7:$B$62))","v":""},null,{"$f":"IF(ISBLANK(H26),\" \",IF(LOOKUP(H26,MannschaftsNrListe,Mannschaften!B$4:B$53)<>0,LOOKUP(H26,MannschaftsNrListe,Mannschaften!B$4:B$53),\"\"))","v":" "},null,null,null,null,null,null,null,null,null,null,null,null,null,null,null,null,null,null,null,null,null,0,{"$f":"IF(NOT(ISBLANK(F26)),LOOKUP(F26,WKNrListe,Übersicht!E$7:E$77),0)","v":0},""]
[null,null,null,null,null,null,{"$f":"IF(ISERROR(MATCH(F27,WKNrListe_Einzel,0)),\"\",LOOKUP(F27,WKNrListe_Einzel,Übersicht!$B$7:$B$62))","v":""},null,{"$f":"IF(ISBLANK(H27),\" \",IF(LOOKUP(H27,MannschaftsNrListe,Mannschaften!B$4:B$53)<>0,LOOKUP(H27,MannschaftsNrListe,Mannschaften!B$4:B$53),\"\"))","v":" "},null,null,null,null,null,null,null,null,null,null,null,null,null,null,null,null,null,null,null,null,null,0,{"$f":"IF(NOT(ISBLANK(F27)),LOOKUP(F27,WKNrListe,Übersicht!E$7:E$77),0)","v":0},""]
[null,null,null,null,null,null,{"$f":"IF(ISERROR(MATCH(F28,WKNrListe_Einzel,0)),\"\",LOOKUP(F28,WKNrListe_Einzel,Übersicht!$B$7:$B$62))","v":""},null,{"$f":"IF(ISBLANK(H28),\" \",IF(LOOKUP(H28,MannschaftsNrListe,Mannschaften!B$4:B$53)<>0,LOOKUP(H28,MannschaftsNrListe,Mannschaften!B$4:B$53),\"\"))","v":" "},null,null,null,null,null,null,null,null,null,null,null,null,null,null,null,null,null,null,null,null,null,0,{"$f":"IF(NOT(ISBLANK(F28)),LOOKUP(F28,WKNrListe,Übersicht!E$7:E$77),0)","v":0},""]
[null,null,null,null,null,null,{"$f":"IF(ISERROR(MATCH(F29,WKNrListe_Einzel,0)),\"\",LOOKUP(F29,WKNrListe_Einzel,Übersicht!$B$7:$B$62))","v":""},null,{"$f":"IF(ISBLANK(H29),\" \",IF(LOOKUP(H29,MannschaftsNrListe,Mannschaften!B$4:B$53)<>0,LOOKUP(H29,MannschaftsNrListe,Mannschaften!B$4:B$53),\"\"))","v":" "},null,null,null,null,null,null,null,null,null,null,null,null,null,null,null,null,null,null,null,null,null,0,{"$f":"IF(NOT(ISBLANK(F29)),LOOKUP(F29,WKNrListe,Übersicht!E$7:E$77),0)","v":0},""]
[null,null,null,null,null,null,{"$f":"IF(ISERROR(MATCH(F30,WKNrListe_Einzel,0)),\"\",LOOKUP(F30,WKNrListe_Einzel,Übersicht!$B$7:$B$62))","v":""},null,{"$f":"IF(ISBLANK(H30),\" \",IF(LOOKUP(H30,MannschaftsNrListe,Mannschaften!B$4:B$53)<>0,LOOKUP(H30,MannschaftsNrListe,Mannschaften!B$4:B$53),\"\"))","v":" "},null,null,null,null,null,null,null,null,null,null,null,null,null,null,null,null,null,null,null,null,null,0,{"$f":"IF(NOT(ISBLANK(F30)),LOOKUP(F30,WKNrListe,Übersicht!E$7:E$77),0)","v":0},""]
[null,null,null,null,null,null,{"$f":"IF(ISERROR(MATCH(F31,WKNrListe_Einzel,0)),\"\",LOOKUP(F31,WKNrListe_Einzel,Übersicht!$B$7:$B$62))","v":""},null,{"$f":"IF(ISBLANK(H31),\" \",IF(LOOKUP(H31,MannschaftsNrListe,Mannschaften!B$4:B$53)<>0,LOOKUP(H31,MannschaftsNrListe,Mannschaften!B$4:B$53),\"\"))","v":" "},null,null,null,null,null,null,null,null,null,null,null,null,null,null,null,null,null,null,null,null,null,0,{"$f":"IF(NOT(ISBLANK(F31)),LOOKUP(F31,WKNrListe,Übersicht!E$7:E$77),0)","v":0},""]
[null,null,null,null,null,null,{"$f":"IF(ISERROR(MATCH(F32,WKNrListe_Einzel,0)),\"\",LOOKUP(F32,WKNrListe_Einzel,Übersicht!$B$7:$B$62))","v":""},null,{"$f":"IF(ISBLANK(H32),\" \",IF(LOOKUP(H32,MannschaftsNrListe,Mannschaften!B$4:B$53)<>0,LOOKUP(H32,MannschaftsNrListe,Mannschaften!B$4:B$53),\"\"))","v":" "},null,null,null,null,null,null,null,null,null,null,null,null,null,null,null,null,null,null,null,null,null,0,{"$f":"IF(NOT(ISBLANK(F32)),LOOKUP(F32,WKNrListe,Übersicht!E$7:E$77),0)","v":0},""]
[null,null,null,null,null,null,{"$f":"IF(ISERROR(MATCH(F33,WKNrListe_Einzel,0)),\"\",LOOKUP(F33,WKNrListe_Einzel,Übersicht!$B$7:$B$62))","v":""},null,{"$f":"IF(ISBLANK(H33),\" \",IF(LOOKUP(H33,MannschaftsNrListe,Mannschaften!B$4:B$53)<>0,LOOKUP(H33,MannschaftsNrListe,Mannschaften!B$4:B$53),\"\"))","v":" "},null,null,null,null,null,null,null,null,null,null,null,null,null,null,null,null,null,null,null,null,null,0,{"$f":"IF(NOT(ISBLANK(F33)),LOOKUP(F33,WKNrListe,Übersicht!E$7:E$77),0)","v":0},""]
[null,null,null,null,null,null,{"$f":"IF(ISERROR(MATCH(F34,WKNrListe_Einzel,0)),\"\",LOOKUP(F34,WKNrListe_Einzel,Übersicht!$B$7:$B$62))","v":""},null,{"$f":"IF(ISBLANK(H34),\" \",IF(LOOKUP(H34,MannschaftsNrListe,Mannschaften!B$4:B$53)<>0,LOOKUP(H34,MannschaftsNrListe,Mannschaften!B$4:B$53),\"\"))","v":" "},null,null,null,null,null,null,null,null,null,null,null,null,null,null,null,null,null,null,null,null,null,0,{"$f":"IF(NOT(ISBLANK(F34)),LOOKUP(F34,WKNrListe,Übersicht!E$7:E$77),0)","v":0},""]
[null,null,null,null,null,null,{"$f":"IF(ISERROR(MATCH(F35,WKNrListe_Einzel,0)),\"\",LOOKUP(F35,WKNrListe_Einzel,Übersicht!$B$7:$B$62))","v":""},null,{"$f":"IF(ISBLANK(H35),\" \",IF(LOOKUP(H35,MannschaftsNrListe,Mannschaften!B$4:B$53)<>0,LOOKUP(H35,MannschaftsNrListe,Mannschaften!B$4:B$53),\"\"))","v":" "},null,null,null,null,null,null,null,null,null,null,null,null,null,null,null,null,null,null,null,null,null,0,{"$f":"IF(NOT(ISBLANK(F35)),LOOKUP(F35,WKNrListe,Übersicht!E$7:E$77),0)","v":0},""]
[null,null,null,null,null,null,{"$f":"IF(ISERROR(MATCH(F36,WKNrListe_Einzel,0)),\"\",LOOKUP(F36,WKNrListe_Einzel,Übersicht!$B$7:$B$62))","v":""},null,{"$f":"IF(ISBLANK(H36),\" \",IF(LOOKUP(H36,MannschaftsNrListe,Mannschaften!B$4:B$53)<>0,LOOKUP(H36,MannschaftsNrListe,Mannschaften!B$4:B$53),\"\"))","v":" "},null,null,null,null,null,null,null,null,null,null,null,null,null,null,null,null,null,null,null,null,null,0,{"$f":"IF(NOT(ISBLANK(F36)),LOOKUP(F36,WKNrListe,Übersicht!E$7:E$77),0)","v":0},""]
[null,null,null,null,null,null,{"$f":"IF(ISERROR(MATCH(F37,WKNrListe_Einzel,0)),\"\",LOOKUP(F37,WKNrListe_Einzel,Übersicht!$B$7:$B$62))","v":""},null,{"$f":"IF(ISBLANK(H37),\" \",IF(LOOKUP(H37,MannschaftsNrListe,Mannschaften!B$4:B$53)<>0,LOOKUP(H37,MannschaftsNrListe,Mannschaften!B$4:B$53),\"\"))","v":" "},null,null,null,null,null,null,null,null,null,null,null,null,null,null,null,null,null,null,null,null,null,0,{"$f":"IF(NOT(ISBLANK(F37)),LOOKUP(F37,WKNrListe,Übersicht!E$7:E$77),0)","v":0},""]
[null,null,null,null,null,null,{"$f":"IF(ISERROR(MATCH(F38,WKNrListe_Einzel,0)),\"\",LOOKUP(F38,WKNrListe_Einzel,Übersicht!$B$7:$B$62))","v":""},null,{"$f":"IF(ISBLANK(H38),\" \",IF(LOOKUP(H38,MannschaftsNrListe,Mannschaften!B$4:B$53)<>0,LOOKUP(H38,MannschaftsNrListe,Mannschaften!B$4:B$53),\"\"))","v":" "},null,null,null,null,null,null,null,null,null,null,null,null,null,null,null,null,null,null,null,null,null,0,{"$f":"IF(NOT(ISBLANK(F38)),LOOKUP(F38,WKNrListe,Übersicht!E$7:E$77),0)","v":0},""]
[null,null,null,null,null,null,{"$f":"IF(ISERROR(MATCH(F39,WKNrListe_Einzel,0)),\"\",LOOKUP(F39,WKNrListe_Einzel,Übersicht!$B$7:$B$62))","v":""},null,{"$f":"IF(ISBLANK(H39),\" \",IF(LOOKUP(H39,MannschaftsNrListe,Mannschaften!B$4:B$53)<>0,LOOKUP(H39,MannschaftsNrListe,Mannschaften!B$4:B$53),\"\"))","v":" "},null,null,null,null,null,null,null,null,null,null,null,null,null,null,null,null,null,null,null,null,null,0,{"$f":"IF(NOT(ISBLANK(F39)),LOOKUP(F39,WKNrListe,Übersicht!E$7:E$77),0)","v":0},""]
[null,null,null,null,null,null,{"$f":"IF(ISERROR(MATCH(F40,WKNrListe_Einzel,0)),\"\",LOOKUP(F40,WKNrListe_Einzel,Übersicht!$B$7:$B$62))","v":""},null,{"$f":"IF(ISBLANK(H40),\" \",IF(LOOKUP(H40,MannschaftsNrListe,Mannschaften!B$4:B$53)<>0,LOOKUP(H40,MannschaftsNrListe,Mannschaften!B$4:B$53),\"\"))","v":" "},null,null,null,null,null,null,null,null,null,null,null,null,null,null,null,null,null,null,null,null,null,0,{"$f":"IF(NOT(ISBLANK(F40)),LOOKUP(F40,WKNrListe,Übersicht!E$7:E$77),0)","v":0},""]
[null,null,null,null,null,null,{"$f":"IF(ISERROR(MATCH(F41,WKNrListe_Einzel,0)),\"\",LOOKUP(F41,WKNrListe_Einzel,Übersicht!$B$7:$B$62))","v":""},null,{"$f":"IF(ISBLANK(H41),\" \",IF(LOOKUP(H41,MannschaftsNrListe,Mannschaften!B$4:B$53)<>0,LOOKUP(H41,MannschaftsNrListe,Mannschaften!B$4:B$53),\"\"))","v":" "},null,null,null,null,null,null,null,null,null,null,null,null,null,null,null,null,null,null,null,null,null,0,{"$f":"IF(NOT(ISBLANK(F41)),LOOKUP(F41,WKNrListe,Übersicht!E$7:E$77),0)","v":0},""]
[null,null,null,null,null,null,{"$f":"IF(ISERROR(MATCH(F42,WKNrListe_Einzel,0)),\"\",LOOKUP(F42,WKNrListe_Einzel,Übersicht!$B$7:$B$62))","v":""},null,{"$f":"IF(ISBLANK(H42),\" \",IF(LOOKUP(H42,MannschaftsNrListe,Mannschaften!B$4:B$53)<>0,LOOKUP(H42,MannschaftsNrListe,Mannschaften!B$4:B$53),\"\"))","v":" "},null,null,null,null,null,null,null,null,null,null,null,null,null,null,null,null,null,null,null,null,null,0,{"$f":"IF(NOT(ISBLANK(F42)),LOOKUP(F42,WKNrListe,Übersicht!E$7:E$77),0)","v":0},""]
[null,null,null,null,null,null,{"$f":"IF(ISERROR(MATCH(F43,WKNrListe_Einzel,0)),\"\",LOOKUP(F43,WKNrListe_Einzel,Übersicht!$B$7:$B$62))","v":""},null,{"$f":"IF(ISBLANK(H43),\" \",IF(LOOKUP(H43,MannschaftsNrListe,Mannschaften!B$4:B$53)<>0,LOOKUP(H43,MannschaftsNrListe,Mannschaften!B$4:B$53),\"\"))","v":" "},null,null,null,null,null,null,null,null,null,null,null,null,null,null,null,null,null,null,null,null,null,0,{"$f":"IF(NOT(ISBLANK(F43)),LOOKUP(F43,WKNrListe,Übersicht!E$7:E$77),0)","v":0},""]
[null,null,null,null,null,null,{"$f":"IF(ISERROR(MATCH(F44,WKNrListe_Einzel,0)),\"\",LOOKUP(F44,WKNrListe_Einzel,Übersicht!$B$7:$B$62))","v":""},null,{"$f":"IF(ISBLANK(H44),\" \",IF(LOOKUP(H44,MannschaftsNrListe,Mannschaften!B$4:B$53)<>0,LOOKUP(H44,MannschaftsNrListe,Mannschaften!B$4:B$53),\"\"))","v":" "},null,null,null,null,null,null,null,null,null,null,null,null,null,null,null,null,null,null,null,null,null,0,{"$f":"IF(NOT(ISBLANK(F44)),LOOKUP(F44,WKNrListe,Übersicht!E$7:E$77),0)","v":0},""]
[null,null,null,null,null,null,{"$f":"IF(ISERROR(MATCH(F45,WKNrListe_Einzel,0)),\"\",LOOKUP(F45,WKNrListe_Einzel,Übersicht!$B$7:$B$62))","v":""},null,{"$f":"IF(ISBLANK(H45),\" \",IF(LOOKUP(H45,MannschaftsNrListe,Mannschaften!B$4:B$53)<>0,LOOKUP(H45,MannschaftsNrListe,Mannschaften!B$4:B$53),\"\"))","v":" "},null,null,null,null,null,null,null,null,null,null,null,null,null,null,null,null,null,null,null,null,null,0,{"$f":"IF(NOT(ISBLANK(F45)),LOOKUP(F45,WKNrListe,Übersicht!E$7:E$77),0)","v":0},""]
[null,null,null,null,null,null,{"$f":"IF(ISERROR(MATCH(F46,WKNrListe_Einzel,0)),\"\",LOOKUP(F46,WKNrListe_Einzel,Übersicht!$B$7:$B$62))","v":""},null,{"$f":"IF(ISBLANK(H46),\" \",IF(LOOKUP(H46,MannschaftsNrListe,Mannschaften!B$4:B$53)<>0,LOOKUP(H46,MannschaftsNrListe,Mannschaften!B$4:B$53),\"\"))","v":" "},null,null,null,null,null,null,null,null,null,null,null,null,null,null,null,null,null,null,null,null,null,0,{"$f":"IF(NOT(ISBLANK(F46)),LOOKUP(F46,WKNrListe,Übersicht!E$7:E$77),0)","v":0},""]
[null,null,null,null,null,null,{"$f":"IF(ISERROR(MATCH(F47,WKNrListe_Einzel,0)),\"\",LOOKUP(F47,WKNrListe_Einzel,Übersicht!$B$7:$B$62))","v":""},null,{"$f":"IF(ISBLANK(H47),\" \",IF(LOOKUP(H47,MannschaftsNrListe,Mannschaften!B$4:B$53)<>0,LOOKUP(H47,MannschaftsNrListe,Mannschaften!B$4:B$53),\"\"))","v":" "},null,null,null,null,null,null,null,null,null,null,null,null,null,null,null,null,null,null,null,null,null,0,{"$f":"IF(NOT(ISBLANK(F47)),LOOKUP(F47,WKNrListe,Übersicht!E$7:E$77),0)","v":0},""]
[null,null,null,null,null,null,{"$f":"IF(ISERROR(MATCH(F48,WKNrListe_Einzel,0)),\"\",LOOKUP(F48,WKNrListe_Einzel,Übersicht!$B$7:$B$62))","v":""},null,{"$f":"IF(ISBLANK(H48),\" \",IF(LOOKUP(H48,MannschaftsNrListe,Mannschaften!B$4:B$53)<>0,LOOKUP(H48,MannschaftsNrListe,Mannschaften!B$4:B$53),\"\"))","v":" "},null,null,null,null,null,null,null,null,null,null,null,null,null,null,null,null,null,null,null,null,null,0,{"$f":"IF(NOT(ISBLANK(F48)),LOOKUP(F48,WKNrListe,Übersicht!E$7:E$77),0)","v":0},""]
[null,null,null,null,null,null,{"$f":"IF(ISERROR(MATCH(F49,WKNrListe_Einzel,0)),\"\",LOOKUP(F49,WKNrListe_Einzel,Übersicht!$B$7:$B$62))","v":""},null,{"$f":"IF(ISBLANK(H49),\" \",IF(LOOKUP(H49,MannschaftsNrListe,Mannschaften!B$4:B$53)<>0,LOOKUP(H49,MannschaftsNrListe,Mannschaften!B$4:B$53),\"\"))","v":" "},null,null,null,null,null,null,null,null,null,null,null,null,null,null,null,null,null,null,null,null,null,0,{"$f":"IF(NOT(ISBLANK(F49)),LOOKUP(F49,WKNrListe,Übersicht!E$7:E$77),0)","v":0},""]
[null,null,null,null,null,null,{"$f":"IF(ISERROR(MATCH(F50,WKNrListe_Einzel,0)),\"\",LOOKUP(F50,WKNrListe_Einzel,Übersicht!$B$7:$B$62))","v":""},null,{"$f":"IF(ISBLANK(H50),\" \",IF(LOOKUP(H50,MannschaftsNrListe,Mannschaften!B$4:B$53)<>0,LOOKUP(H50,MannschaftsNrListe,Mannschaften!B$4:B$53),\"\"))","v":" "},null,null,null,null,null,null,null,null,null,null,null,null,null,null,null,null,null,null,null,null,null,0,{"$f":"IF(NOT(ISBLANK(F50)),LOOKUP(F50,WKNrListe,Übersicht!E$7:E$77),0)","v":0},""]
[null,null,null,null,null,null,{"$f":"IF(ISERROR(MATCH(F51,WKNrListe_Einzel,0)),\"\",LOOKUP(F51,WKNrListe_Einzel,Übersicht!$B$7:$B$62))","v":""},null,{"$f":"IF(ISBLANK(H51),\" \",IF(LOOKUP(H51,MannschaftsNrListe,Mannschaften!B$4:B$53)<>0,LOOKUP(H51,MannschaftsNrListe,Mannschaften!B$4:B$53),\"\"))","v":" "},null,null,null,null,null,null,null,null,null,null,null,null,null,null,null,null,null,null,null,null,null,0,{"$f":"IF(NOT(ISBLANK(F51)),LOOKUP(F51,WKNrListe,Übersicht!E$7:E$77),0)","v":0},""]
[null,null,null,null,null,null,{"$f":"IF(ISERROR(MATCH(F52,WKNrListe_Einzel,0)),\"\",LOOKUP(F52,WKNrListe_Einzel,Übersicht!$B$7:$B$62))","v":""},null,{"$f":"IF(ISBLANK(H52),\" \",IF(LOOKUP(H52,MannschaftsNrListe,Mannschaften!B$4:B$53)<>0,LOOKUP(H52,MannschaftsNrListe,Mannschaften!B$4:B$53),\"\"))","v":" "},null,null,null,null,null,null,null,null,null,null,null,null,null,null,null,null,null,null,null,null,null,0,{"$f":"IF(NOT(ISBLANK(F52)),LOOKUP(F52,WKNrListe,Übersicht!E$7:E$77),0)","v":0},""]
[null,null,null,null,null,null,{"$f":"IF(ISERROR(MATCH(F53,WKNrListe_Einzel,0)),\"\",LOOKUP(F53,WKNrListe_Einzel,Übersicht!$B$7:$B$62))","v":""},null,{"$f":"IF(ISBLANK(H53),\" \",IF(LOOKUP(H53,MannschaftsNrListe,Mannschaften!B$4:B$53)<>0,LOOKUP(H53,MannschaftsNrListe,Mannschaften!B$4:B$53),\"\"))","v":" "},null,null,null,null,null,null,null,null,null,null,null,null,null,null,null,null,null,null,null,null,null,0,{"$f":"IF(NOT(ISBLANK(F53)),LOOKUP(F53,WKNrListe,Übersicht!E$7:E$77),0)","v":0},""]
[null,null,null,null,null,null,{"$f":"IF(ISERROR(MATCH(F54,WKNrListe_Einzel,0)),\"\",LOOKUP(F54,WKNrListe_Einzel,Übersicht!$B$7:$B$62))","v":""},null,{"$f":"IF(ISBLANK(H54),\" \",IF(LOOKUP(H54,MannschaftsNrListe,Mannschaften!B$4:B$53)<>0,LOOKUP(H54,MannschaftsNrListe,Mannschaften!B$4:B$53),\"\"))","v":" "},null,null,null,null,null,null,null,null,null,null,null,null,null,null,null,null,null,null,null,null,null,0,{"$f":"IF(NOT(ISBLANK(F54)),LOOKUP(F54,WKNrListe,Übersicht!E$7:E$77),0)","v":0},""]
[null,null,null,null,null,null,{"$f":"IF(ISERROR(MATCH(F55,WKNrListe_Einzel,0)),\"\",LOOKUP(F55,WKNrListe_Einzel,Übersicht!$B$7:$B$62))","v":""},null,{"$f":"IF(ISBLANK(H55),\" \",IF(LOOKUP(H55,MannschaftsNrListe,Mannschaften!B$4:B$53)<>0,LOOKUP(H55,MannschaftsNrListe,Mannschaften!B$4:B$53),\"\"))","v":" "},null,null,null,null,null,null,null,null,null,null,null,null,null,null,null,null,null,null,null,null,null,0,{"$f":"IF(NOT(ISBLANK(F55)),LOOKUP(F55,WKNrListe,Übersicht!E$7:E$77),0)","v":0},""]
[null,null,null,null,null,null,{"$f":"IF(ISERROR(MATCH(F56,WKNrListe_Einzel,0)),\"\",LOOKUP(F56,WKNrListe_Einzel,Übersicht!$B$7:$B$62))","v":""},null,{"$f":"IF(ISBLANK(H56),\" \",IF(LOOKUP(H56,MannschaftsNrListe,Mannschaften!B$4:B$53)<>0,LOOKUP(H56,MannschaftsNrListe,Mannschaften!B$4:B$53),\"\"))","v":" "},null,null,null,null,null,null,null,null,null,null,null,null,null,null,null,null,null,null,null,null,null,0,{"$f":"IF(NOT(ISBLANK(F56)),LOOKUP(F56,WKNrListe,Übersicht!E$7:E$77),0)","v":0},""]
[null,null,null,null,null,null,{"$f":"IF(ISERROR(MATCH(F57,WKNrListe_Einzel,0)),\"\",LOOKUP(F57,WKNrListe_Einzel,Übersicht!$B$7:$B$62))","v":""},null,{"$f":"IF(ISBLANK(H57),\" \",IF(LOOKUP(H57,MannschaftsNrListe,Mannschaften!B$4:B$53)<>0,LOOKUP(H57,MannschaftsNrListe,Mannschaften!B$4:B$53),\"\"))","v":" "},null,null,null,null,null,null,null,null,null,null,null,null,null,null,null,null,null,null,null,null,null,0,{"$f":"IF(NOT(ISBLANK(F57)),LOOKUP(F57,WKNrListe,Übersicht!E$7:E$77),0)","v":0},""]
[null,null,null,null,null,null,{"$f":"IF(ISERROR(MATCH(F58,WKNrListe_Einzel,0)),\"\",LOOKUP(F58,WKNrListe_Einzel,Übersicht!$B$7:$B$62))","v":""},null,{"$f":"IF(ISBLANK(H58),\" \",IF(LOOKUP(H58,MannschaftsNrListe,Mannschaften!B$4:B$53)<>0,LOOKUP(H58,MannschaftsNrListe,Mannschaften!B$4:B$53),\"\"))","v":" "},null,null,null,null,null,null,null,null,null,null,null,null,null,null,null,null,null,null,null,null,null,0,{"$f":"IF(NOT(ISBLANK(F58)),LOOKUP(F58,WKNrListe,Übersicht!E$7:E$77),0)","v":0},""]
[null,null,null,null,null,null,{"$f":"IF(ISERROR(MATCH(F59,WKNrListe_Einzel,0)),\"\",LOOKUP(F59,WKNrListe_Einzel,Übersicht!$B$7:$B$62))","v":""},null,{"$f":"IF(ISBLANK(H59),\" \",IF(LOOKUP(H59,MannschaftsNrListe,Mannschaften!B$4:B$53)<>0,LOOKUP(H59,MannschaftsNrListe,Mannschaften!B$4:B$53),\"\"))","v":" "},null,null,null,null,null,null,null,null,null,null,null,null,null,null,null,null,null,null,null,null,null,0,{"$f":"IF(NOT(ISBLANK(F59)),LOOKUP(F59,WKNrListe,Übersicht!E$7:E$77),0)","v":0},""]
[null,null,null,null,null,null,{"$f":"IF(ISERROR(MATCH(F60,WKNrListe_Einzel,0)),\"\",LOOKUP(F60,WKNrListe_Einzel,Übersicht!$B$7:$B$62))","v":""},null,{"$f":"IF(ISBLANK(H60),\" \",IF(LOOKUP(H60,MannschaftsNrListe,Mannschaften!B$4:B$53)<>0,LOOKUP(H60,MannschaftsNrListe,Mannschaften!B$4:B$53),\"\"))","v":" "},null,null,null,null,null,null,null,null,null,null,null,null,null,null,null,null,null,null,null,null,null,0,{"$f":"IF(NOT(ISBLANK(F60)),LOOKUP(F60,WKNrListe,Übersicht!E$7:E$77),0)","v":0},""]
[null,null,null,null,null,null,{"$f":"IF(ISERROR(MATCH(F61,WKNrListe_Einzel,0)),\"\",LOOKUP(F61,WKNrListe_Einzel,Übersicht!$B$7:$B$62))","v":""},null,{"$f":"IF(ISBLANK(H61),\" \",IF(LOOKUP(H61,MannschaftsNrListe,Mannschaften!B$4:B$53)<>0,LOOKUP(H61,MannschaftsNrListe,Mannschaften!B$4:B$53),\"\"))","v":" "},null,null,null,null,null,null,null,null,null,null,null,null,null,null,null,null,null,null,null,null,null,0,{"$f":"IF(NOT(ISBLANK(F61)),LOOKUP(F61,WKNrListe,Übersicht!E$7:E$77),0)","v":0},""]
[null,null,null,null,null,null,{"$f":"IF(ISERROR(MATCH(F62,WKNrListe_Einzel,0)),\"\",LOOKUP(F62,WKNrListe_Einzel,Übersicht!$B$7:$B$62))","v":""},null,{"$f":"IF(ISBLANK(H62),\" \",IF(LOOKUP(H62,MannschaftsNrListe,Mannschaften!B$4:B$53)<>0,LOOKUP(H62,MannschaftsNrListe,Mannschaften!B$4:B$53),\"\"))","v":" "},null,null,null,null,null,null,null,null,null,null,null,null,null,null,null,null,null,null,null,null,null,0,{"$f":"IF(NOT(ISBLANK(F62)),LOOKUP(F62,WKNrListe,Übersicht!E$7:E$77),0)","v":0},""]
[null,null,null,null,null,null,{"$f":"IF(ISERROR(MATCH(F63,WKNrListe_Einzel,0)),\"\",LOOKUP(F63,WKNrListe_Einzel,Übersicht!$B$7:$B$62))","v":""},null,{"$f":"IF(ISBLANK(H63),\" \",IF(LOOKUP(H63,MannschaftsNrListe,Mannschaften!B$4:B$53)<>0,LOOKUP(H63,MannschaftsNrListe,Mannschaften!B$4:B$53),\"\"))","v":" "},null,null,null,null,null,null,null,null,null,null,null,null,null,null,null,null,null,null,null,null,null,0,{"$f":"IF(NOT(ISBLANK(F63)),LOOKUP(F63,WKNrListe,Übersicht!E$7:E$77),0)","v":0},""]
[null,null,null,null,null,null,{"$f":"IF(ISERROR(MATCH(F64,WKNrListe_Einzel,0)),\"\",LOOKUP(F64,WKNrListe_Einzel,Übersicht!$B$7:$B$62))","v":""},null,{"$f":"IF(ISBLANK(H64),\" \",IF(LOOKUP(H64,MannschaftsNrListe,Mannschaften!B$4:B$53)<>0,LOOKUP(H64,MannschaftsNrListe,Mannschaften!B$4:B$53),\"\"))","v":" "},null,null,null,null,null,null,null,null,null,null,null,null,null,null,null,null,null,null,null,null,null,0,{"$f":"IF(NOT(ISBLANK(F64)),LOOKUP(F64,WKNrListe,Übersicht!E$7:E$77),0)","v":0},""]
[null,null,null,null,null,null,{"$f":"IF(ISERROR(MATCH(F65,WKNrListe_Einzel,0)),\"\",LOOKUP(F65,WKNrListe_Einzel,Übersicht!$B$7:$B$62))","v":""},null,{"$f":"IF(ISBLANK(H65),\" \",IF(LOOKUP(H65,MannschaftsNrListe,Mannschaften!B$4:B$53)<>0,LOOKUP(H65,MannschaftsNrListe,Mannschaften!B$4:B$53),\"\"))","v":" "},null,null,null,null,null,null,null,null,null,null,null,null,null,null,null,null,null,null,null,null,null,0,{"$f":"IF(NOT(ISBLANK(F65)),LOOKUP(F65,WKNrListe,Übersicht!E$7:E$77),0)","v":0},""]
[null,null,null,null,null,null,{"$f":"IF(ISERROR(MATCH(F66,WKNrListe_Einzel,0)),\"\",LOOKUP(F66,WKNrListe_Einzel,Übersicht!$B$7:$B$62))","v":""},null,{"$f":"IF(ISBLANK(H66),\" \",IF(LOOKUP(H66,MannschaftsNrListe,Mannschaften!B$4:B$53)<>0,LOOKUP(H66,MannschaftsNrListe,Mannschaften!B$4:B$53),\"\"))","v":" "},null,null,null,null,null,null,null,null,null,null,null,null,null,null,null,null,null,null,null,null,null,0,{"$f":"IF(NOT(ISBLANK(F66)),LOOKUP(F66,WKNrListe,Übersicht!E$7:E$77),0)","v":0},""]
[null,null,null,null,null,null,{"$f":"IF(ISERROR(MATCH(F67,WKNrListe_Einzel,0)),\"\",LOOKUP(F67,WKNrListe_Einzel,Übersicht!$B$7:$B$62))","v":""},null,{"$f":"IF(ISBLANK(H67),\" \",IF(LOOKUP(H67,MannschaftsNrListe,Mannschaften!B$4:B$53)<>0,LOOKUP(H67,MannschaftsNrListe,Mannschaften!B$4:B$53),\"\"))","v":" "},null,null,null,null,null,null,null,null,null,null,null,null,null,null,null,null,null,null,null,null,null,0,{"$f":"IF(NOT(ISBLANK(F67)),LOOKUP(F67,WKNrListe,Übersicht!E$7:E$77),0)","v":0},""]
[null,null,null,null,null,null,{"$f":"IF(ISERROR(MATCH(F68,WKNrListe_Einzel,0)),\"\",LOOKUP(F68,WKNrListe_Einzel,Übersicht!$B$7:$B$62))","v":""},null,{"$f":"IF(ISBLANK(H68),\" \",IF(LOOKUP(H68,MannschaftsNrListe,Mannschaften!B$4:B$53)<>0,LOOKUP(H68,MannschaftsNrListe,Mannschaften!B$4:B$53),\"\"))","v":" "},null,null,null,null,null,null,null,null,null,null,null,null,null,null,null,null,null,null,null,null,null,0,{"$f":"IF(NOT(ISBLANK(F68)),LOOKUP(F68,WKNrListe,Übersicht!E$7:E$77),0)","v":0},""]
[null,null,null,null,null,null,{"$f":"IF(ISERROR(MATCH(F69,WKNrListe_Einzel,0)),\"\",LOOKUP(F69,WKNrListe_Einzel,Übersicht!$B$7:$B$62))","v":""},null,{"$f":"IF(ISBLANK(H69),\" \",IF(LOOKUP(H69,MannschaftsNrListe,Mannschaften!B$4:B$53)<>0,LOOKUP(H69,MannschaftsNrListe,Mannschaften!B$4:B$53),\"\"))","v":" "},null,null,null,null,null,null,null,null,null,null,null,null,null,null,null,null,null,null,null,null,null,0,{"$f":"IF(NOT(ISBLANK(F69)),LOOKUP(F69,WKNrListe,Übersicht!E$7:E$77),0)","v":0},{"$f":"IF(\n AND(\n  OR(ISTEXT(A69), ISTEXT(B69), NOT(ISBLANK(E69)), NOT(ISBLANK(F69)), NOT(ISBLANK(H69))),\n  OR(ISBLANK(A69),ISBLANK(B69),AND(ISBLANK(E69),ISBLANK(F69),ISBLANK(H69)))\n ),\n \"unvollständig\",\n IF(\n  AND(\n   NOT(\n    ISBLANK(H69)\n    ),\n   NOT(ISNUMBER(I69))\n  ),\n  \"Seite Mannschaften ausfüllen!\",\n  IF(AF69>AE69,\"zu wenig Disziplinen gewählt\",IF(AE69>AF69,\"zu viele Disziplinen gewählt\",\"\"))\n )\n)","v":""}]
[null,null,null,null,null,null,{"$f":"IF(ISERROR(MATCH(F70,WKNrListe_Einzel,0)),\"\",LOOKUP(F70,WKNrListe_Einzel,Übersicht!$B$7:$B$62))","v":""},null,{"$f":"IF(ISBLANK(H70),\" \",IF(LOOKUP(H70,MannschaftsNrListe,Mannschaften!B$4:B$53)<>0,LOOKUP(H70,MannschaftsNrListe,Mannschaften!B$4:B$53),\"\"))","v":" "},null,null,null,null,null,null,null,null,null,null,null,null,null,null,null,null,null,null,null,null,null,{"$f":"COUNTIF(J70:AD70,\">''\")","v":0},{"$f":"IF(NOT(ISBLANK(F70)),LOOKUP(F70,WKNrListe,Übersicht!E$7:E$77),0)","v":0},""]
[null,null,null,null,null,null,{"$f":"IF(ISERROR(MATCH(F71,WKNrListe_Einzel,0)),\"\",LOOKUP(F71,WKNrListe_Einzel,Übersicht!$B$7:$B$62))","v":""},null,{"$f":"IF(ISBLANK(H71),\" \",IF(LOOKUP(H71,MannschaftsNrListe,Mannschaften!B$4:B$53)<>0,LOOKUP(H71,MannschaftsNrListe,Mannschaften!B$4:B$53),\"\"))","v":" "},null,null,null,null,null,null,null,null,null,null,null,null,null,null,null,null,null,null,null,null,null,0,{"$f":"IF(NOT(ISBLANK(F71)),LOOKUP(F71,WKNrListe,Übersicht!E$7:E$77),0)","v":0},""]
[null,null,null,null,null,null,{"$f":"IF(ISERROR(MATCH(F72,WKNrListe_Einzel,0)),\"\",LOOKUP(F72,WKNrListe_Einzel,Übersicht!$B$7:$B$62))","v":""},null,{"$f":"IF(ISBLANK(H72),\" \",IF(LOOKUP(H72,MannschaftsNrListe,Mannschaften!B$4:B$53)<>0,LOOKUP(H72,MannschaftsNrListe,Mannschaften!B$4:B$53),\"\"))","v":" "},null,null,null,null,null,null,null,null,null,null,null,null,null,null,null,null,null,null,null,null,null,0,{"$f":"IF(NOT(ISBLANK(F72)),LOOKUP(F72,WKNrListe,Übersicht!E$7:E$77),0)","v":0},""]
[null,null,null,null,null,null,{"$f":"IF(ISERROR(MATCH(F73,WKNrListe_Einzel,0)),\"\",LOOKUP(F73,WKNrListe_Einzel,Übersicht!$B$7:$B$62))","v":""},null,{"$f":"IF(ISBLANK(H73),\" \",IF(LOOKUP(H73,MannschaftsNrListe,Mannschaften!B$4:B$53)<>0,LOOKUP(H73,MannschaftsNrListe,Mannschaften!B$4:B$53),\"\"))","v":" "},null,null,null,null,null,null,null,null,null,null,null,null,null,null,null,null,null,null,null,null,null,0,{"$f":"IF(NOT(ISBLANK(F73)),LOOKUP(F73,WKNrListe,Übersicht!E$7:E$77),0)","v":0},""]
[null,null,null,null,null,null,{"$f":"IF(ISERROR(MATCH(F74,WKNrListe_Einzel,0)),\"\",LOOKUP(F74,WKNrListe_Einzel,Übersicht!$B$7:$B$62))","v":""},null,{"$f":"IF(ISBLANK(H74),\" \",IF(LOOKUP(H74,MannschaftsNrListe,Mannschaften!B$4:B$53)<>0,LOOKUP(H74,MannschaftsNrListe,Mannschaften!B$4:B$53),\"\"))","v":" "},null,null,null,null,null,null,null,null,null,null,null,null,null,null,null,null,null,null,null,null,null,0,{"$f":"IF(NOT(ISBLANK(F74)),LOOKUP(F74,WKNrListe,Übersicht!E$7:E$77),0)","v":0},""]
[null,null,null,null,null,null,{"$f":"IF(ISERROR(MATCH(F75,WKNrListe_Einzel,0)),\"\",LOOKUP(F75,WKNrListe_Einzel,Übersicht!$B$7:$B$62))","v":""},null,{"$f":"IF(ISBLANK(H75),\" \",IF(LOOKUP(H75,MannschaftsNrListe,Mannschaften!B$4:B$53)<>0,LOOKUP(H75,MannschaftsNrListe,Mannschaften!B$4:B$53),\"\"))","v":" "},null,null,null,null,null,null,null,null,null,null,null,null,null,null,null,null,null,null,null,null,null,0,{"$f":"IF(NOT(ISBLANK(F75)),LOOKUP(F75,WKNrListe,Übersicht!E$7:E$77),0)","v":0},""]
[null,null,null,null,null,null,{"$f":"IF(ISERROR(MATCH(F76,WKNrListe_Einzel,0)),\"\",LOOKUP(F76,WKNrListe_Einzel,Übersicht!$B$7:$B$62))","v":""},null,{"$f":"IF(ISBLANK(H76),\" \",IF(LOOKUP(H76,MannschaftsNrListe,Mannschaften!B$4:B$53)<>0,LOOKUP(H76,MannschaftsNrListe,Mannschaften!B$4:B$53),\"\"))","v":" "},null,null,null,null,null,null,null,null,null,null,null,null,null,null,null,null,null,null,null,null,null,0,{"$f":"IF(NOT(ISBLANK(F76)),LOOKUP(F76,WKNrListe,Übersicht!E$7:E$77),0)","v":0},""]
[null,null,null,null,null,null,{"$f":"IF(ISERROR(MATCH(F77,WKNrListe_Einzel,0)),\"\",LOOKUP(F77,WKNrListe_Einzel,Übersicht!$B$7:$B$62))","v":""},null,{"$f":"IF(ISBLANK(H77),\" \",IF(LOOKUP(H77,MannschaftsNrListe,Mannschaften!B$4:B$53)<>0,LOOKUP(H77,MannschaftsNrListe,Mannschaften!B$4:B$53),\"\"))","v":" "},null,null,null,null,null,null,null,null,null,null,null,null,null,null,null,null,null,null,null,null,null,0,{"$f":"IF(NOT(ISBLANK(F77)),LOOKUP(F77,WKNrListe,Übersicht!E$7:E$77),0)","v":0},""]
[null,null,null,null,null,null,{"$f":"IF(ISERROR(MATCH(F78,WKNrListe_Einzel,0)),\"\",LOOKUP(F78,WKNrListe_Einzel,Übersicht!$B$7:$B$62))","v":""},null,{"$f":"IF(ISBLANK(H78),\" \",IF(LOOKUP(H78,MannschaftsNrListe,Mannschaften!B$4:B$53)<>0,LOOKUP(H78,MannschaftsNrListe,Mannschaften!B$4:B$53),\"\"))","v":" "},null,null,null,null,null,null,null,null,null,null,null,null,null,null,null,null,null,null,null,null,null,0,{"$f":"IF(NOT(ISBLANK(F78)),LOOKUP(F78,WKNrListe,Übersicht!E$7:E$77),0)","v":0},""]
[null,null,null,null,null,null,{"$f":"IF(ISERROR(MATCH(F79,WKNrListe_Einzel,0)),\"\",LOOKUP(F79,WKNrListe_Einzel,Übersicht!$B$7:$B$62))","v":""},null,{"$f":"IF(ISBLANK(H79),\" \",IF(LOOKUP(H79,MannschaftsNrListe,Mannschaften!B$4:B$53)<>0,LOOKUP(H79,MannschaftsNrListe,Mannschaften!B$4:B$53),\"\"))","v":" "},null,null,null,null,null,null,null,null,null,null,null,null,null,null,null,null,null,null,null,null,null,0,{"$f":"IF(NOT(ISBLANK(F79)),LOOKUP(F79,WKNrListe,Übersicht!E$7:E$77),0)","v":0},""]
[null,null,null,null,null,null,{"$f":"IF(ISERROR(MATCH(F80,WKNrListe_Einzel,0)),\"\",LOOKUP(F80,WKNrListe_Einzel,Übersicht!$B$7:$B$62))","v":""},null,{"$f":"IF(ISBLANK(H80),\" \",IF(LOOKUP(H80,MannschaftsNrListe,Mannschaften!B$4:B$53)<>0,LOOKUP(H80,MannschaftsNrListe,Mannschaften!B$4:B$53),\"\"))","v":" "},null,null,null,null,null,null,null,null,null,null,null,null,null,null,null,null,null,null,null,null,null,0,{"$f":"IF(NOT(ISBLANK(F80)),LOOKUP(F80,WKNrListe,Übersicht!E$7:E$77),0)","v":0},""]
[null,null,null,null,null,null,{"$f":"IF(ISERROR(MATCH(F81,WKNrListe_Einzel,0)),\"\",LOOKUP(F81,WKNrListe_Einzel,Übersicht!$B$7:$B$62))","v":""},null,{"$f":"IF(ISBLANK(H81),\" \",IF(LOOKUP(H81,MannschaftsNrListe,Mannschaften!B$4:B$53)<>0,LOOKUP(H81,MannschaftsNrListe,Mannschaften!B$4:B$53),\"\"))","v":" "},null,null,null,null,null,null,null,null,null,null,null,null,null,null,null,null,null,null,null,null,null,0,{"$f":"IF(NOT(ISBLANK(F81)),LOOKUP(F81,WKNrListe,Übersicht!E$7:E$77),0)","v":0},""]
[null,null,null,null,null,null,{"$f":"IF(ISERROR(MATCH(F82,WKNrListe_Einzel,0)),\"\",LOOKUP(F82,WKNrListe_Einzel,Übersicht!$B$7:$B$62))","v":""},null,{"$f":"IF(ISBLANK(H82),\" \",IF(LOOKUP(H82,MannschaftsNrListe,Mannschaften!B$4:B$53)<>0,LOOKUP(H82,MannschaftsNrListe,Mannschaften!B$4:B$53),\"\"))","v":" "},null,null,null,null,null,null,null,null,null,null,null,null,null,null,null,null,null,null,null,null,null,0,{"$f":"IF(NOT(ISBLANK(F82)),LOOKUP(F82,WKNrListe,Übersicht!E$7:E$77),0)","v":0},""]
[null,null,null,null,null,null,{"$f":"IF(ISERROR(MATCH(F83,WKNrListe_Einzel,0)),\"\",LOOKUP(F83,WKNrListe_Einzel,Übersicht!$B$7:$B$62))","v":""},null,{"$f":"IF(ISBLANK(H83),\" \",IF(LOOKUP(H83,MannschaftsNrListe,Mannschaften!B$4:B$53)<>0,LOOKUP(H83,MannschaftsNrListe,Mannschaften!B$4:B$53),\"\"))","v":" "},null,null,null,null,null,null,null,null,null,null,null,null,null,null,null,null,null,null,null,null,null,0,{"$f":"IF(NOT(ISBLANK(F83)),LOOKUP(F83,WKNrListe,Übersicht!E$7:E$77),0)","v":0},""]
[null,null,null,null,null,null,{"$f":"IF(ISERROR(MATCH(F84,WKNrListe_Einzel,0)),\"\",LOOKUP(F84,WKNrListe_Einzel,Übersicht!$B$7:$B$62))","v":""},null,{"$f":"IF(ISBLANK(H84),\" \",IF(LOOKUP(H84,MannschaftsNrListe,Mannschaften!B$4:B$53)<>0,LOOKUP(H84,MannschaftsNrListe,Mannschaften!B$4:B$53),\"\"))","v":" "},null,null,null,null,null,null,null,null,null,null,null,null,null,null,null,null,null,null,null,null,null,0,{"$f":"IF(NOT(ISBLANK(F84)),LOOKUP(F84,WKNrListe,Übersicht!E$7:E$77),0)","v":0},""]
[null,null,null,null,null,null,{"$f":"IF(ISERROR(MATCH(F85,WKNrListe_Einzel,0)),\"\",LOOKUP(F85,WKNrListe_Einzel,Übersicht!$B$7:$B$62))","v":""},null,{"$f":"IF(ISBLANK(H85),\" \",IF(LOOKUP(H85,MannschaftsNrListe,Mannschaften!B$4:B$53)<>0,LOOKUP(H85,MannschaftsNrListe,Mannschaften!B$4:B$53),\"\"))","v":" "},null,null,null,null,null,null,null,null,null,null,null,null,null,null,null,null,null,null,null,null,null,0,{"$f":"IF(NOT(ISBLANK(F85)),LOOKUP(F85,WKNrListe,Übersicht!E$7:E$77),0)","v":0},""]
[null,null,null,null,null,null,{"$f":"IF(ISERROR(MATCH(F86,WKNrListe_Einzel,0)),\"\",LOOKUP(F86,WKNrListe_Einzel,Übersicht!$B$7:$B$62))","v":""},null,{"$f":"IF(ISBLANK(H86),\" \",IF(LOOKUP(H86,MannschaftsNrListe,Mannschaften!B$4:B$53)<>0,LOOKUP(H86,MannschaftsNrListe,Mannschaften!B$4:B$53),\"\"))","v":" "},null,null,null,null,null,null,null,null,null,null,null,null,null,null,null,null,null,null,null,null,null,0,{"$f":"IF(NOT(ISBLANK(F86)),LOOKUP(F86,WKNrListe,Übersicht!E$7:E$77),0)","v":0},""]
[null,null,null,null,null,null,{"$f":"IF(ISERROR(MATCH(F87,WKNrListe_Einzel,0)),\"\",LOOKUP(F87,WKNrListe_Einzel,Übersicht!$B$7:$B$62))","v":""},null,{"$f":"IF(ISBLANK(H87),\" \",IF(LOOKUP(H87,MannschaftsNrListe,Mannschaften!B$4:B$53)<>0,LOOKUP(H87,MannschaftsNrListe,Mannschaften!B$4:B$53),\"\"))","v":" "},null,null,null,null,null,null,null,null,null,null,null,null,null,null,null,null,null,null,null,null,null,0,{"$f":"IF(NOT(ISBLANK(F87)),LOOKUP(F87,WKNrListe,Übersicht!E$7:E$77),0)","v":0},""]
[null,null,null,null,null,null,{"$f":"IF(ISERROR(MATCH(F88,WKNrListe_Einzel,0)),\"\",LOOKUP(F88,WKNrListe_Einzel,Übersicht!$B$7:$B$62))","v":""},null,{"$f":"IF(ISBLANK(H88),\" \",IF(LOOKUP(H88,MannschaftsNrListe,Mannschaften!B$4:B$53)<>0,LOOKUP(H88,MannschaftsNrListe,Mannschaften!B$4:B$53),\"\"))","v":" "},null,null,null,null,null,null,null,null,null,null,null,null,null,null,null,null,null,null,null,null,null,0,{"$f":"IF(NOT(ISBLANK(F88)),LOOKUP(F88,WKNrListe,Übersicht!E$7:E$77),0)","v":0},""]
[null,null,null,null,null,null,{"$f":"IF(ISERROR(MATCH(F89,WKNrListe_Einzel,0)),\"\",LOOKUP(F89,WKNrListe_Einzel,Übersicht!$B$7:$B$62))","v":""},null,{"$f":"IF(ISBLANK(H89),\" \",IF(LOOKUP(H89,MannschaftsNrListe,Mannschaften!B$4:B$53)<>0,LOOKUP(H89,MannschaftsNrListe,Mannschaften!B$4:B$53),\"\"))","v":" "},null,null,null,null,null,null,null,null,null,null,null,null,null,null,null,null,null,null,null,null,null,0,{"$f":"IF(NOT(ISBLANK(F89)),LOOKUP(F89,WKNrListe,Übersicht!E$7:E$77),0)","v":0},""]
[null,null,null,null,null,null,{"$f":"IF(ISERROR(MATCH(F90,WKNrListe_Einzel,0)),\"\",LOOKUP(F90,WKNrListe_Einzel,Übersicht!$B$7:$B$62))","v":""},null,{"$f":"IF(ISBLANK(H90),\" \",IF(LOOKUP(H90,MannschaftsNrListe,Mannschaften!B$4:B$53)<>0,LOOKUP(H90,MannschaftsNrListe,Mannschaften!B$4:B$53),\"\"))","v":" "},null,null,null,null,null,null,null,null,null,null,null,null,null,null,null,null,null,null,null,null,null,0,{"$f":"IF(NOT(ISBLANK(F90)),LOOKUP(F90,WKNrListe,Übersicht!E$7:E$77),0)","v":0},""]
[null,null,null,null,null,null,{"$f":"IF(ISERROR(MATCH(F91,WKNrListe_Einzel,0)),\"\",LOOKUP(F91,WKNrListe_Einzel,Übersicht!$B$7:$B$62))","v":""},null,{"$f":"IF(ISBLANK(H91),\" \",IF(LOOKUP(H91,MannschaftsNrListe,Mannschaften!B$4:B$53)<>0,LOOKUP(H91,MannschaftsNrListe,Mannschaften!B$4:B$53),\"\"))","v":" "},null,null,null,null,null,null,null,null,null,null,null,null,null,null,null,null,null,null,null,null,null,0,{"$f":"IF(NOT(ISBLANK(F91)),LOOKUP(F91,WKNrListe,Übersicht!E$7:E$77),0)","v":0},""]
[null,null,null,null,null,null,{"$f":"IF(ISERROR(MATCH(F92,WKNrListe_Einzel,0)),\"\",LOOKUP(F92,WKNrListe_Einzel,Übersicht!$B$7:$B$62))","v":""},null,{"$f":"IF(ISBLANK(H92),\" \",IF(LOOKUP(H92,MannschaftsNrListe,Mannschaften!B$4:B$53)<>0,LOOKUP(H92,MannschaftsNrListe,Mannschaften!B$4:B$53),\"\"))","v":" "},null,null,null,null,null,null,null,null,null,null,null,null,null,null,null,null,null,null,null,null,null,0,{"$f":"IF(NOT(ISBLANK(F92)),LOOKUP(F92,WKNrListe,Übersicht!E$7:E$77),0)","v":0},""]
[null,null,null,null,null,null,{"$f":"IF(ISERROR(MATCH(F93,WKNrListe_Einzel,0)),\"\",LOOKUP(F93,WKNrListe_Einzel,Übersicht!$B$7:$B$62))","v":""},null,{"$f":"IF(ISBLANK(H93),\" \",IF(LOOKUP(H93,MannschaftsNrListe,Mannschaften!B$4:B$53)<>0,LOOKUP(H93,MannschaftsNrListe,Mannschaften!B$4:B$53),\"\"))","v":" "},null,null,null,null,null,null,null,null,null,null,null,null,null,null,null,null,null,null,null,null,null,0,{"$f":"IF(NOT(ISBLANK(F93)),LOOKUP(F93,WKNrListe,Übersicht!E$7:E$77),0)","v":0},""]
[null,null,null,null,null,null,{"$f":"IF(ISERROR(MATCH(F94,WKNrListe_Einzel,0)),\"\",LOOKUP(F94,WKNrListe_Einzel,Übersicht!$B$7:$B$62))","v":""},null,{"$f":"IF(ISBLANK(H94),\" \",IF(LOOKUP(H94,MannschaftsNrListe,Mannschaften!B$4:B$53)<>0,LOOKUP(H94,MannschaftsNrListe,Mannschaften!B$4:B$53),\"\"))","v":" "},null,null,null,null,null,null,null,null,null,null,null,null,null,null,null,null,null,null,null,null,null,0,{"$f":"IF(NOT(ISBLANK(F94)),LOOKUP(F94,WKNrListe,Übersicht!E$7:E$77),0)","v":0},""]
[null,null,null,null,null,null,{"$f":"IF(ISERROR(MATCH(F95,WKNrListe_Einzel,0)),\"\",LOOKUP(F95,WKNrListe_Einzel,Übersicht!$B$7:$B$62))","v":""},null,{"$f":"IF(ISBLANK(H95),\" \",IF(LOOKUP(H95,MannschaftsNrListe,Mannschaften!B$4:B$53)<>0,LOOKUP(H95,MannschaftsNrListe,Mannschaften!B$4:B$53),\"\"))","v":" "},null,null,null,null,null,null,null,null,null,null,null,null,null,null,null,null,null,null,null,null,null,0,{"$f":"IF(NOT(ISBLANK(F95)),LOOKUP(F95,WKNrListe,Übersicht!E$7:E$77),0)","v":0},""]
[null,null,null,null,null,null,{"$f":"IF(ISERROR(MATCH(F96,WKNrListe_Einzel,0)),\"\",LOOKUP(F96,WKNrListe_Einzel,Übersicht!$B$7:$B$62))","v":""},null,{"$f":"IF(ISBLANK(H96),\" \",IF(LOOKUP(H96,MannschaftsNrListe,Mannschaften!B$4:B$53)<>0,LOOKUP(H96,MannschaftsNrListe,Mannschaften!B$4:B$53),\"\"))","v":" "},null,null,null,null,null,null,null,null,null,null,null,null,null,null,null,null,null,null,null,null,null,0,{"$f":"IF(NOT(ISBLANK(F96)),LOOKUP(F96,WKNrListe,Übersicht!E$7:E$77),0)","v":0},""]
[null,null,null,null,null,null,{"$f":"IF(ISERROR(MATCH(F97,WKNrListe_Einzel,0)),\"\",LOOKUP(F97,WKNrListe_Einzel,Übersicht!$B$7:$B$62))","v":""},null,{"$f":"IF(ISBLANK(H97),\" \",IF(LOOKUP(H97,MannschaftsNrListe,Mannschaften!B$4:B$53)<>0,LOOKUP(H97,MannschaftsNrListe,Mannschaften!B$4:B$53),\"\"))","v":" "},null,null,null,null,null,null,null,null,null,null,null,null,null,null,null,null,null,null,null,null,null,0,{"$f":"IF(NOT(ISBLANK(F97)),LOOKUP(F97,WKNrListe,Übersicht!E$7:E$77),0)","v":0},""]
[null,null,null,null,null,null,{"$f":"IF(ISERROR(MATCH(F98,WKNrListe_Einzel,0)),\"\",LOOKUP(F98,WKNrListe_Einzel,Übersicht!$B$7:$B$62))","v":""},null,{"$f":"IF(ISBLANK(H98),\" \",IF(LOOKUP(H98,MannschaftsNrListe,Mannschaften!B$4:B$53)<>0,LOOKUP(H98,MannschaftsNrListe,Mannschaften!B$4:B$53),\"\"))","v":" "},null,null,null,null,null,null,null,null,null,null,null,null,null,null,null,null,null,null,null,null,null,0,{"$f":"IF(NOT(ISBLANK(F98)),LOOKUP(F98,WKNrListe,Übersicht!E$7:E$77),0)","v":0},""]
[null,null,null,null,null,null,{"$f":"IF(ISERROR(MATCH(F99,WKNrListe_Einzel,0)),\"\",LOOKUP(F99,WKNrListe_Einzel,Übersicht!$B$7:$B$62))","v":""},null,{"$f":"IF(ISBLANK(H99),\" \",IF(LOOKUP(H99,MannschaftsNrListe,Mannschaften!B$4:B$53)<>0,LOOKUP(H99,MannschaftsNrListe,Mannschaften!B$4:B$53),\"\"))","v":" "},null,null,null,null,null,null,null,null,null,null,null,null,null,null,null,null,null,null,null,null,null,0,{"$f":"IF(NOT(ISBLANK(F99)),LOOKUP(F99,WKNrListe,Übersicht!E$7:E$77),0)","v":0},""]
[null,null,null,null,null,null,{"$f":"IF(ISERROR(MATCH(F100,WKNrListe_Einzel,0)),\"\",LOOKUP(F100,WKNrListe_Einzel,Übersicht!$B$7:$B$62))","v":""},null,{"$f":"IF(ISBLANK(H100),\" \",IF(LOOKUP(H100,MannschaftsNrListe,Mannschaften!B$4:B$53)<>0,LOOKUP(H100,MannschaftsNrListe,Mannschaften!B$4:B$53),\"\"))","v":" "},null,null,null,null,null,null,null,null,null,null,null,null,null,null,null,null,null,null,null,null,null,0,{"$f":"IF(NOT(ISBLANK(F100)),LOOKUP(F100,WKNrListe,Übersicht!E$7:E$77),0)","v":0},""]
[null,null,null,null,null,null,{"$f":"IF(ISERROR(MATCH(F101,WKNrListe_Einzel,0)),\"\",LOOKUP(F101,WKNrListe_Einzel,Übersicht!$B$7:$B$62))","v":""},null,{"$f":"IF(ISBLANK(H101),\" \",IF(LOOKUP(H101,MannschaftsNrListe,Mannschaften!B$4:B$53)<>0,LOOKUP(H101,MannschaftsNrListe,Mannschaften!B$4:B$53),\"\"))","v":" "},null,null,null,null,null,null,null,null,null,null,null,null,null,null,null,null,null,null,null,null,null,0,{"$f":"IF(NOT(ISBLANK(F101)),LOOKUP(F101,WKNrListe,Übersicht!E$7:E$77),0)","v":0},""]
[null,null,null,null,null,null,{"$f":"IF(ISERROR(MATCH(F102,WKNrListe_Einzel,0)),\"\",LOOKUP(F102,WKNrListe_Einzel,Übersicht!$B$7:$B$62))","v":""},null,{"$f":"IF(ISBLANK(H102),\" \",IF(LOOKUP(H102,MannschaftsNrListe,Mannschaften!B$4:B$53)<>0,LOOKUP(H102,MannschaftsNrListe,Mannschaften!B$4:B$53),\"\"))","v":" "},null,null,null,null,null,null,null,null,null,null,null,null,null,null,null,null,null,null,null,null,null,0,{"$f":"IF(NOT(ISBLANK(F102)),LOOKUP(F102,WKNrListe,Übersicht!E$7:E$77),0)","v":0},""]
[null,null,null,null,null,null,{"$f":"IF(ISERROR(MATCH(F103,WKNrListe_Einzel,0)),\"\",LOOKUP(F103,WKNrListe_Einzel,Übersicht!$B$7:$B$62))","v":""},null,{"$f":"IF(ISBLANK(H103),\" \",IF(LOOKUP(H103,MannschaftsNrListe,Mannschaften!B$4:B$53)<>0,LOOKUP(H103,MannschaftsNrListe,Mannschaften!B$4:B$53),\"\"))","v":" "},null,null,null,null,null,null,null,null,null,null,null,null,null,null,null,null,null,null,null,null,null,0,{"$f":"IF(NOT(ISBLANK(F103)),LOOKUP(F103,WKNrListe,Übersicht!E$7:E$77),0)","v":0},""]
[null,null,null,null,null,null,{"$f":"IF(ISERROR(MATCH(F104,WKNrListe_Einzel,0)),\"\",LOOKUP(F104,WKNrListe_Einzel,Übersicht!$B$7:$B$62))","v":""},null,{"$f":"IF(ISBLANK(H104),\" \",IF(LOOKUP(H104,MannschaftsNrListe,Mannschaften!B$4:B$53)<>0,LOOKUP(H104,MannschaftsNrListe,Mannschaften!B$4:B$53),\"\"))","v":" "},null,null,null,null,null,null,null,null,null,null,null,null,null,null,null,null,null,null,null,null,null,0,{"$f":"IF(NOT(ISBLANK(F104)),LOOKUP(F104,WKNrListe,Übersicht!E$7:E$77),0)","v":0},""]
[null,null,null,null,null,null,{"$f":"IF(ISERROR(MATCH(F105,WKNrListe_Einzel,0)),\"\",LOOKUP(F105,WKNrListe_Einzel,Übersicht!$B$7:$B$62))","v":""},null,{"$f":"IF(ISBLANK(H105),\" \",IF(LOOKUP(H105,MannschaftsNrListe,Mannschaften!B$4:B$53)<>0,LOOKUP(H105,MannschaftsNrListe,Mannschaften!B$4:B$53),\"\"))","v":" "},null,null,null,null,null,null,null,null,null,null,null,null,null,null,null,null,null,null,null,null,null,0,{"$f":"IF(NOT(ISBLANK(F105)),LOOKUP(F105,WKNrListe,Übersicht!E$7:E$77),0)","v":0},""]
[null,null,null,null,null,null,{"$f":"IF(ISERROR(MATCH(F106,WKNrListe_Einzel,0)),\"\",LOOKUP(F106,WKNrListe_Einzel,Übersicht!$B$7:$B$62))","v":""},null,{"$f":"IF(ISBLANK(H106),\" \",IF(LOOKUP(H106,MannschaftsNrListe,Mannschaften!B$4:B$53)<>0,LOOKUP(H106,MannschaftsNrListe,Mannschaften!B$4:B$53),\"\"))","v":" "},null,null,null,null,null,null,null,null,null,null,null,null,null,null,null,null,null,null,null,null,null,0,{"$f":"IF(NOT(ISBLANK(F106)),LOOKUP(F106,WKNrListe,Übersicht!E$7:E$77),0)","v":0},""]
[null,null,null,null,null,null,{"$f":"IF(ISERROR(MATCH(F107,WKNrListe_Einzel,0)),\"\",LOOKUP(F107,WKNrListe_Einzel,Übersicht!$B$7:$B$62))","v":""},null,{"$f":"IF(ISBLANK(H107),\" \",IF(LOOKUP(H107,MannschaftsNrListe,Mannschaften!B$4:B$53)<>0,LOOKUP(H107,MannschaftsNrListe,Mannschaften!B$4:B$53),\"\"))","v":" "},null,null,null,null,null,null,null,null,null,null,null,null,null,null,null,null,null,null,null,null,null,0,{"$f":"IF(NOT(ISBLANK(F107)),LOOKUP(F107,WKNrListe,Übersicht!E$7:E$77),0)","v":0},""]
[null,null,null,null,null,null,{"$f":"IF(ISERROR(MATCH(F108,WKNrListe_Einzel,0)),\"\",LOOKUP(F108,WKNrListe_Einzel,Übersicht!$B$7:$B$62))","v":""},null,{"$f":"IF(ISBLANK(H108),\" \",IF(LOOKUP(H108,MannschaftsNrListe,Mannschaften!B$4:B$53)<>0,LOOKUP(H108,MannschaftsNrListe,Mannschaften!B$4:B$53),\"\"))","v":" "},null,null,null,null,null,null,null,null,null,null,null,null,null,null,null,null,null,null,null,null,null,0,{"$f":"IF(NOT(ISBLANK(F108)),LOOKUP(F108,WKNrListe,Übersicht!E$7:E$77),0)","v":0},""]
[null,null,null,null,null,null,{"$f":"IF(ISERROR(MATCH(F109,WKNrListe_Einzel,0)),\"\",LOOKUP(F109,WKNrListe_Einzel,Übersicht!$B$7:$B$62))","v":""},null,{"$f":"IF(ISBLANK(H109),\" \",IF(LOOKUP(H109,MannschaftsNrListe,Mannschaften!B$4:B$53)<>0,LOOKUP(H109,MannschaftsNrListe,Mannschaften!B$4:B$53),\"\"))","v":" "},null,null,null,null,null,null,null,null,null,null,null,null,null,null,null,null,null,null,null,null,null,0,{"$f":"IF(NOT(ISBLANK(F109)),LOOKUP(F109,WKNrListe,Übersicht!E$7:E$77),0)","v":0},""]
[null,null,null,null,null,null,{"$f":"IF(ISERROR(MATCH(F110,WKNrListe_Einzel,0)),\"\",LOOKUP(F110,WKNrListe_Einzel,Übersicht!$B$7:$B$62))","v":""},null,{"$f":"IF(ISBLANK(H110),\" \",IF(LOOKUP(H110,MannschaftsNrListe,Mannschaften!B$4:B$53)<>0,LOOKUP(H110,MannschaftsNrListe,Mannschaften!B$4:B$53),\"\"))","v":" "},null,null,null,null,null,null,null,null,null,null,null,null,null,null,null,null,null,null,null,null,null,0,{"$f":"IF(NOT(ISBLANK(F110)),LOOKUP(F110,WKNrListe,Übersicht!E$7:E$77),0)","v":0},""]
[null,null,null,null,null,null,{"$f":"IF(ISERROR(MATCH(F111,WKNrListe_Einzel,0)),\"\",LOOKUP(F111,WKNrListe_Einzel,Übersicht!$B$7:$B$62))","v":""},null,{"$f":"IF(ISBLANK(H111),\" \",IF(LOOKUP(H111,MannschaftsNrListe,Mannschaften!B$4:B$53)<>0,LOOKUP(H111,MannschaftsNrListe,Mannschaften!B$4:B$53),\"\"))","v":" "},null,null,null,null,null,null,null,null,null,null,null,null,null,null,null,null,null,null,null,null,null,0,{"$f":"IF(NOT(ISBLANK(F111)),LOOKUP(F111,WKNrListe,Übersicht!E$7:E$77),0)","v":0},""]
[null,null,null,null,null,null,{"$f":"IF(ISERROR(MATCH(F112,WKNrListe_Einzel,0)),\"\",LOOKUP(F112,WKNrListe_Einzel,Übersicht!$B$7:$B$62))","v":""},null,{"$f":"IF(ISBLANK(H112),\" \",IF(LOOKUP(H112,MannschaftsNrListe,Mannschaften!B$4:B$53)<>0,LOOKUP(H112,MannschaftsNrListe,Mannschaften!B$4:B$53),\"\"))","v":" "},null,null,null,null,null,null,null,null,null,null,null,null,null,null,null,null,null,null,null,null,null,0,{"$f":"IF(NOT(ISBLANK(F112)),LOOKUP(F112,WKNrListe,Übersicht!E$7:E$77),0)","v":0},""]
[null,null,null,null,null,null,{"$f":"IF(ISERROR(MATCH(F113,WKNrListe_Einzel,0)),\"\",LOOKUP(F113,WKNrListe_Einzel,Übersicht!$B$7:$B$62))","v":""},null,{"$f":"IF(ISBLANK(H113),\" \",IF(LOOKUP(H113,MannschaftsNrListe,Mannschaften!B$4:B$53)<>0,LOOKUP(H113,MannschaftsNrListe,Mannschaften!B$4:B$53),\"\"))","v":" "},null,null,null,null,null,null,null,null,null,null,null,null,null,null,null,null,null,null,null,null,null,0,{"$f":"IF(NOT(ISBLANK(F113)),LOOKUP(F113,WKNrListe,Übersicht!E$7:E$77),0)","v":0},""]
[null,null,null,null,null,null,{"$f":"IF(ISERROR(MATCH(F114,WKNrListe_Einzel,0)),\"\",LOOKUP(F114,WKNrListe_Einzel,Übersicht!$B$7:$B$62))","v":""},null,{"$f":"IF(ISBLANK(H114),\" \",IF(LOOKUP(H114,MannschaftsNrListe,Mannschaften!B$4:B$53)<>0,LOOKUP(H114,MannschaftsNrListe,Mannschaften!B$4:B$53),\"\"))","v":" "},null,null,null,null,null,null,null,null,null,null,null,null,null,null,null,null,null,null,null,null,null,0,{"$f":"IF(NOT(ISBLANK(F114)),LOOKUP(F114,WKNrListe,Übersicht!E$7:E$77),0)","v":0},""]
[null,null,null,null,null,null,{"$f":"IF(ISERROR(MATCH(F115,WKNrListe_Einzel,0)),\"\",LOOKUP(F115,WKNrListe_Einzel,Übersicht!$B$7:$B$62))","v":""},null,{"$f":"IF(ISBLANK(H115),\" \",IF(LOOKUP(H115,MannschaftsNrListe,Mannschaften!B$4:B$53)<>0,LOOKUP(H115,MannschaftsNrListe,Mannschaften!B$4:B$53),\"\"))","v":" "},null,null,null,null,null,null,null,null,null,null,null,null,null,null,null,null,null,null,null,null,null,0,{"$f":"IF(NOT(ISBLANK(F115)),LOOKUP(F115,WKNrListe,Übersicht!E$7:E$77),0)","v":0},""]
[null,null,null,null,null,null,{"$f":"IF(ISERROR(MATCH(F116,WKNrListe_Einzel,0)),\"\",LOOKUP(F116,WKNrListe_Einzel,Übersicht!$B$7:$B$62))","v":""},null,{"$f":"IF(ISBLANK(H116),\" \",IF(LOOKUP(H116,MannschaftsNrListe,Mannschaften!B$4:B$53)<>0,LOOKUP(H116,MannschaftsNrListe,Mannschaften!B$4:B$53),\"\"))","v":" "},null,null,null,null,null,null,null,null,null,null,null,null,null,null,null,null,null,null,null,null,null,0,{"$f":"IF(NOT(ISBLANK(F116)),LOOKUP(F116,WKNrListe,Übersicht!E$7:E$77),0)","v":0},""]
[null,null,null,null,null,null,{"$f":"IF(ISERROR(MATCH(F117,WKNrListe_Einzel,0)),\"\",LOOKUP(F117,WKNrListe_Einzel,Übersicht!$B$7:$B$62))","v":""},null,{"$f":"IF(ISBLANK(H117),\" \",IF(LOOKUP(H117,MannschaftsNrListe,Mannschaften!B$4:B$53)<>0,LOOKUP(H117,MannschaftsNrListe,Mannschaften!B$4:B$53),\"\"))","v":" "},null,null,null,null,null,null,null,null,null,null,null,null,null,null,null,null,null,null,null,null,null,0,{"$f":"IF(NOT(ISBLANK(F117)),LOOKUP(F117,WKNrListe,Übersicht!E$7:E$77),0)","v":0},""]
[null,null,null,null,null,null,{"$f":"IF(ISERROR(MATCH(F118,WKNrListe_Einzel,0)),\"\",LOOKUP(F118,WKNrListe_Einzel,Übersicht!$B$7:$B$62))","v":""},null,{"$f":"IF(ISBLANK(H118),\" \",IF(LOOKUP(H118,MannschaftsNrListe,Mannschaften!B$4:B$53)<>0,LOOKUP(H118,MannschaftsNrListe,Mannschaften!B$4:B$53),\"\"))","v":" "},null,null,null,null,null,null,null,null,null,null,null,null,null,null,null,null,null,null,null,null,null,0,{"$f":"IF(NOT(ISBLANK(F118)),LOOKUP(F118,WKNrListe,Übersicht!E$7:E$77),0)","v":0},""]
[null,null,null,null,null,null,{"$f":"IF(ISERROR(MATCH(F119,WKNrListe_Einzel,0)),\"\",LOOKUP(F119,WKNrListe_Einzel,Übersicht!$B$7:$B$62))","v":""},null,{"$f":"IF(ISBLANK(H119),\" \",IF(LOOKUP(H119,MannschaftsNrListe,Mannschaften!B$4:B$53)<>0,LOOKUP(H119,MannschaftsNrListe,Mannschaften!B$4:B$53),\"\"))","v":" "},null,null,null,null,null,null,null,null,null,null,null,null,null,null,null,null,null,null,null,null,null,0,{"$f":"IF(NOT(ISBLANK(F119)),LOOKUP(F119,WKNrListe,Übersicht!E$7:E$77),0)","v":0},""]
[null,null,null,null,null,null,{"$f":"IF(ISERROR(MATCH(F120,WKNrListe_Einzel,0)),\"\",LOOKUP(F120,WKNrListe_Einzel,Übersicht!$B$7:$B$62))","v":""},null,{"$f":"IF(ISBLANK(H120),\" \",IF(LOOKUP(H120,MannschaftsNrListe,Mannschaften!B$4:B$53)<>0,LOOKUP(H120,MannschaftsNrListe,Mannschaften!B$4:B$53),\"\"))","v":" "},null,null,null,null,null,null,null,null,null,null,null,null,null,null,null,null,null,null,null,null,null,0,{"$f":"IF(NOT(ISBLANK(F120)),LOOKUP(F120,WKNrListe,Übersicht!E$7:E$77),0)","v":0},""]
[null,null,null,null,null,null,{"$f":"IF(ISERROR(MATCH(F121,WKNrListe_Einzel,0)),\"\",LOOKUP(F121,WKNrListe_Einzel,Übersicht!$B$7:$B$62))","v":""},null,{"$f":"IF(ISBLANK(H121),\" \",IF(LOOKUP(H121,MannschaftsNrListe,Mannschaften!B$4:B$53)<>0,LOOKUP(H121,MannschaftsNrListe,Mannschaften!B$4:B$53),\"\"))","v":" "},null,null,null,null,null,null,null,null,null,null,null,null,null,null,null,null,null,null,null,null,null,0,{"$f":"IF(NOT(ISBLANK(F121)),LOOKUP(F121,WKNrListe,Übersicht!E$7:E$77),0)","v":0},""]
[null,null,null,null,null,null,{"$f":"IF(ISERROR(MATCH(F122,WKNrListe_Einzel,0)),\"\",LOOKUP(F122,WKNrListe_Einzel,Übersicht!$B$7:$B$62))","v":""},null,{"$f":"IF(ISBLANK(H122),\" \",IF(LOOKUP(H122,MannschaftsNrListe,Mannschaften!B$4:B$53)<>0,LOOKUP(H122,MannschaftsNrListe,Mannschaften!B$4:B$53),\"\"))","v":" "},null,null,null,null,null,null,null,null,null,null,null,null,null,null,null,null,null,null,null,null,null,0,{"$f":"IF(NOT(ISBLANK(F122)),LOOKUP(F122,WKNrListe,Übersicht!E$7:E$77),0)","v":0},""]
[null,null,null,null,null,null,{"$f":"IF(ISERROR(MATCH(F123,WKNrListe_Einzel,0)),\"\",LOOKUP(F123,WKNrListe_Einzel,Übersicht!$B$7:$B$62))","v":""},null,{"$f":"IF(ISBLANK(H123),\" \",IF(LOOKUP(H123,MannschaftsNrListe,Mannschaften!B$4:B$53)<>0,LOOKUP(H123,MannschaftsNrListe,Mannschaften!B$4:B$53),\"\"))","v":" "},null,null,null,null,null,null,null,null,null,null,null,null,null,null,null,null,null,null,null,null,null,0,{"$f":"IF(NOT(ISBLANK(F123)),LOOKUP(F123,WKNrListe,Übersicht!E$7:E$77),0)","v":0},""]
[null,null,null,null,null,null,{"$f":"IF(ISERROR(MATCH(F124,WKNrListe_Einzel,0)),\"\",LOOKUP(F124,WKNrListe_Einzel,Übersicht!$B$7:$B$62))","v":""},null,{"$f":"IF(ISBLANK(H124),\" \",IF(LOOKUP(H124,MannschaftsNrListe,Mannschaften!B$4:B$53)<>0,LOOKUP(H124,MannschaftsNrListe,Mannschaften!B$4:B$53),\"\"))","v":" "},null,null,null,null,null,null,null,null,null,null,null,null,null,null,null,null,null,null,null,null,null,0,{"$f":"IF(NOT(ISBLANK(F124)),LOOKUP(F124,WKNrListe,Übersicht!E$7:E$77),0)","v":0},""]
[null,null,null,null,null,null,{"$f":"IF(ISERROR(MATCH(F125,WKNrListe_Einzel,0)),\"\",LOOKUP(F125,WKNrListe_Einzel,Übersicht!$B$7:$B$62))","v":""},null,{"$f":"IF(ISBLANK(H125),\" \",IF(LOOKUP(H125,MannschaftsNrListe,Mannschaften!B$4:B$53)<>0,LOOKUP(H125,MannschaftsNrListe,Mannschaften!B$4:B$53),\"\"))","v":" "},null,null,null,null,null,null,null,null,null,null,null,null,null,null,null,null,null,null,null,null,null,0,{"$f":"IF(NOT(ISBLANK(F125)),LOOKUP(F125,WKNrListe,Übersicht!E$7:E$77),0)","v":0},""]
[null,null,null,null,null,null,{"$f":"IF(ISERROR(MATCH(F126,WKNrListe_Einzel,0)),\"\",LOOKUP(F126,WKNrListe_Einzel,Übersicht!$B$7:$B$62))","v":""},null,{"$f":"IF(ISBLANK(H126),\" \",IF(LOOKUP(H126,MannschaftsNrListe,Mannschaften!B$4:B$53)<>0,LOOKUP(H126,MannschaftsNrListe,Mannschaften!B$4:B$53),\"\"))","v":" "},null,null,null,null,null,null,null,null,null,null,null,null,null,null,null,null,null,null,null,null,null,0,{"$f":"IF(NOT(ISBLANK(F126)),LOOKUP(F126,WKNrListe,Übersicht!E$7:E$77),0)","v":0},""]
[null,null,null,null,null,null,{"$f":"IF(ISERROR(MATCH(F127,WKNrListe_Einzel,0)),\"\",LOOKUP(F127,WKNrListe_Einzel,Übersicht!$B$7:$B$62))","v":""},null,{"$f":"IF(ISBLANK(H127),\" \",IF(LOOKUP(H127,MannschaftsNrListe,Mannschaften!B$4:B$53)<>0,LOOKUP(H127,MannschaftsNrListe,Mannschaften!B$4:B$53),\"\"))","v":" "},null,null,null,null,null,null,null,null,null,null,null,null,null,null,null,null,null,null,null,null,null,0,{"$f":"IF(NOT(ISBLANK(F127)),LOOKUP(F127,WKNrListe,Übersicht!E$7:E$77),0)","v":0},""]
[null,null,null,null,null,null,{"$f":"IF(ISERROR(MATCH(F128,WKNrListe_Einzel,0)),\"\",LOOKUP(F128,WKNrListe_Einzel,Übersicht!$B$7:$B$62))","v":""},null,{"$f":"IF(ISBLANK(H128),\" \",IF(LOOKUP(H128,MannschaftsNrListe,Mannschaften!B$4:B$53)<>0,LOOKUP(H128,MannschaftsNrListe,Mannschaften!B$4:B$53),\"\"))","v":" "},null,null,null,null,null,null,null,null,null,null,null,null,null,null,null,null,null,null,null,null,null,0,{"$f":"IF(NOT(ISBLANK(F128)),LOOKUP(F128,WKNrListe,Übersicht!E$7:E$77),0)","v":0},""]
[null,null,null,null,null,null,{"$f":"IF(ISERROR(MATCH(F129,WKNrListe_Einzel,0)),\"\",LOOKUP(F129,WKNrListe_Einzel,Übersicht!$B$7:$B$62))","v":""},null,{"$f":"IF(ISBLANK(H129),\" \",IF(LOOKUP(H129,MannschaftsNrListe,Mannschaften!B$4:B$53)<>0,LOOKUP(H129,MannschaftsNrListe,Mannschaften!B$4:B$53),\"\"))","v":" "},null,null,null,null,null,null,null,null,null,null,null,null,null,null,null,null,null,null,null,null,null,0,{"$f":"IF(NOT(ISBLANK(F129)),LOOKUP(F129,WKNrListe,Übersicht!E$7:E$77),0)","v":0},""]
[null,null,null,null,null,null,{"$f":"IF(ISERROR(MATCH(F130,WKNrListe_Einzel,0)),\"\",LOOKUP(F130,WKNrListe_Einzel,Übersicht!$B$7:$B$62))","v":""},null,{"$f":"IF(ISBLANK(H130),\" \",IF(LOOKUP(H130,MannschaftsNrListe,Mannschaften!B$4:B$53)<>0,LOOKUP(H130,MannschaftsNrListe,Mannschaften!B$4:B$53),\"\"))","v":" "},null,null,null,null,null,null,null,null,null,null,null,null,null,null,null,null,null,null,null,null,null,0,{"$f":"IF(NOT(ISBLANK(F130)),LOOKUP(F130,WKNrListe,Übersicht!E$7:E$77),0)","v":0},""]
[null,null,null,null,null,null,{"$f":"IF(ISERROR(MATCH(F131,WKNrListe_Einzel,0)),\"\",LOOKUP(F131,WKNrListe_Einzel,Übersicht!$B$7:$B$62))","v":""},null,{"$f":"IF(ISBLANK(H131),\" \",IF(LOOKUP(H131,MannschaftsNrListe,Mannschaften!B$4:B$53)<>0,LOOKUP(H131,MannschaftsNrListe,Mannschaften!B$4:B$53),\"\"))","v":" "},null,null,null,null,null,null,null,null,null,null,null,null,null,null,null,null,null,null,null,null,null,0,{"$f":"IF(NOT(ISBLANK(F131)),LOOKUP(F131,WKNrListe,Übersicht!E$7:E$77),0)","v":0},""]
[null,null,null,null,null,null,{"$f":"IF(ISERROR(MATCH(F132,WKNrListe_Einzel,0)),\"\",LOOKUP(F132,WKNrListe_Einzel,Übersicht!$B$7:$B$62))","v":""},null,{"$f":"IF(ISBLANK(H132),\" \",IF(LOOKUP(H132,MannschaftsNrListe,Mannschaften!B$4:B$53)<>0,LOOKUP(H132,MannschaftsNrListe,Mannschaften!B$4:B$53),\"\"))","v":" "},null,null,null,null,null,null,null,null,null,null,null,null,null,null,null,null,null,null,null,null,null,0,{"$f":"IF(NOT(ISBLANK(F132)),LOOKUP(F132,WKNrListe,Übersicht!E$7:E$77),0)","v":0},""]
[null,null,null,null,null,null,{"$f":"IF(ISERROR(MATCH(F133,WKNrListe_Einzel,0)),\"\",LOOKUP(F133,WKNrListe_Einzel,Übersicht!$B$7:$B$62))","v":""},null,{"$f":"IF(ISBLANK(H133),\" \",IF(LOOKUP(H133,MannschaftsNrListe,Mannschaften!B$4:B$53)<>0,LOOKUP(H133,MannschaftsNrListe,Mannschaften!B$4:B$53),\"\"))","v":" "},null,null,null,null,null,null,null,null,null,null,null,null,null,null,null,null,null,null,null,null,null,0,{"$f":"IF(NOT(ISBLANK(F133)),LOOKUP(F133,WKNrListe,Übersicht!E$7:E$77),0)","v":0},{"$f":"IF(\n AND(\n  OR(ISTEXT(A133), ISTEXT(B133), NOT(ISBLANK(E133)), NOT(ISBLANK(F133)), NOT(ISBLANK(H133))),\n  OR(ISBLANK(A133),ISBLANK(B133),AND(ISBLANK(E133),ISBLANK(F133),ISBLANK(H133)))\n ),\n \"unvollständig\",\n IF(\n  AND(\n   NOT(\n    ISBLANK(H133)\n    ),\n   NOT(ISNUMBER(I133))\n  ),\n  \"Seite Mannschaften ausfüllen!\",\n  IF(AF133>AE133,\"zu wenig Disziplinen gewählt\",IF(AE133>AF133,\"zu viele Disziplinen gewählt\",\"\"))\n )\n)","v":""}]
[null,null,null,null,null,null,{"$f":"IF(ISERROR(MATCH(F134,WKNrListe_Einzel,0)),\"\",LOOKUP(F134,WKNrListe_Einzel,Übersicht!$B$7:$B$62))","v":""},null,{"$f":"IF(ISBLANK(H134),\" \",IF(LOOKUP(H134,MannschaftsNrListe,Mannschaften!B$4:B$53)<>0,LOOKUP(H134,MannschaftsNrListe,Mannschaften!B$4:B$53),\"\"))","v":" "},null,null,null,null,null,null,null,null,null,null,null,null,null,null,null,null,null,null,null,null,null,{"$f":"COUNTIF(J134:AD134,\">''\")","v":0},{"$f":"IF(NOT(ISBLANK(F134)),LOOKUP(F134,WKNrListe,Übersicht!E$7:E$77),0)","v":0},""]
[null,null,null,null,null,null,{"$f":"IF(ISERROR(MATCH(F135,WKNrListe_Einzel,0)),\"\",LOOKUP(F135,WKNrListe_Einzel,Übersicht!$B$7:$B$62))","v":""},null,{"$f":"IF(ISBLANK(H135),\" \",IF(LOOKUP(H135,MannschaftsNrListe,Mannschaften!B$4:B$53)<>0,LOOKUP(H135,MannschaftsNrListe,Mannschaften!B$4:B$53),\"\"))","v":" "},null,null,null,null,null,null,null,null,null,null,null,null,null,null,null,null,null,null,null,null,null,0,{"$f":"IF(NOT(ISBLANK(F135)),LOOKUP(F135,WKNrListe,Übersicht!E$7:E$77),0)","v":0},""]
[null,null,null,null,null,null,{"$f":"IF(ISERROR(MATCH(F136,WKNrListe_Einzel,0)),\"\",LOOKUP(F136,WKNrListe_Einzel,Übersicht!$B$7:$B$62))","v":""},null,{"$f":"IF(ISBLANK(H136),\" \",IF(LOOKUP(H136,MannschaftsNrListe,Mannschaften!B$4:B$53)<>0,LOOKUP(H136,MannschaftsNrListe,Mannschaften!B$4:B$53),\"\"))","v":" "},null,null,null,null,null,null,null,null,null,null,null,null,null,null,null,null,null,null,null,null,null,0,{"$f":"IF(NOT(ISBLANK(F136)),LOOKUP(F136,WKNrListe,Übersicht!E$7:E$77),0)","v":0},""]
[null,null,null,null,null,null,{"$f":"IF(ISERROR(MATCH(F137,WKNrListe_Einzel,0)),\"\",LOOKUP(F137,WKNrListe_Einzel,Übersicht!$B$7:$B$62))","v":""},null,{"$f":"IF(ISBLANK(H137),\" \",IF(LOOKUP(H137,MannschaftsNrListe,Mannschaften!B$4:B$53)<>0,LOOKUP(H137,MannschaftsNrListe,Mannschaften!B$4:B$53),\"\"))","v":" "},null,null,null,null,null,null,null,null,null,null,null,null,null,null,null,null,null,null,null,null,null,0,{"$f":"IF(NOT(ISBLANK(F137)),LOOKUP(F137,WKNrListe,Übersicht!E$7:E$77),0)","v":0},""]
[null,null,null,null,null,null,{"$f":"IF(ISERROR(MATCH(F138,WKNrListe_Einzel,0)),\"\",LOOKUP(F138,WKNrListe_Einzel,Übersicht!$B$7:$B$62))","v":""},null,{"$f":"IF(ISBLANK(H138),\" \",IF(LOOKUP(H138,MannschaftsNrListe,Mannschaften!B$4:B$53)<>0,LOOKUP(H138,MannschaftsNrListe,Mannschaften!B$4:B$53),\"\"))","v":" "},null,null,null,null,null,null,null,null,null,null,null,null,null,null,null,null,null,null,null,null,null,0,{"$f":"IF(NOT(ISBLANK(F138)),LOOKUP(F138,WKNrListe,Übersicht!E$7:E$77),0)","v":0},""]
[null,null,null,null,null,null,{"$f":"IF(ISERROR(MATCH(F139,WKNrListe_Einzel,0)),\"\",LOOKUP(F139,WKNrListe_Einzel,Übersicht!$B$7:$B$62))","v":""},null,{"$f":"IF(ISBLANK(H139),\" \",IF(LOOKUP(H139,MannschaftsNrListe,Mannschaften!B$4:B$53)<>0,LOOKUP(H139,MannschaftsNrListe,Mannschaften!B$4:B$53),\"\"))","v":" "},null,null,null,null,null,null,null,null,null,null,null,null,null,null,null,null,null,null,null,null,null,0,{"$f":"IF(NOT(ISBLANK(F139)),LOOKUP(F139,WKNrListe,Übersicht!E$7:E$77),0)","v":0},""]
[null,null,null,null,null,null,{"$f":"IF(ISERROR(MATCH(F140,WKNrListe_Einzel,0)),\"\",LOOKUP(F140,WKNrListe_Einzel,Übersicht!$B$7:$B$62))","v":""},null,{"$f":"IF(ISBLANK(H140),\" \",IF(LOOKUP(H140,MannschaftsNrListe,Mannschaften!B$4:B$53)<>0,LOOKUP(H140,MannschaftsNrListe,Mannschaften!B$4:B$53),\"\"))","v":" "},null,null,null,null,null,null,null,null,null,null,null,null,null,null,null,null,null,null,null,null,null,0,{"$f":"IF(NOT(ISBLANK(F140)),LOOKUP(F140,WKNrListe,Übersicht!E$7:E$77),0)","v":0},""]
[null,null,null,null,null,null,{"$f":"IF(ISERROR(MATCH(F141,WKNrListe_Einzel,0)),\"\",LOOKUP(F141,WKNrListe_Einzel,Übersicht!$B$7:$B$62))","v":""},null,{"$f":"IF(ISBLANK(H141),\" \",IF(LOOKUP(H141,MannschaftsNrListe,Mannschaften!B$4:B$53)<>0,LOOKUP(H141,MannschaftsNrListe,Mannschaften!B$4:B$53),\"\"))","v":" "},null,null,null,null,null,null,null,null,null,null,null,null,null,null,null,null,null,null,null,null,null,0,{"$f":"IF(NOT(ISBLANK(F141)),LOOKUP(F141,WKNrListe,Übersicht!E$7:E$77),0)","v":0},""]
[null,null,null,null,null,null,{"$f":"IF(ISERROR(MATCH(F142,WKNrListe_Einzel,0)),\"\",LOOKUP(F142,WKNrListe_Einzel,Übersicht!$B$7:$B$62))","v":""},null,{"$f":"IF(ISBLANK(H142),\" \",IF(LOOKUP(H142,MannschaftsNrListe,Mannschaften!B$4:B$53)<>0,LOOKUP(H142,MannschaftsNrListe,Mannschaften!B$4:B$53),\"\"))","v":" "},null,null,null,null,null,null,null,null,null,null,null,null,null,null,null,null,null,null,null,null,null,0,{"$f":"IF(NOT(ISBLANK(F142)),LOOKUP(F142,WKNrListe,Übersicht!E$7:E$77),0)","v":0},""]
[null,null,null,null,null,null,{"$f":"IF(ISERROR(MATCH(F143,WKNrListe_Einzel,0)),\"\",LOOKUP(F143,WKNrListe_Einzel,Übersicht!$B$7:$B$62))","v":""},null,{"$f":"IF(ISBLANK(H143),\" \",IF(LOOKUP(H143,MannschaftsNrListe,Mannschaften!B$4:B$53)<>0,LOOKUP(H143,MannschaftsNrListe,Mannschaften!B$4:B$53),\"\"))","v":" "},null,null,null,null,null,null,null,null,null,null,null,null,null,null,null,null,null,null,null,null,null,0,{"$f":"IF(NOT(ISBLANK(F143)),LOOKUP(F143,WKNrListe,Übersicht!E$7:E$77),0)","v":0},""]
[null,null,null,null,null,null,{"$f":"IF(ISERROR(MATCH(F144,WKNrListe_Einzel,0)),\"\",LOOKUP(F144,WKNrListe_Einzel,Übersicht!$B$7:$B$62))","v":""},null,{"$f":"IF(ISBLANK(H144),\" \",IF(LOOKUP(H144,MannschaftsNrListe,Mannschaften!B$4:B$53)<>0,LOOKUP(H144,MannschaftsNrListe,Mannschaften!B$4:B$53),\"\"))","v":" "},null,null,null,null,null,null,null,null,null,null,null,null,null,null,null,null,null,null,null,null,null,0,{"$f":"IF(NOT(ISBLANK(F144)),LOOKUP(F144,WKNrListe,Übersicht!E$7:E$77),0)","v":0},""]
[null,null,null,null,null,null,{"$f":"IF(ISERROR(MATCH(F145,WKNrListe_Einzel,0)),\"\",LOOKUP(F145,WKNrListe_Einzel,Übersicht!$B$7:$B$62))","v":""},null,{"$f":"IF(ISBLANK(H145),\" \",IF(LOOKUP(H145,MannschaftsNrListe,Mannschaften!B$4:B$53)<>0,LOOKUP(H145,MannschaftsNrListe,Mannschaften!B$4:B$53),\"\"))","v":" "},null,null,null,null,null,null,null,null,null,null,null,null,null,null,null,null,null,null,null,null,null,0,{"$f":"IF(NOT(ISBLANK(F145)),LOOKUP(F145,WKNrListe,Übersicht!E$7:E$77),0)","v":0},""]
[null,null,null,null,null,null,{"$f":"IF(ISERROR(MATCH(F146,WKNrListe_Einzel,0)),\"\",LOOKUP(F146,WKNrListe_Einzel,Übersicht!$B$7:$B$62))","v":""},null,{"$f":"IF(ISBLANK(H146),\" \",IF(LOOKUP(H146,MannschaftsNrListe,Mannschaften!B$4:B$53)<>0,LOOKUP(H146,MannschaftsNrListe,Mannschaften!B$4:B$53),\"\"))","v":" "},null,null,null,null,null,null,null,null,null,null,null,null,null,null,null,null,null,null,null,null,null,0,{"$f":"IF(NOT(ISBLANK(F146)),LOOKUP(F146,WKNrListe,Übersicht!E$7:E$77),0)","v":0},""]
[null,null,null,null,null,null,{"$f":"IF(ISERROR(MATCH(F147,WKNrListe_Einzel,0)),\"\",LOOKUP(F147,WKNrListe_Einzel,Übersicht!$B$7:$B$62))","v":""},null,{"$f":"IF(ISBLANK(H147),\" \",IF(LOOKUP(H147,MannschaftsNrListe,Mannschaften!B$4:B$53)<>0,LOOKUP(H147,MannschaftsNrListe,Mannschaften!B$4:B$53),\"\"))","v":" "},null,null,null,null,null,null,null,null,null,null,null,null,null,null,null,null,null,null,null,null,null,0,{"$f":"IF(NOT(ISBLANK(F147)),LOOKUP(F147,WKNrListe,Übersicht!E$7:E$77),0)","v":0},""]
[null,null,null,null,null,null,{"$f":"IF(ISERROR(MATCH(F148,WKNrListe_Einzel,0)),\"\",LOOKUP(F148,WKNrListe_Einzel,Übersicht!$B$7:$B$62))","v":""},null,{"$f":"IF(ISBLANK(H148),\" \",IF(LOOKUP(H148,MannschaftsNrListe,Mannschaften!B$4:B$53)<>0,LOOKUP(H148,MannschaftsNrListe,Mannschaften!B$4:B$53),\"\"))","v":" "},null,null,null,null,null,null,null,null,null,null,null,null,null,null,null,null,null,null,null,null,null,0,{"$f":"IF(NOT(ISBLANK(F148)),LOOKUP(F148,WKNrListe,Übersicht!E$7:E$77),0)","v":0},""]
[null,null,null,null,null,null,{"$f":"IF(ISERROR(MATCH(F149,WKNrListe_Einzel,0)),\"\",LOOKUP(F149,WKNrListe_Einzel,Übersicht!$B$7:$B$62))","v":""},null,{"$f":"IF(ISBLANK(H149),\" \",IF(LOOKUP(H149,MannschaftsNrListe,Mannschaften!B$4:B$53)<>0,LOOKUP(H149,MannschaftsNrListe,Mannschaften!B$4:B$53),\"\"))","v":" "},null,null,null,null,null,null,null,null,null,null,null,null,null,null,null,null,null,null,null,null,null,0,{"$f":"IF(NOT(ISBLANK(F149)),LOOKUP(F149,WKNrListe,Übersicht!E$7:E$77),0)","v":0},""]
[null,null,null,null,null,null,{"$f":"IF(ISERROR(MATCH(F150,WKNrListe_Einzel,0)),\"\",LOOKUP(F150,WKNrListe_Einzel,Übersicht!$B$7:$B$62))","v":""},null,{"$f":"IF(ISBLANK(H150),\" \",IF(LOOKUP(H150,MannschaftsNrListe,Mannschaften!B$4:B$53)<>0,LOOKUP(H150,MannschaftsNrListe,Mannschaften!B$4:B$53),\"\"))","v":" "},null,null,null,null,null,null,null,null,null,null,null,null,null,null,null,null,null,null,null,null,null,0,{"$f":"IF(NOT(ISBLANK(F150)),LOOKUP(F150,WKNrListe,Übersicht!E$7:E$77),0)","v":0},""]
[null,null,null,null,null,null,{"$f":"IF(ISERROR(MATCH(F151,WKNrListe_Einzel,0)),\"\",LOOKUP(F151,WKNrListe_Einzel,Übersicht!$B$7:$B$62))","v":""},null,{"$f":"IF(ISBLANK(H151),\" \",IF(LOOKUP(H151,MannschaftsNrListe,Mannschaften!B$4:B$53)<>0,LOOKUP(H151,MannschaftsNrListe,Mannschaften!B$4:B$53),\"\"))","v":" "},null,null,null,null,null,null,null,null,null,null,null,null,null,null,null,null,null,null,null,null,null,0,{"$f":"IF(NOT(ISBLANK(F151)),LOOKUP(F151,WKNrListe,Übersicht!E$7:E$77),0)","v":0},""]
[null,null,null,null,null,null,{"$f":"IF(ISERROR(MATCH(F152,WKNrListe_Einzel,0)),\"\",LOOKUP(F152,WKNrListe_Einzel,Übersicht!$B$7:$B$62))","v":""},null,{"$f":"IF(ISBLANK(H152),\" \",IF(LOOKUP(H152,MannschaftsNrListe,Mannschaften!B$4:B$53)<>0,LOOKUP(H152,MannschaftsNrListe,Mannschaften!B$4:B$53),\"\"))","v":" "},null,null,null,null,null,null,null,null,null,null,null,null,null,null,null,null,null,null,null,null,null,0,{"$f":"IF(NOT(ISBLANK(F152)),LOOKUP(F152,WKNrListe,Übersicht!E$7:E$77),0)","v":0},""]
[null,null,null,null,null,null,{"$f":"IF(ISERROR(MATCH(F153,WKNrListe_Einzel,0)),\"\",LOOKUP(F153,WKNrListe_Einzel,Übersicht!$B$7:$B$62))","v":""},null,{"$f":"IF(ISBLANK(H153),\" \",IF(LOOKUP(H153,MannschaftsNrListe,Mannschaften!B$4:B$53)<>0,LOOKUP(H153,MannschaftsNrListe,Mannschaften!B$4:B$53),\"\"))","v":" "},null,null,null,null,null,null,null,null,null,null,null,null,null,null,null,null,null,null,null,null,null,0,{"$f":"IF(NOT(ISBLANK(F153)),LOOKUP(F153,WKNrListe,Übersicht!E$7:E$77),0)","v":0},""]
[null,null,null,null,null,null,{"$f":"IF(ISERROR(MATCH(F154,WKNrListe_Einzel,0)),\"\",LOOKUP(F154,WKNrListe_Einzel,Übersicht!$B$7:$B$62))","v":""},null,{"$f":"IF(ISBLANK(H154),\" \",IF(LOOKUP(H154,MannschaftsNrListe,Mannschaften!B$4:B$53)<>0,LOOKUP(H154,MannschaftsNrListe,Mannschaften!B$4:B$53),\"\"))","v":" "},null,null,null,null,null,null,null,null,null,null,null,null,null,null,null,null,null,null,null,null,null,0,{"$f":"IF(NOT(ISBLANK(F154)),LOOKUP(F154,WKNrListe,Übersicht!E$7:E$77),0)","v":0},""]
[null,null,null,null,null,null,{"$f":"IF(ISERROR(MATCH(F155,WKNrListe_Einzel,0)),\"\",LOOKUP(F155,WKNrListe_Einzel,Übersicht!$B$7:$B$62))","v":""},null,{"$f":"IF(ISBLANK(H155),\" \",IF(LOOKUP(H155,MannschaftsNrListe,Mannschaften!B$4:B$53)<>0,LOOKUP(H155,MannschaftsNrListe,Mannschaften!B$4:B$53),\"\"))","v":" "},null,null,null,null,null,null,null,null,null,null,null,null,null,null,null,null,null,null,null,null,null,0,{"$f":"IF(NOT(ISBLANK(F155)),LOOKUP(F155,WKNrListe,Übersicht!E$7:E$77),0)","v":0},""]
[null,null,null,null,null,null,{"$f":"IF(ISERROR(MATCH(F156,WKNrListe_Einzel,0)),\"\",LOOKUP(F156,WKNrListe_Einzel,Übersicht!$B$7:$B$62))","v":""},null,{"$f":"IF(ISBLANK(H156),\" \",IF(LOOKUP(H156,MannschaftsNrListe,Mannschaften!B$4:B$53)<>0,LOOKUP(H156,MannschaftsNrListe,Mannschaften!B$4:B$53),\"\"))","v":" "},null,null,null,null,null,null,null,null,null,null,null,null,null,null,null,null,null,null,null,null,null,0,{"$f":"IF(NOT(ISBLANK(F156)),LOOKUP(F156,WKNrListe,Übersicht!E$7:E$77),0)","v":0},""]
[null,null,null,null,null,null,{"$f":"IF(ISERROR(MATCH(F157,WKNrListe_Einzel,0)),\"\",LOOKUP(F157,WKNrListe_Einzel,Übersicht!$B$7:$B$62))","v":""},null,{"$f":"IF(ISBLANK(H157),\" \",IF(LOOKUP(H157,MannschaftsNrListe,Mannschaften!B$4:B$53)<>0,LOOKUP(H157,MannschaftsNrListe,Mannschaften!B$4:B$53),\"\"))","v":" "},null,null,null,null,null,null,null,null,null,null,null,null,null,null,null,null,null,null,null,null,null,0,{"$f":"IF(NOT(ISBLANK(F157)),LOOKUP(F157,WKNrListe,Übersicht!E$7:E$77),0)","v":0},""]
[null,null,null,null,null,null,{"$f":"IF(ISERROR(MATCH(F158,WKNrListe_Einzel,0)),\"\",LOOKUP(F158,WKNrListe_Einzel,Übersicht!$B$7:$B$62))","v":""},null,{"$f":"IF(ISBLANK(H158),\" \",IF(LOOKUP(H158,MannschaftsNrListe,Mannschaften!B$4:B$53)<>0,LOOKUP(H158,MannschaftsNrListe,Mannschaften!B$4:B$53),\"\"))","v":" "},null,null,null,null,null,null,null,null,null,null,null,null,null,null,null,null,null,null,null,null,null,0,{"$f":"IF(NOT(ISBLANK(F158)),LOOKUP(F158,WKNrListe,Übersicht!E$7:E$77),0)","v":0},""]
[null,null,null,null,null,null,{"$f":"IF(ISERROR(MATCH(F159,WKNrListe_Einzel,0)),\"\",LOOKUP(F159,WKNrListe_Einzel,Übersicht!$B$7:$B$62))","v":""},null,{"$f":"IF(ISBLANK(H159),\" \",IF(LOOKUP(H159,MannschaftsNrListe,Mannschaften!B$4:B$53)<>0,LOOKUP(H159,MannschaftsNrListe,Mannschaften!B$4:B$53),\"\"))","v":" "},null,null,null,null,null,null,null,null,null,null,null,null,null,null,null,null,null,null,null,null,null,0,{"$f":"IF(NOT(ISBLANK(F159)),LOOKUP(F159,WKNrListe,Übersicht!E$7:E$77),0)","v":0},""]
[null,null,null,null,null,null,{"$f":"IF(ISERROR(MATCH(F160,WKNrListe_Einzel,0)),\"\",LOOKUP(F160,WKNrListe_Einzel,Übersicht!$B$7:$B$62))","v":""},null,{"$f":"IF(ISBLANK(H160),\" \",IF(LOOKUP(H160,MannschaftsNrListe,Mannschaften!B$4:B$53)<>0,LOOKUP(H160,MannschaftsNrListe,Mannschaften!B$4:B$53),\"\"))","v":" "},null,null,null,null,null,null,null,null,null,null,null,null,null,null,null,null,null,null,null,null,null,0,{"$f":"IF(NOT(ISBLANK(F160)),LOOKUP(F160,WKNrListe,Übersicht!E$7:E$77),0)","v":0},""]
[null,null,null,null,null,null,{"$f":"IF(ISERROR(MATCH(F161,WKNrListe_Einzel,0)),\"\",LOOKUP(F161,WKNrListe_Einzel,Übersicht!$B$7:$B$62))","v":""},null,{"$f":"IF(ISBLANK(H161),\" \",IF(LOOKUP(H161,MannschaftsNrListe,Mannschaften!B$4:B$53)<>0,LOOKUP(H161,MannschaftsNrListe,Mannschaften!B$4:B$53),\"\"))","v":" "},null,null,null,null,null,null,null,null,null,null,null,null,null,null,null,null,null,null,null,null,null,0,{"$f":"IF(NOT(ISBLANK(F161)),LOOKUP(F161,WKNrListe,Übersicht!E$7:E$77),0)","v":0},""]
[null,null,null,null,null,null,{"$f":"IF(ISERROR(MATCH(F162,WKNrListe_Einzel,0)),\"\",LOOKUP(F162,WKNrListe_Einzel,Übersicht!$B$7:$B$62))","v":""},null,{"$f":"IF(ISBLANK(H162),\" \",IF(LOOKUP(H162,MannschaftsNrListe,Mannschaften!B$4:B$53)<>0,LOOKUP(H162,MannschaftsNrListe,Mannschaften!B$4:B$53),\"\"))","v":" "},null,null,null,null,null,null,null,null,null,null,null,null,null,null,null,null,null,null,null,null,null,0,{"$f":"IF(NOT(ISBLANK(F162)),LOOKUP(F162,WKNrListe,Übersicht!E$7:E$77),0)","v":0},""]
[null,null,null,null,null,null,{"$f":"IF(ISERROR(MATCH(F163,WKNrListe_Einzel,0)),\"\",LOOKUP(F163,WKNrListe_Einzel,Übersicht!$B$7:$B$62))","v":""},null,{"$f":"IF(ISBLANK(H163),\" \",IF(LOOKUP(H163,MannschaftsNrListe,Mannschaften!B$4:B$53)<>0,LOOKUP(H163,MannschaftsNrListe,Mannschaften!B$4:B$53),\"\"))","v":" "},null,null,null,null,null,null,null,null,null,null,null,null,null,null,null,null,null,null,null,null,null,0,{"$f":"IF(NOT(ISBLANK(F163)),LOOKUP(F163,WKNrListe,Übersicht!E$7:E$77),0)","v":0},""]
[null,null,null,null,null,null,{"$f":"IF(ISERROR(MATCH(F164,WKNrListe_Einzel,0)),\"\",LOOKUP(F164,WKNrListe_Einzel,Übersicht!$B$7:$B$62))","v":""},null,{"$f":"IF(ISBLANK(H164),\" \",IF(LOOKUP(H164,MannschaftsNrListe,Mannschaften!B$4:B$53)<>0,LOOKUP(H164,MannschaftsNrListe,Mannschaften!B$4:B$53),\"\"))","v":" "},null,null,null,null,null,null,null,null,null,null,null,null,null,null,null,null,null,null,null,null,null,0,{"$f":"IF(NOT(ISBLANK(F164)),LOOKUP(F164,WKNrListe,Übersicht!E$7:E$77),0)","v":0},""]
[null,null,null,null,null,null,{"$f":"IF(ISERROR(MATCH(F165,WKNrListe_Einzel,0)),\"\",LOOKUP(F165,WKNrListe_Einzel,Übersicht!$B$7:$B$62))","v":""},null,{"$f":"IF(ISBLANK(H165),\" \",IF(LOOKUP(H165,MannschaftsNrListe,Mannschaften!B$4:B$53)<>0,LOOKUP(H165,MannschaftsNrListe,Mannschaften!B$4:B$53),\"\"))","v":" "},null,null,null,null,null,null,null,null,null,null,null,null,null,null,null,null,null,null,null,null,null,0,{"$f":"IF(NOT(ISBLANK(F165)),LOOKUP(F165,WKNrListe,Übersicht!E$7:E$77),0)","v":0},""]
[null,null,null,null,null,null,{"$f":"IF(ISERROR(MATCH(F166,WKNrListe_Einzel,0)),\"\",LOOKUP(F166,WKNrListe_Einzel,Übersicht!$B$7:$B$62))","v":""},null,{"$f":"IF(ISBLANK(H166),\" \",IF(LOOKUP(H166,MannschaftsNrListe,Mannschaften!B$4:B$53)<>0,LOOKUP(H166,MannschaftsNrListe,Mannschaften!B$4:B$53),\"\"))","v":" "},null,null,null,null,null,null,null,null,null,null,null,null,null,null,null,null,null,null,null,null,null,0,{"$f":"IF(NOT(ISBLANK(F166)),LOOKUP(F166,WKNrListe,Übersicht!E$7:E$77),0)","v":0},""]
[null,null,null,null,null,null,{"$f":"IF(ISERROR(MATCH(F167,WKNrListe_Einzel,0)),\"\",LOOKUP(F167,WKNrListe_Einzel,Übersicht!$B$7:$B$62))","v":""},null,{"$f":"IF(ISBLANK(H167),\" \",IF(LOOKUP(H167,MannschaftsNrListe,Mannschaften!B$4:B$53)<>0,LOOKUP(H167,MannschaftsNrListe,Mannschaften!B$4:B$53),\"\"))","v":" "},null,null,null,null,null,null,null,null,null,null,null,null,null,null,null,null,null,null,null,null,null,0,{"$f":"IF(NOT(ISBLANK(F167)),LOOKUP(F167,WKNrListe,Übersicht!E$7:E$77),0)","v":0},""]
[null,null,null,null,null,null,{"$f":"IF(ISERROR(MATCH(F168,WKNrListe_Einzel,0)),\"\",LOOKUP(F168,WKNrListe_Einzel,Übersicht!$B$7:$B$62))","v":""},null,{"$f":"IF(ISBLANK(H168),\" \",IF(LOOKUP(H168,MannschaftsNrListe,Mannschaften!B$4:B$53)<>0,LOOKUP(H168,MannschaftsNrListe,Mannschaften!B$4:B$53),\"\"))","v":" "},null,null,null,null,null,null,null,null,null,null,null,null,null,null,null,null,null,null,null,null,null,0,{"$f":"IF(NOT(ISBLANK(F168)),LOOKUP(F168,WKNrListe,Übersicht!E$7:E$77),0)","v":0},""]
[null,null,null,null,null,null,{"$f":"IF(ISERROR(MATCH(F169,WKNrListe_Einzel,0)),\"\",LOOKUP(F169,WKNrListe_Einzel,Übersicht!$B$7:$B$62))","v":""},null,{"$f":"IF(ISBLANK(H169),\" \",IF(LOOKUP(H169,MannschaftsNrListe,Mannschaften!B$4:B$53)<>0,LOOKUP(H169,MannschaftsNrListe,Mannschaften!B$4:B$53),\"\"))","v":" "},null,null,null,null,null,null,null,null,null,null,null,null,null,null,null,null,null,null,null,null,null,0,{"$f":"IF(NOT(ISBLANK(F169)),LOOKUP(F169,WKNrListe,Übersicht!E$7:E$77),0)","v":0},""]
[null,null,null,null,null,null,{"$f":"IF(ISERROR(MATCH(F170,WKNrListe_Einzel,0)),\"\",LOOKUP(F170,WKNrListe_Einzel,Übersicht!$B$7:$B$62))","v":""},null,{"$f":"IF(ISBLANK(H170),\" \",IF(LOOKUP(H170,MannschaftsNrListe,Mannschaften!B$4:B$53)<>0,LOOKUP(H170,MannschaftsNrListe,Mannschaften!B$4:B$53),\"\"))","v":" "},null,null,null,null,null,null,null,null,null,null,null,null,null,null,null,null,null,null,null,null,null,0,{"$f":"IF(NOT(ISBLANK(F170)),LOOKUP(F170,WKNrListe,Übersicht!E$7:E$77),0)","v":0},""]
[null,null,null,null,null,null,{"$f":"IF(ISERROR(MATCH(F171,WKNrListe_Einzel,0)),\"\",LOOKUP(F171,WKNrListe_Einzel,Übersicht!$B$7:$B$62))","v":""},null,{"$f":"IF(ISBLANK(H171),\" \",IF(LOOKUP(H171,MannschaftsNrListe,Mannschaften!B$4:B$53)<>0,LOOKUP(H171,MannschaftsNrListe,Mannschaften!B$4:B$53),\"\"))","v":" "},null,null,null,null,null,null,null,null,null,null,null,null,null,null,null,null,null,null,null,null,null,0,{"$f":"IF(NOT(ISBLANK(F171)),LOOKUP(F171,WKNrListe,Übersicht!E$7:E$77),0)","v":0},""]
[null,null,null,null,null,null,{"$f":"IF(ISERROR(MATCH(F172,WKNrListe_Einzel,0)),\"\",LOOKUP(F172,WKNrListe_Einzel,Übersicht!$B$7:$B$62))","v":""},null,{"$f":"IF(ISBLANK(H172),\" \",IF(LOOKUP(H172,MannschaftsNrListe,Mannschaften!B$4:B$53)<>0,LOOKUP(H172,MannschaftsNrListe,Mannschaften!B$4:B$53),\"\"))","v":" "},null,null,null,null,null,null,null,null,null,null,null,null,null,null,null,null,null,null,null,null,null,0,{"$f":"IF(NOT(ISBLANK(F172)),LOOKUP(F172,WKNrListe,Übersicht!E$7:E$77),0)","v":0},""]
[null,null,null,null,null,null,{"$f":"IF(ISERROR(MATCH(F173,WKNrListe_Einzel,0)),\"\",LOOKUP(F173,WKNrListe_Einzel,Übersicht!$B$7:$B$62))","v":""},null,{"$f":"IF(ISBLANK(H173),\" \",IF(LOOKUP(H173,MannschaftsNrListe,Mannschaften!B$4:B$53)<>0,LOOKUP(H173,MannschaftsNrListe,Mannschaften!B$4:B$53),\"\"))","v":" "},null,null,null,null,null,null,null,null,null,null,null,null,null,null,null,null,null,null,null,null,null,0,{"$f":"IF(NOT(ISBLANK(F173)),LOOKUP(F173,WKNrListe,Übersicht!E$7:E$77),0)","v":0},""]
[null,null,null,null,null,null,{"$f":"IF(ISERROR(MATCH(F174,WKNrListe_Einzel,0)),\"\",LOOKUP(F174,WKNrListe_Einzel,Übersicht!$B$7:$B$62))","v":""},null,{"$f":"IF(ISBLANK(H174),\" \",IF(LOOKUP(H174,MannschaftsNrListe,Mannschaften!B$4:B$53)<>0,LOOKUP(H174,MannschaftsNrListe,Mannschaften!B$4:B$53),\"\"))","v":" "},null,null,null,null,null,null,null,null,null,null,null,null,null,null,null,null,null,null,null,null,null,0,{"$f":"IF(NOT(ISBLANK(F174)),LOOKUP(F174,WKNrListe,Übersicht!E$7:E$77),0)","v":0},""]
[null,null,null,null,null,null,{"$f":"IF(ISERROR(MATCH(F175,WKNrListe_Einzel,0)),\"\",LOOKUP(F175,WKNrListe_Einzel,Übersicht!$B$7:$B$62))","v":""},null,{"$f":"IF(ISBLANK(H175),\" \",IF(LOOKUP(H175,MannschaftsNrListe,Mannschaften!B$4:B$53)<>0,LOOKUP(H175,MannschaftsNrListe,Mannschaften!B$4:B$53),\"\"))","v":" "},null,null,null,null,null,null,null,null,null,null,null,null,null,null,null,null,null,null,null,null,null,0,{"$f":"IF(NOT(ISBLANK(F175)),LOOKUP(F175,WKNrListe,Übersicht!E$7:E$77),0)","v":0},""]
[null,null,null,null,null,null,{"$f":"IF(ISERROR(MATCH(F176,WKNrListe_Einzel,0)),\"\",LOOKUP(F176,WKNrListe_Einzel,Übersicht!$B$7:$B$62))","v":""},null,{"$f":"IF(ISBLANK(H176),\" \",IF(LOOKUP(H176,MannschaftsNrListe,Mannschaften!B$4:B$53)<>0,LOOKUP(H176,MannschaftsNrListe,Mannschaften!B$4:B$53),\"\"))","v":" "},null,null,null,null,null,null,null,null,null,null,null,null,null,null,null,null,null,null,null,null,null,0,{"$f":"IF(NOT(ISBLANK(F176)),LOOKUP(F176,WKNrListe,Übersicht!E$7:E$77),0)","v":0},""]
[null,null,null,null,null,null,{"$f":"IF(ISERROR(MATCH(F177,WKNrListe_Einzel,0)),\"\",LOOKUP(F177,WKNrListe_Einzel,Übersicht!$B$7:$B$62))","v":""},null,{"$f":"IF(ISBLANK(H177),\" \",IF(LOOKUP(H177,MannschaftsNrListe,Mannschaften!B$4:B$53)<>0,LOOKUP(H177,MannschaftsNrListe,Mannschaften!B$4:B$53),\"\"))","v":" "},null,null,null,null,null,null,null,null,null,null,null,null,null,null,null,null,null,null,null,null,null,0,{"$f":"IF(NOT(ISBLANK(F177)),LOOKUP(F177,WKNrListe,Übersicht!E$7:E$77),0)","v":0},""]
[null,null,null,null,null,null,{"$f":"IF(ISERROR(MATCH(F178,WKNrListe_Einzel,0)),\"\",LOOKUP(F178,WKNrListe_Einzel,Übersicht!$B$7:$B$62))","v":""},null,{"$f":"IF(ISBLANK(H178),\" \",IF(LOOKUP(H178,MannschaftsNrListe,Mannschaften!B$4:B$53)<>0,LOOKUP(H178,MannschaftsNrListe,Mannschaften!B$4:B$53),\"\"))","v":" "},null,null,null,null,null,null,null,null,null,null,null,null,null,null,null,null,null,null,null,null,null,0,{"$f":"IF(NOT(ISBLANK(F178)),LOOKUP(F178,WKNrListe,Übersicht!E$7:E$77),0)","v":0},""]
[null,null,null,null,null,null,{"$f":"IF(ISERROR(MATCH(F179,WKNrListe_Einzel,0)),\"\",LOOKUP(F179,WKNrListe_Einzel,Übersicht!$B$7:$B$62))","v":""},null,{"$f":"IF(ISBLANK(H179),\" \",IF(LOOKUP(H179,MannschaftsNrListe,Mannschaften!B$4:B$53)<>0,LOOKUP(H179,MannschaftsNrListe,Mannschaften!B$4:B$53),\"\"))","v":" "},null,null,null,null,null,null,null,null,null,null,null,null,null,null,null,null,null,null,null,null,null,0,{"$f":"IF(NOT(ISBLANK(F179)),LOOKUP(F179,WKNrListe,Übersicht!E$7:E$77),0)","v":0},""]
[null,null,null,null,null,null,{"$f":"IF(ISERROR(MATCH(F180,WKNrListe_Einzel,0)),\"\",LOOKUP(F180,WKNrListe_Einzel,Übersicht!$B$7:$B$62))","v":""},null,{"$f":"IF(ISBLANK(H180),\" \",IF(LOOKUP(H180,MannschaftsNrListe,Mannschaften!B$4:B$53)<>0,LOOKUP(H180,MannschaftsNrListe,Mannschaften!B$4:B$53),\"\"))","v":" "},null,null,null,null,null,null,null,null,null,null,null,null,null,null,null,null,null,null,null,null,null,0,{"$f":"IF(NOT(ISBLANK(F180)),LOOKUP(F180,WKNrListe,Übersicht!E$7:E$77),0)","v":0},""]
[null,null,null,null,null,null,{"$f":"IF(ISERROR(MATCH(F181,WKNrListe_Einzel,0)),\"\",LOOKUP(F181,WKNrListe_Einzel,Übersicht!$B$7:$B$62))","v":""},null,{"$f":"IF(ISBLANK(H181),\" \",IF(LOOKUP(H181,MannschaftsNrListe,Mannschaften!B$4:B$53)<>0,LOOKUP(H181,MannschaftsNrListe,Mannschaften!B$4:B$53),\"\"))","v":" "},null,null,null,null,null,null,null,null,null,null,null,null,null,null,null,null,null,null,null,null,null,0,{"$f":"IF(NOT(ISBLANK(F181)),LOOKUP(F181,WKNrListe,Übersicht!E$7:E$77),0)","v":0},""]
[null,null,null,null,null,null,{"$f":"IF(ISERROR(MATCH(F182,WKNrListe_Einzel,0)),\"\",LOOKUP(F182,WKNrListe_Einzel,Übersicht!$B$7:$B$62))","v":""},null,{"$f":"IF(ISBLANK(H182),\" \",IF(LOOKUP(H182,MannschaftsNrListe,Mannschaften!B$4:B$53)<>0,LOOKUP(H182,MannschaftsNrListe,Mannschaften!B$4:B$53),\"\"))","v":" "},null,null,null,null,null,null,null,null,null,null,null,null,null,null,null,null,null,null,null,null,null,0,{"$f":"IF(NOT(ISBLANK(F182)),LOOKUP(F182,WKNrListe,Übersicht!E$7:E$77),0)","v":0},""]
[null,null,null,null,null,null,{"$f":"IF(ISERROR(MATCH(F183,WKNrListe_Einzel,0)),\"\",LOOKUP(F183,WKNrListe_Einzel,Übersicht!$B$7:$B$62))","v":""},null,{"$f":"IF(ISBLANK(H183),\" \",IF(LOOKUP(H183,MannschaftsNrListe,Mannschaften!B$4:B$53)<>0,LOOKUP(H183,MannschaftsNrListe,Mannschaften!B$4:B$53),\"\"))","v":" "},null,null,null,null,null,null,null,null,null,null,null,null,null,null,null,null,null,null,null,null,null,0,{"$f":"IF(NOT(ISBLANK(F183)),LOOKUP(F183,WKNrListe,Übersicht!E$7:E$77),0)","v":0},""]
[null,null,null,null,null,null,{"$f":"IF(ISERROR(MATCH(F184,WKNrListe_Einzel,0)),\"\",LOOKUP(F184,WKNrListe_Einzel,Übersicht!$B$7:$B$62))","v":""},null,{"$f":"IF(ISBLANK(H184),\" \",IF(LOOKUP(H184,MannschaftsNrListe,Mannschaften!B$4:B$53)<>0,LOOKUP(H184,MannschaftsNrListe,Mannschaften!B$4:B$53),\"\"))","v":" "},null,null,null,null,null,null,null,null,null,null,null,null,null,null,null,null,null,null,null,null,null,0,{"$f":"IF(NOT(ISBLANK(F184)),LOOKUP(F184,WKNrListe,Übersicht!E$7:E$77),0)","v":0},""]
[null,null,null,null,null,null,{"$f":"IF(ISERROR(MATCH(F185,WKNrListe_Einzel,0)),\"\",LOOKUP(F185,WKNrListe_Einzel,Übersicht!$B$7:$B$62))","v":""},null,{"$f":"IF(ISBLANK(H185),\" \",IF(LOOKUP(H185,MannschaftsNrListe,Mannschaften!B$4:B$53)<>0,LOOKUP(H185,MannschaftsNrListe,Mannschaften!B$4:B$53),\"\"))","v":" "},null,null,null,null,null,null,null,null,null,null,null,null,null,null,null,null,null,null,null,null,null,0,{"$f":"IF(NOT(ISBLANK(F185)),LOOKUP(F185,WKNrListe,Übersicht!E$7:E$77),0)","v":0},""]
[null,null,null,null,null,null,{"$f":"IF(ISERROR(MATCH(F186,WKNrListe_Einzel,0)),\"\",LOOKUP(F186,WKNrListe_Einzel,Übersicht!$B$7:$B$62))","v":""},null,{"$f":"IF(ISBLANK(H186),\" \",IF(LOOKUP(H186,MannschaftsNrListe,Mannschaften!B$4:B$53)<>0,LOOKUP(H186,MannschaftsNrListe,Mannschaften!B$4:B$53),\"\"))","v":" "},null,null,null,null,null,null,null,null,null,null,null,null,null,null,null,null,null,null,null,null,null,0,{"$f":"IF(NOT(ISBLANK(F186)),LOOKUP(F186,WKNrListe,Übersicht!E$7:E$77),0)","v":0},""]
[null,null,null,null,null,null,{"$f":"IF(ISERROR(MATCH(F187,WKNrListe_Einzel,0)),\"\",LOOKUP(F187,WKNrListe_Einzel,Übersicht!$B$7:$B$62))","v":""},null,{"$f":"IF(ISBLANK(H187),\" \",IF(LOOKUP(H187,MannschaftsNrListe,Mannschaften!B$4:B$53)<>0,LOOKUP(H187,MannschaftsNrListe,Mannschaften!B$4:B$53),\"\"))","v":" "},null,null,null,null,null,null,null,null,null,null,null,null,null,null,null,null,null,null,null,null,null,0,{"$f":"IF(NOT(ISBLANK(F187)),LOOKUP(F187,WKNrListe,Übersicht!E$7:E$77),0)","v":0},""]
[null,null,null,null,null,null,{"$f":"IF(ISERROR(MATCH(F188,WKNrListe_Einzel,0)),\"\",LOOKUP(F188,WKNrListe_Einzel,Übersicht!$B$7:$B$62))","v":""},null,{"$f":"IF(ISBLANK(H188),\" \",IF(LOOKUP(H188,MannschaftsNrListe,Mannschaften!B$4:B$53)<>0,LOOKUP(H188,MannschaftsNrListe,Mannschaften!B$4:B$53),\"\"))","v":" "},null,null,null,null,null,null,null,null,null,null,null,null,null,null,null,null,null,null,null,null,null,0,{"$f":"IF(NOT(ISBLANK(F188)),LOOKUP(F188,WKNrListe,Übersicht!E$7:E$77),0)","v":0},""]
[null,null,null,null,null,null,{"$f":"IF(ISERROR(MATCH(F189,WKNrListe_Einzel,0)),\"\",LOOKUP(F189,WKNrListe_Einzel,Übersicht!$B$7:$B$62))","v":""},null,{"$f":"IF(ISBLANK(H189),\" \",IF(LOOKUP(H189,MannschaftsNrListe,Mannschaften!B$4:B$53)<>0,LOOKUP(H189,MannschaftsNrListe,Mannschaften!B$4:B$53),\"\"))","v":" "},null,null,null,null,null,null,null,null,null,null,null,null,null,null,null,null,null,null,null,null,null,0,{"$f":"IF(NOT(ISBLANK(F189)),LOOKUP(F189,WKNrListe,Übersicht!E$7:E$77),0)","v":0},""]
[null,null,null,null,null,null,{"$f":"IF(ISERROR(MATCH(F190,WKNrListe_Einzel,0)),\"\",LOOKUP(F190,WKNrListe_Einzel,Übersicht!$B$7:$B$62))","v":""},null,{"$f":"IF(ISBLANK(H190),\" \",IF(LOOKUP(H190,MannschaftsNrListe,Mannschaften!B$4:B$53)<>0,LOOKUP(H190,MannschaftsNrListe,Mannschaften!B$4:B$53),\"\"))","v":" "},null,null,null,null,null,null,null,null,null,null,null,null,null,null,null,null,null,null,null,null,null,0,{"$f":"IF(NOT(ISBLANK(F190)),LOOKUP(F190,WKNrListe,Übersicht!E$7:E$77),0)","v":0},""]
[null,null,null,null,null,null,{"$f":"IF(ISERROR(MATCH(F191,WKNrListe_Einzel,0)),\"\",LOOKUP(F191,WKNrListe_Einzel,Übersicht!$B$7:$B$62))","v":""},null,{"$f":"IF(ISBLANK(H191),\" \",IF(LOOKUP(H191,MannschaftsNrListe,Mannschaften!B$4:B$53)<>0,LOOKUP(H191,MannschaftsNrListe,Mannschaften!B$4:B$53),\"\"))","v":" "},null,null,null,null,null,null,null,null,null,null,null,null,null,null,null,null,null,null,null,null,null,0,{"$f":"IF(NOT(ISBLANK(F191)),LOOKUP(F191,WKNrListe,Übersicht!E$7:E$77),0)","v":0},""]
[null,null,null,null,null,null,{"$f":"IF(ISERROR(MATCH(F192,WKNrListe_Einzel,0)),\"\",LOOKUP(F192,WKNrListe_Einzel,Übersicht!$B$7:$B$62))","v":""},null,{"$f":"IF(ISBLANK(H192),\" \",IF(LOOKUP(H192,MannschaftsNrListe,Mannschaften!B$4:B$53)<>0,LOOKUP(H192,MannschaftsNrListe,Mannschaften!B$4:B$53),\"\"))","v":" "},null,null,null,null,null,null,null,null,null,null,null,null,null,null,null,null,null,null,null,null,null,0,{"$f":"IF(NOT(ISBLANK(F192)),LOOKUP(F192,WKNrListe,Übersicht!E$7:E$77),0)","v":0},""]
[null,null,null,null,null,null,{"$f":"IF(ISERROR(MATCH(F193,WKNrListe_Einzel,0)),\"\",LOOKUP(F193,WKNrListe_Einzel,Übersicht!$B$7:$B$62))","v":""},null,{"$f":"IF(ISBLANK(H193),\" \",IF(LOOKUP(H193,MannschaftsNrListe,Mannschaften!B$4:B$53)<>0,LOOKUP(H193,MannschaftsNrListe,Mannschaften!B$4:B$53),\"\"))","v":" "},null,null,null,null,null,null,null,null,null,null,null,null,null,null,null,null,null,null,null,null,null,0,{"$f":"IF(NOT(ISBLANK(F193)),LOOKUP(F193,WKNrListe,Übersicht!E$7:E$77),0)","v":0},""]
[null,null,null,null,null,null,{"$f":"IF(ISERROR(MATCH(F194,WKNrListe_Einzel,0)),\"\",LOOKUP(F194,WKNrListe_Einzel,Übersicht!$B$7:$B$62))","v":""},null,{"$f":"IF(ISBLANK(H194),\" \",IF(LOOKUP(H194,MannschaftsNrListe,Mannschaften!B$4:B$53)<>0,LOOKUP(H194,MannschaftsNrListe,Mannschaften!B$4:B$53),\"\"))","v":" "},null,null,null,null,null,null,null,null,null,null,null,null,null,null,null,null,null,null,null,null,null,0,{"$f":"IF(NOT(ISBLANK(F194)),LOOKUP(F194,WKNrListe,Übersicht!E$7:E$77),0)","v":0},""]
[null,null,null,null,null,null,{"$f":"IF(ISERROR(MATCH(F195,WKNrListe_Einzel,0)),\"\",LOOKUP(F195,WKNrListe_Einzel,Übersicht!$B$7:$B$62))","v":""},null,{"$f":"IF(ISBLANK(H195),\" \",IF(LOOKUP(H195,MannschaftsNrListe,Mannschaften!B$4:B$53)<>0,LOOKUP(H195,MannschaftsNrListe,Mannschaften!B$4:B$53),\"\"))","v":" "},null,null,null,null,null,null,null,null,null,null,null,null,null,null,null,null,null,null,null,null,null,0,{"$f":"IF(NOT(ISBLANK(F195)),LOOKUP(F195,WKNrListe,Übersicht!E$7:E$77),0)","v":0},""]
[null,null,null,null,null,null,{"$f":"IF(ISERROR(MATCH(F196,WKNrListe_Einzel,0)),\"\",LOOKUP(F196,WKNrListe_Einzel,Übersicht!$B$7:$B$62))","v":""},null,{"$f":"IF(ISBLANK(H196),\" \",IF(LOOKUP(H196,MannschaftsNrListe,Mannschaften!B$4:B$53)<>0,LOOKUP(H196,MannschaftsNrListe,Mannschaften!B$4:B$53),\"\"))","v":" "},null,null,null,null,null,null,null,null,null,null,null,null,null,null,null,null,null,null,null,null,null,0,{"$f":"IF(NOT(ISBLANK(F196)),LOOKUP(F196,WKNrListe,Übersicht!E$7:E$77),0)","v":0},""]
[null,null,null,null,null,null,{"$f":"IF(ISERROR(MATCH(F197,WKNrListe_Einzel,0)),\"\",LOOKUP(F197,WKNrListe_Einzel,Übersicht!$B$7:$B$62))","v":""},null,{"$f":"IF(ISBLANK(H197),\" \",IF(LOOKUP(H197,MannschaftsNrListe,Mannschaften!B$4:B$53)<>0,LOOKUP(H197,MannschaftsNrListe,Mannschaften!B$4:B$53),\"\"))","v":" "},null,null,null,null,null,null,null,null,null,null,null,null,null,null,null,null,null,null,null,null,null,0,{"$f":"IF(NOT(ISBLANK(F197)),LOOKUP(F197,WKNrListe,Übersicht!E$7:E$77),0)","v":0},{"$f":"IF(\n AND(\n  OR(ISTEXT(A197), ISTEXT(B197), NOT(ISBLANK(E197)), NOT(ISBLANK(F197)), NOT(ISBLANK(H197))),\n  OR(ISBLANK(A197),ISBLANK(B197),AND(ISBLANK(E197),ISBLANK(F197),ISBLANK(H197)))\n ),\n \"unvollständig\",\n IF(\n  AND(\n   NOT(\n    ISBLANK(H197)\n    ),\n   NOT(ISNUMBER(I197))\n  ),\n  \"Seite Mannschaften ausfüllen!\",\n  IF(AF197>AE197,\"zu wenig Disziplinen gewählt\",IF(AE197>AF197,\"zu viele Disziplinen gewählt\",\"\"))\n )\n)","v":""}]
[null,null,null,null,null,null,{"$f":"IF(ISERROR(MATCH(F198,WKNrListe_Einzel,0)),\"\",LOOKUP(F198,WKNrListe_Einzel,Übersicht!$B$7:$B$62))","v":""},null,{"$f":"IF(ISBLANK(H198),\" \",IF(LOOKUP(H198,MannschaftsNrListe,Mannschaften!B$4:B$53)<>0,LOOKUP(H198,MannschaftsNrListe,Mannschaften!B$4:B$53),\"\"))","v":" "},null,null,null,null,null,null,null,null,null,null,null,null,null,null,null,null,null,null,null,null,null,{"$f":"COUNTIF(J198:AD198,\">''\")","v":0},{"$f":"IF(NOT(ISBLANK(F198)),LOOKUP(F198,WKNrListe,Übersicht!E$7:E$77),0)","v":0},""]
[null,null,null,null,null,null,{"$f":"IF(ISERROR(MATCH(F199,WKNrListe_Einzel,0)),\"\",LOOKUP(F199,WKNrListe_Einzel,Übersicht!$B$7:$B$62))","v":""},null,{"$f":"IF(ISBLANK(H199),\" \",IF(LOOKUP(H199,MannschaftsNrListe,Mannschaften!B$4:B$53)<>0,LOOKUP(H199,MannschaftsNrListe,Mannschaften!B$4:B$53),\"\"))","v":" "},null,null,null,null,null,null,null,null,null,null,null,null,null,null,null,null,null,null,null,null,null,0,{"$f":"IF(NOT(ISBLANK(F199)),LOOKUP(F199,WKNrListe,Übersicht!E$7:E$77),0)","v":0},""]
[null,null,null,null,null,null,{"$f":"IF(ISERROR(MATCH(F200,WKNrListe_Einzel,0)),\"\",LOOKUP(F200,WKNrListe_Einzel,Übersicht!$B$7:$B$62))","v":""},null,{"$f":"IF(ISBLANK(H200),\" \",IF(LOOKUP(H200,MannschaftsNrListe,Mannschaften!B$4:B$53)<>0,LOOKUP(H200,MannschaftsNrListe,Mannschaften!B$4:B$53),\"\"))","v":" "},null,null,null,null,null,null,null,null,null,null,null,null,null,null,null,null,null,null,null,null,null,0,{"$f":"IF(NOT(ISBLANK(F200)),LOOKUP(F200,WKNrListe,Übersicht!E$7:E$77),0)","v":0},""]
[null,null,null,null,null,null,{"$f":"IF(ISERROR(MATCH(F201,WKNrListe_Einzel,0)),\"\",LOOKUP(F201,WKNrListe_Einzel,Übersicht!$B$7:$B$62))","v":""},null,{"$f":"IF(ISBLANK(H201),\" \",IF(LOOKUP(H201,MannschaftsNrListe,Mannschaften!B$4:B$53)<>0,LOOKUP(H201,MannschaftsNrListe,Mannschaften!B$4:B$53),\"\"))","v":" "},null,null,null,null,null,null,null,null,null,null,null,null,null,null,null,null,null,null,null,null,null,0,{"$f":"IF(NOT(ISBLANK(F201)),LOOKUP(F201,WKNrListe,Übersicht!E$7:E$77),0)","v":0},""]
[null,null,null,null,null,null,{"$f":"IF(ISERROR(MATCH(F202,WKNrListe_Einzel,0)),\"\",LOOKUP(F202,WKNrListe_Einzel,Übersicht!$B$7:$B$62))","v":""},null,{"$f":"IF(ISBLANK(H202),\" \",IF(LOOKUP(H202,MannschaftsNrListe,Mannschaften!B$4:B$53)<>0,LOOKUP(H202,MannschaftsNrListe,Mannschaften!B$4:B$53),\"\"))","v":" "},null,null,null,null,null,null,null,null,null,null,null,null,null,null,null,null,null,null,null,null,null,0,{"$f":"IF(NOT(ISBLANK(F202)),LOOKUP(F202,WKNrListe,Übersicht!E$7:E$77),0)","v":0},""]
[null,null,null,null,null,null,{"$f":"IF(ISERROR(MATCH(F203,WKNrListe_Einzel,0)),\"\",LOOKUP(F203,WKNrListe_Einzel,Übersicht!$B$7:$B$62))","v":""},null,{"$f":"IF(ISBLANK(H203),\" \",IF(LOOKUP(H203,MannschaftsNrListe,Mannschaften!B$4:B$53)<>0,LOOKUP(H203,MannschaftsNrListe,Mannschaften!B$4:B$53),\"\"))","v":" "},null,null,null,null,null,null,null,null,null,null,null,null,null,null,null,null,null,null,null,null,null,0,{"$f":"IF(NOT(ISBLANK(F203)),LOOKUP(F203,WKNrListe,Übersicht!E$7:E$77),0)","v":0},""]
[null,null,null,null,null,null,{"$f":"IF(ISERROR(MATCH(F204,WKNrListe_Einzel,0)),\"\",LOOKUP(F204,WKNrListe_Einzel,Übersicht!$B$7:$B$62))","v":""},null,{"$f":"IF(ISBLANK(H204),\" \",IF(LOOKUP(H204,MannschaftsNrListe,Mannschaften!B$4:B$53)<>0,LOOKUP(H204,MannschaftsNrListe,Mannschaften!B$4:B$53),\"\"))","v":" "},null,null,null,null,null,null,null,null,null,null,null,null,null,null,null,null,null,null,null,null,null,0,{"$f":"IF(NOT(ISBLANK(F204)),LOOKUP(F204,WKNrListe,Übersicht!E$7:E$77),0)","v":0},""]
[null,null,null,null,null,null,{"$f":"IF(ISERROR(MATCH(F205,WKNrListe_Einzel,0)),\"\",LOOKUP(F205,WKNrListe_Einzel,Übersicht!$B$7:$B$62))","v":""},null,{"$f":"IF(ISBLANK(H205),\" \",IF(LOOKUP(H205,MannschaftsNrListe,Mannschaften!B$4:B$53)<>0,LOOKUP(H205,MannschaftsNrListe,Mannschaften!B$4:B$53),\"\"))","v":" "},null,null,null,null,null,null,null,null,null,null,null,null,null,null,null,null,null,null,null,null,null,0,{"$f":"IF(NOT(ISBLANK(F205)),LOOKUP(F205,WKNrListe,Übersicht!E$7:E$77),0)","v":0},""]
[null,null,null,null,null,null,{"$f":"IF(ISERROR(MATCH(F206,WKNrListe_Einzel,0)),\"\",LOOKUP(F206,WKNrListe_Einzel,Übersicht!$B$7:$B$62))","v":""},null,{"$f":"IF(ISBLANK(H206),\" \",IF(LOOKUP(H206,MannschaftsNrListe,Mannschaften!B$4:B$53)<>0,LOOKUP(H206,MannschaftsNrListe,Mannschaften!B$4:B$53),\"\"))","v":" "},null,null,null,null,null,null,null,null,null,null,null,null,null,null,null,null,null,null,null,null,null,0,{"$f":"IF(NOT(ISBLANK(F206)),LOOKUP(F206,WKNrListe,Übersicht!E$7:E$77),0)","v":0},""]
[null,null,null,null,null,null,{"$f":"IF(ISERROR(MATCH(F207,WKNrListe_Einzel,0)),\"\",LOOKUP(F207,WKNrListe_Einzel,Übersicht!$B$7:$B$62))","v":""},null,{"$f":"IF(ISBLANK(H207),\" \",IF(LOOKUP(H207,MannschaftsNrListe,Mannschaften!B$4:B$53)<>0,LOOKUP(H207,MannschaftsNrListe,Mannschaften!B$4:B$53),\"\"))","v":" "},null,null,null,null,null,null,null,null,null,null,null,null,null,null,null,null,null,null,null,null,null,0,{"$f":"IF(NOT(ISBLANK(F207)),LOOKUP(F207,WKNrListe,Übersicht!E$7:E$77),0)","v":0},""]
[null,null,null,null,null,null,{"$f":"IF(ISERROR(MATCH(F208,WKNrListe_Einzel,0)),\"\",LOOKUP(F208,WKNrListe_Einzel,Übersicht!$B$7:$B$62))","v":""},null,{"$f":"IF(ISBLANK(H208),\" \",IF(LOOKUP(H208,MannschaftsNrListe,Mannschaften!B$4:B$53)<>0,LOOKUP(H208,MannschaftsNrListe,Mannschaften!B$4:B$53),\"\"))","v":" "},null,null,null,null,null,null,null,null,null,null,null,null,null,null,null,null,null,null,null,null,null,0,{"$f":"IF(NOT(ISBLANK(F208)),LOOKUP(F208,WKNrListe,Übersicht!E$7:E$77),0)","v":0},""]
[null,null,null,null,null,null,{"$f":"IF(ISERROR(MATCH(F209,WKNrListe_Einzel,0)),\"\",LOOKUP(F209,WKNrListe_Einzel,Übersicht!$B$7:$B$62))","v":""},null,{"$f":"IF(ISBLANK(H209),\" \",IF(LOOKUP(H209,MannschaftsNrListe,Mannschaften!B$4:B$53)<>0,LOOKUP(H209,MannschaftsNrListe,Mannschaften!B$4:B$53),\"\"))","v":" "},null,null,null,null,null,null,null,null,null,null,null,null,null,null,null,null,null,null,null,null,null,0,{"$f":"IF(NOT(ISBLANK(F209)),LOOKUP(F209,WKNrListe,Übersicht!E$7:E$77),0)","v":0},""]
[null,null,null,null,null,null,{"$f":"IF(ISERROR(MATCH(F210,WKNrListe_Einzel,0)),\"\",LOOKUP(F210,WKNrListe_Einzel,Übersicht!$B$7:$B$62))","v":""},null,{"$f":"IF(ISBLANK(H210),\" \",IF(LOOKUP(H210,MannschaftsNrListe,Mannschaften!B$4:B$53)<>0,LOOKUP(H210,MannschaftsNrListe,Mannschaften!B$4:B$53),\"\"))","v":" "},null,null,null,null,null,null,null,null,null,null,null,null,null,null,null,null,null,null,null,null,null,0,{"$f":"IF(NOT(ISBLANK(F210)),LOOKUP(F210,WKNrListe,Übersicht!E$7:E$77),0)","v":0},""]
[null,null,null,null,null,null,{"$f":"IF(ISERROR(MATCH(F211,WKNrListe_Einzel,0)),\"\",LOOKUP(F211,WKNrListe_Einzel,Übersicht!$B$7:$B$62))","v":""},null,{"$f":"IF(ISBLANK(H211),\" \",IF(LOOKUP(H211,MannschaftsNrListe,Mannschaften!B$4:B$53)<>0,LOOKUP(H211,MannschaftsNrListe,Mannschaften!B$4:B$53),\"\"))","v":" "},null,null,null,null,null,null,null,null,null,null,null,null,null,null,null,null,null,null,null,null,null,0,{"$f":"IF(NOT(ISBLANK(F211)),LOOKUP(F211,WKNrListe,Übersicht!E$7:E$77),0)","v":0},""]
[null,null,null,null,null,null,{"$f":"IF(ISERROR(MATCH(F212,WKNrListe_Einzel,0)),\"\",LOOKUP(F212,WKNrListe_Einzel,Übersicht!$B$7:$B$62))","v":""},null,{"$f":"IF(ISBLANK(H212),\" \",IF(LOOKUP(H212,MannschaftsNrListe,Mannschaften!B$4:B$53)<>0,LOOKUP(H212,MannschaftsNrListe,Mannschaften!B$4:B$53),\"\"))","v":" "},null,null,null,null,null,null,null,null,null,null,null,null,null,null,null,null,null,null,null,null,null,0,{"$f":"IF(NOT(ISBLANK(F212)),LOOKUP(F212,WKNrListe,Übersicht!E$7:E$77),0)","v":0},""]
[null,null,null,null,null,null,{"$f":"IF(ISERROR(MATCH(F213,WKNrListe_Einzel,0)),\"\",LOOKUP(F213,WKNrListe_Einzel,Übersicht!$B$7:$B$62))","v":""},null,{"$f":"IF(ISBLANK(H213),\" \",IF(LOOKUP(H213,MannschaftsNrListe,Mannschaften!B$4:B$53)<>0,LOOKUP(H213,MannschaftsNrListe,Mannschaften!B$4:B$53),\"\"))","v":" "},null,null,null,null,null,null,null,null,null,null,null,null,null,null,null,null,null,null,null,null,null,0,{"$f":"IF(NOT(ISBLANK(F213)),LOOKUP(F213,WKNrListe,Übersicht!E$7:E$77),0)","v":0},""]
[null,null,null,null,null,null,{"$f":"IF(ISERROR(MATCH(F214,WKNrListe_Einzel,0)),\"\",LOOKUP(F214,WKNrListe_Einzel,Übersicht!$B$7:$B$62))","v":""},null,{"$f":"IF(ISBLANK(H214),\" \",IF(LOOKUP(H214,MannschaftsNrListe,Mannschaften!B$4:B$53)<>0,LOOKUP(H214,MannschaftsNrListe,Mannschaften!B$4:B$53),\"\"))","v":" "},null,null,null,null,null,null,null,null,null,null,null,null,null,null,null,null,null,null,null,null,null,0,{"$f":"IF(NOT(ISBLANK(F214)),LOOKUP(F214,WKNrListe,Übersicht!E$7:E$77),0)","v":0},""]
[null,null,null,null,null,null,{"$f":"IF(ISERROR(MATCH(F215,WKNrListe_Einzel,0)),\"\",LOOKUP(F215,WKNrListe_Einzel,Übersicht!$B$7:$B$62))","v":""},null,{"$f":"IF(ISBLANK(H215),\" \",IF(LOOKUP(H215,MannschaftsNrListe,Mannschaften!B$4:B$53)<>0,LOOKUP(H215,MannschaftsNrListe,Mannschaften!B$4:B$53),\"\"))","v":" "},null,null,null,null,null,null,null,null,null,null,null,null,null,null,null,null,null,null,null,null,null,0,{"$f":"IF(NOT(ISBLANK(F215)),LOOKUP(F215,WKNrListe,Übersicht!E$7:E$77),0)","v":0},""]
[null,null,null,null,null,null,{"$f":"IF(ISERROR(MATCH(F216,WKNrListe_Einzel,0)),\"\",LOOKUP(F216,WKNrListe_Einzel,Übersicht!$B$7:$B$62))","v":""},null,{"$f":"IF(ISBLANK(H216),\" \",IF(LOOKUP(H216,MannschaftsNrListe,Mannschaften!B$4:B$53)<>0,LOOKUP(H216,MannschaftsNrListe,Mannschaften!B$4:B$53),\"\"))","v":" "},null,null,null,null,null,null,null,null,null,null,null,null,null,null,null,null,null,null,null,null,null,0,{"$f":"IF(NOT(ISBLANK(F216)),LOOKUP(F216,WKNrListe,Übersicht!E$7:E$77),0)","v":0},""]
[null,null,null,null,null,null,{"$f":"IF(ISERROR(MATCH(F217,WKNrListe_Einzel,0)),\"\",LOOKUP(F217,WKNrListe_Einzel,Übersicht!$B$7:$B$62))","v":""},null,{"$f":"IF(ISBLANK(H217),\" \",IF(LOOKUP(H217,MannschaftsNrListe,Mannschaften!B$4:B$53)<>0,LOOKUP(H217,MannschaftsNrListe,Mannschaften!B$4:B$53),\"\"))","v":" "},null,null,null,null,null,null,null,null,null,null,null,null,null,null,null,null,null,null,null,null,null,0,{"$f":"IF(NOT(ISBLANK(F217)),LOOKUP(F217,WKNrListe,Übersicht!E$7:E$77),0)","v":0},""]
[null,null,null,null,null,null,{"$f":"IF(ISERROR(MATCH(F218,WKNrListe_Einzel,0)),\"\",LOOKUP(F218,WKNrListe_Einzel,Übersicht!$B$7:$B$62))","v":""},null,{"$f":"IF(ISBLANK(H218),\" \",IF(LOOKUP(H218,MannschaftsNrListe,Mannschaften!B$4:B$53)<>0,LOOKUP(H218,MannschaftsNrListe,Mannschaften!B$4:B$53),\"\"))","v":" "},null,null,null,null,null,null,null,null,null,null,null,null,null,null,null,null,null,null,null,null,null,0,{"$f":"IF(NOT(ISBLANK(F218)),LOOKUP(F218,WKNrListe,Übersicht!E$7:E$77),0)","v":0},""]
[null,null,null,null,null,null,{"$f":"IF(ISERROR(MATCH(F219,WKNrListe_Einzel,0)),\"\",LOOKUP(F219,WKNrListe_Einzel,Übersicht!$B$7:$B$62))","v":""},null,{"$f":"IF(ISBLANK(H219),\" \",IF(LOOKUP(H219,MannschaftsNrListe,Mannschaften!B$4:B$53)<>0,LOOKUP(H219,MannschaftsNrListe,Mannschaften!B$4:B$53),\"\"))","v":" "},null,null,null,null,null,null,null,null,null,null,null,null,null,null,null,null,null,null,null,null,null,0,{"$f":"IF(NOT(ISBLANK(F219)),LOOKUP(F219,WKNrListe,Übersicht!E$7:E$77),0)","v":0},""]
[null,null,null,null,null,null,{"$f":"IF(ISERROR(MATCH(F220,WKNrListe_Einzel,0)),\"\",LOOKUP(F220,WKNrListe_Einzel,Übersicht!$B$7:$B$62))","v":""},null,{"$f":"IF(ISBLANK(H220),\" \",IF(LOOKUP(H220,MannschaftsNrListe,Mannschaften!B$4:B$53)<>0,LOOKUP(H220,MannschaftsNrListe,Mannschaften!B$4:B$53),\"\"))","v":" "},null,null,null,null,null,null,null,null,null,null,null,null,null,null,null,null,null,null,null,null,null,0,{"$f":"IF(NOT(ISBLANK(F220)),LOOKUP(F220,WKNrListe,Übersicht!E$7:E$77),0)","v":0},""]
[null,null,null,null,null,null,{"$f":"IF(ISERROR(MATCH(F221,WKNrListe_Einzel,0)),\"\",LOOKUP(F221,WKNrListe_Einzel,Übersicht!$B$7:$B$62))","v":""},null,{"$f":"IF(ISBLANK(H221),\" \",IF(LOOKUP(H221,MannschaftsNrListe,Mannschaften!B$4:B$53)<>0,LOOKUP(H221,MannschaftsNrListe,Mannschaften!B$4:B$53),\"\"))","v":" "},null,null,null,null,null,null,null,null,null,null,null,null,null,null,null,null,null,null,null,null,null,0,{"$f":"IF(NOT(ISBLANK(F221)),LOOKUP(F221,WKNrListe,Übersicht!E$7:E$77),0)","v":0},""]
[null,null,null,null,null,null,{"$f":"IF(ISERROR(MATCH(F222,WKNrListe_Einzel,0)),\"\",LOOKUP(F222,WKNrListe_Einzel,Übersicht!$B$7:$B$62))","v":""},null,{"$f":"IF(ISBLANK(H222),\" \",IF(LOOKUP(H222,MannschaftsNrListe,Mannschaften!B$4:B$53)<>0,LOOKUP(H222,MannschaftsNrListe,Mannschaften!B$4:B$53),\"\"))","v":" "},null,null,null,null,null,null,null,null,null,null,null,null,null,null,null,null,null,null,null,null,null,0,{"$f":"IF(NOT(ISBLANK(F222)),LOOKUP(F222,WKNrListe,Übersicht!E$7:E$77),0)","v":0},""]
[null,null,null,null,null,null,{"$f":"IF(ISERROR(MATCH(F223,WKNrListe_Einzel,0)),\"\",LOOKUP(F223,WKNrListe_Einzel,Übersicht!$B$7:$B$62))","v":""},null,{"$f":"IF(ISBLANK(H223),\" \",IF(LOOKUP(H223,MannschaftsNrListe,Mannschaften!B$4:B$53)<>0,LOOKUP(H223,MannschaftsNrListe,Mannschaften!B$4:B$53),\"\"))","v":" "},null,null,null,null,null,null,null,null,null,null,null,null,null,null,null,null,null,null,null,null,null,0,{"$f":"IF(NOT(ISBLANK(F223)),LOOKUP(F223,WKNrListe,Übersicht!E$7:E$77),0)","v":0},""]
[null,null,null,null,null,null,{"$f":"IF(ISERROR(MATCH(F224,WKNrListe_Einzel,0)),\"\",LOOKUP(F224,WKNrListe_Einzel,Übersicht!$B$7:$B$62))","v":""},null,{"$f":"IF(ISBLANK(H224),\" \",IF(LOOKUP(H224,MannschaftsNrListe,Mannschaften!B$4:B$53)<>0,LOOKUP(H224,MannschaftsNrListe,Mannschaften!B$4:B$53),\"\"))","v":" "},null,null,null,null,null,null,null,null,null,null,null,null,null,null,null,null,null,null,null,null,null,0,{"$f":"IF(NOT(ISBLANK(F224)),LOOKUP(F224,WKNrListe,Übersicht!E$7:E$77),0)","v":0},""]
[null,null,null,null,null,null,{"$f":"IF(ISERROR(MATCH(F225,WKNrListe_Einzel,0)),\"\",LOOKUP(F225,WKNrListe_Einzel,Übersicht!$B$7:$B$62))","v":""},null,{"$f":"IF(ISBLANK(H225),\" \",IF(LOOKUP(H225,MannschaftsNrListe,Mannschaften!B$4:B$53)<>0,LOOKUP(H225,MannschaftsNrListe,Mannschaften!B$4:B$53),\"\"))","v":" "},null,null,null,null,null,null,null,null,null,null,null,null,null,null,null,null,null,null,null,null,null,0,{"$f":"IF(NOT(ISBLANK(F225)),LOOKUP(F225,WKNrListe,Übersicht!E$7:E$77),0)","v":0},""]
[null,null,null,null,null,null,{"$f":"IF(ISERROR(MATCH(F226,WKNrListe_Einzel,0)),\"\",LOOKUP(F226,WKNrListe_Einzel,Übersicht!$B$7:$B$62))","v":""},null,{"$f":"IF(ISBLANK(H226),\" \",IF(LOOKUP(H226,MannschaftsNrListe,Mannschaften!B$4:B$53)<>0,LOOKUP(H226,MannschaftsNrListe,Mannschaften!B$4:B$53),\"\"))","v":" "},null,null,null,null,null,null,null,null,null,null,null,null,null,null,null,null,null,null,null,null,null,0,{"$f":"IF(NOT(ISBLANK(F226)),LOOKUP(F226,WKNrListe,Übersicht!E$7:E$77),0)","v":0},""]
[null,null,null,null,null,null,{"$f":"IF(ISERROR(MATCH(F227,WKNrListe_Einzel,0)),\"\",LOOKUP(F227,WKNrListe_Einzel,Übersicht!$B$7:$B$62))","v":""},null,{"$f":"IF(ISBLANK(H227),\" \",IF(LOOKUP(H227,MannschaftsNrListe,Mannschaften!B$4:B$53)<>0,LOOKUP(H227,MannschaftsNrListe,Mannschaften!B$4:B$53),\"\"))","v":" "},null,null,null,null,null,null,null,null,null,null,null,null,null,null,null,null,null,null,null,null,null,0,{"$f":"IF(NOT(ISBLANK(F227)),LOOKUP(F227,WKNrListe,Übersicht!E$7:E$77),0)","v":0},""]
[null,null,null,null,null,null,{"$f":"IF(ISERROR(MATCH(F228,WKNrListe_Einzel,0)),\"\",LOOKUP(F228,WKNrListe_Einzel,Übersicht!$B$7:$B$62))","v":""},null,{"$f":"IF(ISBLANK(H228),\" \",IF(LOOKUP(H228,MannschaftsNrListe,Mannschaften!B$4:B$53)<>0,LOOKUP(H228,MannschaftsNrListe,Mannschaften!B$4:B$53),\"\"))","v":" "},null,null,null,null,null,null,null,null,null,null,null,null,null,null,null,null,null,null,null,null,null,0,{"$f":"IF(NOT(ISBLANK(F228)),LOOKUP(F228,WKNrListe,Übersicht!E$7:E$77),0)","v":0},""]
[null,null,null,null,null,null,{"$f":"IF(ISERROR(MATCH(F229,WKNrListe_Einzel,0)),\"\",LOOKUP(F229,WKNrListe_Einzel,Übersicht!$B$7:$B$62))","v":""},null,{"$f":"IF(ISBLANK(H229),\" \",IF(LOOKUP(H229,MannschaftsNrListe,Mannschaften!B$4:B$53)<>0,LOOKUP(H229,MannschaftsNrListe,Mannschaften!B$4:B$53),\"\"))","v":" "},null,null,null,null,null,null,null,null,null,null,null,null,null,null,null,null,null,null,null,null,null,0,{"$f":"IF(NOT(ISBLANK(F229)),LOOKUP(F229,WKNrListe,Übersicht!E$7:E$77),0)","v":0},""]
[null,null,null,null,null,null,{"$f":"IF(ISERROR(MATCH(F230,WKNrListe_Einzel,0)),\"\",LOOKUP(F230,WKNrListe_Einzel,Übersicht!$B$7:$B$62))","v":""},null,{"$f":"IF(ISBLANK(H230),\" \",IF(LOOKUP(H230,MannschaftsNrListe,Mannschaften!B$4:B$53)<>0,LOOKUP(H230,MannschaftsNrListe,Mannschaften!B$4:B$53),\"\"))","v":" "},null,null,null,null,null,null,null,null,null,null,null,null,null,null,null,null,null,null,null,null,null,0,{"$f":"IF(NOT(ISBLANK(F230)),LOOKUP(F230,WKNrListe,Übersicht!E$7:E$77),0)","v":0},""]
[null,null,null,null,null,null,{"$f":"IF(ISERROR(MATCH(F231,WKNrListe_Einzel,0)),\"\",LOOKUP(F231,WKNrListe_Einzel,Übersicht!$B$7:$B$62))","v":""},null,{"$f":"IF(ISBLANK(H231),\" \",IF(LOOKUP(H231,MannschaftsNrListe,Mannschaften!B$4:B$53)<>0,LOOKUP(H231,MannschaftsNrListe,Mannschaften!B$4:B$53),\"\"))","v":" "},null,null,null,null,null,null,null,null,null,null,null,null,null,null,null,null,null,null,null,null,null,0,{"$f":"IF(NOT(ISBLANK(F231)),LOOKUP(F231,WKNrListe,Übersicht!E$7:E$77),0)","v":0},""]
[null,null,null,null,null,null,{"$f":"IF(ISERROR(MATCH(F232,WKNrListe_Einzel,0)),\"\",LOOKUP(F232,WKNrListe_Einzel,Übersicht!$B$7:$B$62))","v":""},null,{"$f":"IF(ISBLANK(H232),\" \",IF(LOOKUP(H232,MannschaftsNrListe,Mannschaften!B$4:B$53)<>0,LOOKUP(H232,MannschaftsNrListe,Mannschaften!B$4:B$53),\"\"))","v":" "},null,null,null,null,null,null,null,null,null,null,null,null,null,null,null,null,null,null,null,null,null,0,{"$f":"IF(NOT(ISBLANK(F232)),LOOKUP(F232,WKNrListe,Übersicht!E$7:E$77),0)","v":0},""]
[null,null,null,null,null,null,{"$f":"IF(ISERROR(MATCH(F233,WKNrListe_Einzel,0)),\"\",LOOKUP(F233,WKNrListe_Einzel,Übersicht!$B$7:$B$62))","v":""},null,{"$f":"IF(ISBLANK(H233),\" \",IF(LOOKUP(H233,MannschaftsNrListe,Mannschaften!B$4:B$53)<>0,LOOKUP(H233,MannschaftsNrListe,Mannschaften!B$4:B$53),\"\"))","v":" "},null,null,null,null,null,null,null,null,null,null,null,null,null,null,null,null,null,null,null,null,null,0,{"$f":"IF(NOT(ISBLANK(F233)),LOOKUP(F233,WKNrListe,Übersicht!E$7:E$77),0)","v":0},""]
[null,null,null,null,null,null,{"$f":"IF(ISERROR(MATCH(F234,WKNrListe_Einzel,0)),\"\",LOOKUP(F234,WKNrListe_Einzel,Übersicht!$B$7:$B$62))","v":""},null,{"$f":"IF(ISBLANK(H234),\" \",IF(LOOKUP(H234,MannschaftsNrListe,Mannschaften!B$4:B$53)<>0,LOOKUP(H234,MannschaftsNrListe,Mannschaften!B$4:B$53),\"\"))","v":" "},null,null,null,null,null,null,null,null,null,null,null,null,null,null,null,null,null,null,null,null,null,0,{"$f":"IF(NOT(ISBLANK(F234)),LOOKUP(F234,WKNrListe,Übersicht!E$7:E$77),0)","v":0},""]
[null,null,null,null,null,null,{"$f":"IF(ISERROR(MATCH(F235,WKNrListe_Einzel,0)),\"\",LOOKUP(F235,WKNrListe_Einzel,Übersicht!$B$7:$B$62))","v":""},null,{"$f":"IF(ISBLANK(H235),\" \",IF(LOOKUP(H235,MannschaftsNrListe,Mannschaften!B$4:B$53)<>0,LOOKUP(H235,MannschaftsNrListe,Mannschaften!B$4:B$53),\"\"))","v":" "},null,null,null,null,null,null,null,null,null,null,null,null,null,null,null,null,null,null,null,null,null,0,{"$f":"IF(NOT(ISBLANK(F235)),LOOKUP(F235,WKNrListe,Übersicht!E$7:E$77),0)","v":0},""]
[null,null,null,null,null,null,{"$f":"IF(ISERROR(MATCH(F236,WKNrListe_Einzel,0)),\"\",LOOKUP(F236,WKNrListe_Einzel,Übersicht!$B$7:$B$62))","v":""},null,{"$f":"IF(ISBLANK(H236),\" \",IF(LOOKUP(H236,MannschaftsNrListe,Mannschaften!B$4:B$53)<>0,LOOKUP(H236,MannschaftsNrListe,Mannschaften!B$4:B$53),\"\"))","v":" "},null,null,null,null,null,null,null,null,null,null,null,null,null,null,null,null,null,null,null,null,null,0,{"$f":"IF(NOT(ISBLANK(F236)),LOOKUP(F236,WKNrListe,Übersicht!E$7:E$77),0)","v":0},""]
[null,null,null,null,null,null,{"$f":"IF(ISERROR(MATCH(F237,WKNrListe_Einzel,0)),\"\",LOOKUP(F237,WKNrListe_Einzel,Übersicht!$B$7:$B$62))","v":""},null,{"$f":"IF(ISBLANK(H237),\" \",IF(LOOKUP(H237,MannschaftsNrListe,Mannschaften!B$4:B$53)<>0,LOOKUP(H237,MannschaftsNrListe,Mannschaften!B$4:B$53),\"\"))","v":" "},null,null,null,null,null,null,null,null,null,null,null,null,null,null,null,null,null,null,null,null,null,0,{"$f":"IF(NOT(ISBLANK(F237)),LOOKUP(F237,WKNrListe,Übersicht!E$7:E$77),0)","v":0},""]
[null,null,null,null,null,null,{"$f":"IF(ISERROR(MATCH(F238,WKNrListe_Einzel,0)),\"\",LOOKUP(F238,WKNrListe_Einzel,Übersicht!$B$7:$B$62))","v":""},null,{"$f":"IF(ISBLANK(H238),\" \",IF(LOOKUP(H238,MannschaftsNrListe,Mannschaften!B$4:B$53)<>0,LOOKUP(H238,MannschaftsNrListe,Mannschaften!B$4:B$53),\"\"))","v":" "},null,null,null,null,null,null,null,null,null,null,null,null,null,null,null,null,null,null,null,null,null,0,{"$f":"IF(NOT(ISBLANK(F238)),LOOKUP(F238,WKNrListe,Übersicht!E$7:E$77),0)","v":0},""]
[null,null,null,null,null,null,{"$f":"IF(ISERROR(MATCH(F239,WKNrListe_Einzel,0)),\"\",LOOKUP(F239,WKNrListe_Einzel,Übersicht!$B$7:$B$62))","v":""},null,{"$f":"IF(ISBLANK(H239),\" \",IF(LOOKUP(H239,MannschaftsNrListe,Mannschaften!B$4:B$53)<>0,LOOKUP(H239,MannschaftsNrListe,Mannschaften!B$4:B$53),\"\"))","v":" "},null,null,null,null,null,null,null,null,null,null,null,null,null,null,null,null,null,null,null,null,null,0,{"$f":"IF(NOT(ISBLANK(F239)),LOOKUP(F239,WKNrListe,Übersicht!E$7:E$77),0)","v":0},""]
[null,null,null,null,null,null,{"$f":"IF(ISERROR(MATCH(F240,WKNrListe_Einzel,0)),\"\",LOOKUP(F240,WKNrListe_Einzel,Übersicht!$B$7:$B$62))","v":""},null,{"$f":"IF(ISBLANK(H240),\" \",IF(LOOKUP(H240,MannschaftsNrListe,Mannschaften!B$4:B$53)<>0,LOOKUP(H240,MannschaftsNrListe,Mannschaften!B$4:B$53),\"\"))","v":" "},null,null,null,null,null,null,null,null,null,null,null,null,null,null,null,null,null,null,null,null,null,0,{"$f":"IF(NOT(ISBLANK(F240)),LOOKUP(F240,WKNrListe,Übersicht!E$7:E$77),0)","v":0},""]
[null,null,null,null,null,null,{"$f":"IF(ISERROR(MATCH(F241,WKNrListe_Einzel,0)),\"\",LOOKUP(F241,WKNrListe_Einzel,Übersicht!$B$7:$B$62))","v":""},null,{"$f":"IF(ISBLANK(H241),\" \",IF(LOOKUP(H241,MannschaftsNrListe,Mannschaften!B$4:B$53)<>0,LOOKUP(H241,MannschaftsNrListe,Mannschaften!B$4:B$53),\"\"))","v":" "},null,null,null,null,null,null,null,null,null,null,null,null,null,null,null,null,null,null,null,null,null,0,{"$f":"IF(NOT(ISBLANK(F241)),LOOKUP(F241,WKNrListe,Übersicht!E$7:E$77),0)","v":0},""]
[null,null,null,null,null,null,{"$f":"IF(ISERROR(MATCH(F242,WKNrListe_Einzel,0)),\"\",LOOKUP(F242,WKNrListe_Einzel,Übersicht!$B$7:$B$62))","v":""},null,{"$f":"IF(ISBLANK(H242),\" \",IF(LOOKUP(H242,MannschaftsNrListe,Mannschaften!B$4:B$53)<>0,LOOKUP(H242,MannschaftsNrListe,Mannschaften!B$4:B$53),\"\"))","v":" "},null,null,null,null,null,null,null,null,null,null,null,null,null,null,null,null,null,null,null,null,null,0,{"$f":"IF(NOT(ISBLANK(F242)),LOOKUP(F242,WKNrListe,Übersicht!E$7:E$77),0)","v":0},""]
[null,null,null,null,null,null,{"$f":"IF(ISERROR(MATCH(F243,WKNrListe_Einzel,0)),\"\",LOOKUP(F243,WKNrListe_Einzel,Übersicht!$B$7:$B$62))","v":""},null,{"$f":"IF(ISBLANK(H243),\" \",IF(LOOKUP(H243,MannschaftsNrListe,Mannschaften!B$4:B$53)<>0,LOOKUP(H243,MannschaftsNrListe,Mannschaften!B$4:B$53),\"\"))","v":" "},null,null,null,null,null,null,null,null,null,null,null,null,null,null,null,null,null,null,null,null,null,0,{"$f":"IF(NOT(ISBLANK(F243)),LOOKUP(F243,WKNrListe,Übersicht!E$7:E$77),0)","v":0},""]
[null,null,null,null,null,null,{"$f":"IF(ISERROR(MATCH(F244,WKNrListe_Einzel,0)),\"\",LOOKUP(F244,WKNrListe_Einzel,Übersicht!$B$7:$B$62))","v":""},null,{"$f":"IF(ISBLANK(H244),\" \",IF(LOOKUP(H244,MannschaftsNrListe,Mannschaften!B$4:B$53)<>0,LOOKUP(H244,MannschaftsNrListe,Mannschaften!B$4:B$53),\"\"))","v":" "},null,null,null,null,null,null,null,null,null,null,null,null,null,null,null,null,null,null,null,null,null,0,{"$f":"IF(NOT(ISBLANK(F244)),LOOKUP(F244,WKNrListe,Übersicht!E$7:E$77),0)","v":0},""]
[null,null,null,null,null,null,{"$f":"IF(ISERROR(MATCH(F245,WKNrListe_Einzel,0)),\"\",LOOKUP(F245,WKNrListe_Einzel,Übersicht!$B$7:$B$62))","v":""},null,{"$f":"IF(ISBLANK(H245),\" \",IF(LOOKUP(H245,MannschaftsNrListe,Mannschaften!B$4:B$53)<>0,LOOKUP(H245,MannschaftsNrListe,Mannschaften!B$4:B$53),\"\"))","v":" "},null,null,null,null,null,null,null,null,null,null,null,null,null,null,null,null,null,null,null,null,null,0,{"$f":"IF(NOT(ISBLANK(F245)),LOOKUP(F245,WKNrListe,Übersicht!E$7:E$77),0)","v":0},""]
[null,null,null,null,null,null,{"$f":"IF(ISERROR(MATCH(F246,WKNrListe_Einzel,0)),\"\",LOOKUP(F246,WKNrListe_Einzel,Übersicht!$B$7:$B$62))","v":""},null,{"$f":"IF(ISBLANK(H246),\" \",IF(LOOKUP(H246,MannschaftsNrListe,Mannschaften!B$4:B$53)<>0,LOOKUP(H246,MannschaftsNrListe,Mannschaften!B$4:B$53),\"\"))","v":" "},null,null,null,null,null,null,null,null,null,null,null,null,null,null,null,null,null,null,null,null,null,0,{"$f":"IF(NOT(ISBLANK(F246)),LOOKUP(F246,WKNrListe,Übersicht!E$7:E$77),0)","v":0},""]
[null,null,null,null,null,null,{"$f":"IF(ISERROR(MATCH(F247,WKNrListe_Einzel,0)),\"\",LOOKUP(F247,WKNrListe_Einzel,Übersicht!$B$7:$B$62))","v":""},null,{"$f":"IF(ISBLANK(H247),\" \",IF(LOOKUP(H247,MannschaftsNrListe,Mannschaften!B$4:B$53)<>0,LOOKUP(H247,MannschaftsNrListe,Mannschaften!B$4:B$53),\"\"))","v":" "},null,null,null,null,null,null,null,null,null,null,null,null,null,null,null,null,null,null,null,null,null,0,{"$f":"IF(NOT(ISBLANK(F247)),LOOKUP(F247,WKNrListe,Übersicht!E$7:E$77),0)","v":0},""]
[null,null,null,null,null,null,{"$f":"IF(ISERROR(MATCH(F248,WKNrListe_Einzel,0)),\"\",LOOKUP(F248,WKNrListe_Einzel,Übersicht!$B$7:$B$62))","v":""},null,{"$f":"IF(ISBLANK(H248),\" \",IF(LOOKUP(H248,MannschaftsNrListe,Mannschaften!B$4:B$53)<>0,LOOKUP(H248,MannschaftsNrListe,Mannschaften!B$4:B$53),\"\"))","v":" "},null,null,null,null,null,null,null,null,null,null,null,null,null,null,null,null,null,null,null,null,null,0,{"$f":"IF(NOT(ISBLANK(F248)),LOOKUP(F248,WKNrListe,Übersicht!E$7:E$77),0)","v":0},""]
[null,null,null,null,null,null,{"$f":"IF(ISERROR(MATCH(F249,WKNrListe_Einzel,0)),\"\",LOOKUP(F249,WKNrListe_Einzel,Übersicht!$B$7:$B$62))","v":""},null,{"$f":"IF(ISBLANK(H249),\" \",IF(LOOKUP(H249,MannschaftsNrListe,Mannschaften!B$4:B$53)<>0,LOOKUP(H249,MannschaftsNrListe,Mannschaften!B$4:B$53),\"\"))","v":" "},null,null,null,null,null,null,null,null,null,null,null,null,null,null,null,null,null,null,null,null,null,0,{"$f":"IF(NOT(ISBLANK(F249)),LOOKUP(F249,WKNrListe,Übersicht!E$7:E$77),0)","v":0},""]
[null,null,null,null,null,null,{"$f":"IF(ISERROR(MATCH(F250,WKNrListe_Einzel,0)),\"\",LOOKUP(F250,WKNrListe_Einzel,Übersicht!$B$7:$B$62))","v":""},null,{"$f":"IF(ISBLANK(H250),\" \",IF(LOOKUP(H250,MannschaftsNrListe,Mannschaften!B$4:B$53)<>0,LOOKUP(H250,MannschaftsNrListe,Mannschaften!B$4:B$53),\"\"))","v":" "},null,null,null,null,null,null,null,null,null,null,null,null,null,null,null,null,null,null,null,null,null,0,{"$f":"IF(NOT(ISBLANK(F250)),LOOKUP(F250,WKNrListe,Übersicht!E$7:E$77),0)","v":0},""]
[null,null,null,null,null,null,{"$f":"IF(ISERROR(MATCH(F251,WKNrListe_Einzel,0)),\"\",LOOKUP(F251,WKNrListe_Einzel,Übersicht!$B$7:$B$62))","v":""},null,{"$f":"IF(ISBLANK(H251),\" \",IF(LOOKUP(H251,MannschaftsNrListe,Mannschaften!B$4:B$53)<>0,LOOKUP(H251,MannschaftsNrListe,Mannschaften!B$4:B$53),\"\"))","v":" "},null,null,null,null,null,null,null,null,null,null,null,null,null,null,null,null,null,null,null,null,null,0,{"$f":"IF(NOT(ISBLANK(F251)),LOOKUP(F251,WKNrListe,Übersicht!E$7:E$77),0)","v":0},""]
[null,null,null,null,null,null,{"$f":"IF(ISERROR(MATCH(F252,WKNrListe_Einzel,0)),\"\",LOOKUP(F252,WKNrListe_Einzel,Übersicht!$B$7:$B$62))","v":""},null,{"$f":"IF(ISBLANK(H252),\" \",IF(LOOKUP(H252,MannschaftsNrListe,Mannschaften!B$4:B$53)<>0,LOOKUP(H252,MannschaftsNrListe,Mannschaften!B$4:B$53),\"\"))","v":" "},null,null,null,null,null,null,null,null,null,null,null,null,null,null,null,null,null,null,null,null,null,0,{"$f":"IF(NOT(ISBLANK(F252)),LOOKUP(F252,WKNrListe,Übersicht!E$7:E$77),0)","v":0},""]
[null,null,null,null,null,null,{"$f":"IF(ISERROR(MATCH(F253,WKNrListe_Einzel,0)),\"\",LOOKUP(F253,WKNrListe_Einzel,Übersicht!$B$7:$B$62))","v":""},null,{"$f":"IF(ISBLANK(H253),\" \",IF(LOOKUP(H253,MannschaftsNrListe,Mannschaften!B$4:B$53)<>0,LOOKUP(H253,MannschaftsNrListe,Mannschaften!B$4:B$53),\"\"))","v":" "},null,null,null,null,null,null,null,null,null,null,null,null,null,null,null,null,null,null,null,null,null,0,{"$f":"IF(NOT(ISBLANK(F253)),LOOKUP(F253,WKNrListe,Übersicht!E$7:E$77),0)","v":0},""]
[null,null,null,null,null,null,{"$f":"IF(ISERROR(MATCH(F254,WKNrListe_Einzel,0)),\"\",LOOKUP(F254,WKNrListe_Einzel,Übersicht!$B$7:$B$62))","v":""},null,{"$f":"IF(ISBLANK(H254),\" \",IF(LOOKUP(H254,MannschaftsNrListe,Mannschaften!B$4:B$53)<>0,LOOKUP(H254,MannschaftsNrListe,Mannschaften!B$4:B$53),\"\"))","v":" "},null,null,null,null,null,null,null,null,null,null,null,null,null,null,null,null,null,null,null,null,null,0,{"$f":"IF(NOT(ISBLANK(F254)),LOOKUP(F254,WKNrListe,Übersicht!E$7:E$77),0)","v":0},""]
[null,null,null,null,null,null,{"$f":"IF(ISERROR(MATCH(F255,WKNrListe_Einzel,0)),\"\",LOOKUP(F255,WKNrListe_Einzel,Übersicht!$B$7:$B$62))","v":""},null,{"$f":"IF(ISBLANK(H255),\" \",IF(LOOKUP(H255,MannschaftsNrListe,Mannschaften!B$4:B$53)<>0,LOOKUP(H255,MannschaftsNrListe,Mannschaften!B$4:B$53),\"\"))","v":" "},null,null,null,null,null,null,null,null,null,null,null,null,null,null,null,null,null,null,null,null,null,0,{"$f":"IF(NOT(ISBLANK(F255)),LOOKUP(F255,WKNrListe,Übersicht!E$7:E$77),0)","v":0},""]
[null,null,null,null,null,null,{"$f":"IF(ISERROR(MATCH(F256,WKNrListe_Einzel,0)),\"\",LOOKUP(F256,WKNrListe_Einzel,Übersicht!$B$7:$B$62))","v":""},null,{"$f":"IF(ISBLANK(H256),\" \",IF(LOOKUP(H256,MannschaftsNrListe,Mannschaften!B$4:B$53)<>0,LOOKUP(H256,MannschaftsNrListe,Mannschaften!B$4:B$53),\"\"))","v":" "},null,null,null,null,null,null,null,null,null,null,null,null,null,null,null,null,null,null,null,null,null,0,{"$f":"IF(NOT(ISBLANK(F256)),LOOKUP(F256,WKNrListe,Übersicht!E$7:E$77),0)","v":0},""]
[null,null,null,null,null,null,{"$f":"IF(ISERROR(MATCH(F257,WKNrListe_Einzel,0)),\"\",LOOKUP(F257,WKNrListe_Einzel,Übersicht!$B$7:$B$62))","v":""},null,{"$f":"IF(ISBLANK(H257),\" \",IF(LOOKUP(H257,MannschaftsNrListe,Mannschaften!B$4:B$53)<>0,LOOKUP(H257,MannschaftsNrListe,Mannschaften!B$4:B$53),\"\"))","v":" "},null,null,null,null,null,null,null,null,null,null,null,null,null,null,null,null,null,null,null,null,null,0,{"$f":"IF(NOT(ISBLANK(F257)),LOOKUP(F257,WKNrListe,Übersicht!E$7:E$77),0)","v":0},""]
[null,null,null,null,null,null,{"$f":"IF(ISERROR(MATCH(F258,WKNrListe_Einzel,0)),\"\",LOOKUP(F258,WKNrListe_Einzel,Übersicht!$B$7:$B$62))","v":""},null,{"$f":"IF(ISBLANK(H258),\" \",IF(LOOKUP(H258,MannschaftsNrListe,Mannschaften!B$4:B$53)<>0,LOOKUP(H258,MannschaftsNrListe,Mannschaften!B$4:B$53),\"\"))","v":" "},null,null,null,null,null,null,null,null,null,null,null,null,null,null,null,null,null,null,null,null,null,0,{"$f":"IF(NOT(ISBLANK(F258)),LOOKUP(F258,WKNrListe,Übersicht!E$7:E$77),0)","v":0},""]
[null,null,null,null,null,null,{"$f":"IF(ISERROR(MATCH(F259,WKNrListe_Einzel,0)),\"\",LOOKUP(F259,WKNrListe_Einzel,Übersicht!$B$7:$B$62))","v":""},null,{"$f":"IF(ISBLANK(H259),\" \",IF(LOOKUP(H259,MannschaftsNrListe,Mannschaften!B$4:B$53)<>0,LOOKUP(H259,MannschaftsNrListe,Mannschaften!B$4:B$53),\"\"))","v":" "},null,null,null,null,null,null,null,null,null,null,null,null,null,null,null,null,null,null,null,null,null,0,{"$f":"IF(NOT(ISBLANK(F259)),LOOKUP(F259,WKNrListe,Übersicht!E$7:E$77),0)","v":0},""]
[null,null,null,null,null,null,{"$f":"IF(ISERROR(MATCH(F260,WKNrListe_Einzel,0)),\"\",LOOKUP(F260,WKNrListe_Einzel,Übersicht!$B$7:$B$62))","v":""},null,{"$f":"IF(ISBLANK(H260),\" \",IF(LOOKUP(H260,MannschaftsNrListe,Mannschaften!B$4:B$53)<>0,LOOKUP(H260,MannschaftsNrListe,Mannschaften!B$4:B$53),\"\"))","v":" "},null,null,null,null,null,null,null,null,null,null,null,null,null,null,null,null,null,null,null,null,null,0,{"$f":"IF(NOT(ISBLANK(F260)),LOOKUP(F260,WKNrListe,Übersicht!E$7:E$77),0)","v":0},""]
[null,null,null,null,null,null,{"$f":"IF(ISERROR(MATCH(F261,WKNrListe_Einzel,0)),\"\",LOOKUP(F261,WKNrListe_Einzel,Übersicht!$B$7:$B$62))","v":""},null,{"$f":"IF(ISBLANK(H261),\" \",IF(LOOKUP(H261,MannschaftsNrListe,Mannschaften!B$4:B$53)<>0,LOOKUP(H261,MannschaftsNrListe,Mannschaften!B$4:B$53),\"\"))","v":" "},null,null,null,null,null,null,null,null,null,null,null,null,null,null,null,null,null,null,null,null,null,0,{"$f":"IF(NOT(ISBLANK(F261)),LOOKUP(F261,WKNrListe,Übersicht!E$7:E$77),0)","v":0},{"$f":"IF(\n AND(\n  OR(ISTEXT(A261), ISTEXT(B261), NOT(ISBLANK(E261)), NOT(ISBLANK(F261)), NOT(ISBLANK(H261))),\n  OR(ISBLANK(A261),ISBLANK(B261),AND(ISBLANK(E261),ISBLANK(F261),ISBLANK(H261)))\n ),\n \"unvollständig\",\n IF(\n  AND(\n   NOT(\n    ISBLANK(H261)\n    ),\n   NOT(ISNUMBER(I261))\n  ),\n  \"Seite Mannschaften ausfüllen!\",\n  IF(AF261>AE261,\"zu wenig Disziplinen gewählt\",IF(AE261>AF261,\"zu viele Disziplinen gewählt\",\"\"))\n )\n)","v":""}]
[null,null,null,null,null,null,{"$f":"IF(ISERROR(MATCH(F262,WKNrListe_Einzel,0)),\"\",LOOKUP(F262,WKNrListe_Einzel,Übersicht!$B$7:$B$62))","v":""},null,{"$f":"IF(ISBLANK(H262),\" \",IF(LOOKUP(H262,MannschaftsNrListe,Mannschaften!B$4:B$53)<>0,LOOKUP(H262,MannschaftsNrListe,Mannschaften!B$4:B$53),\"\"))","v":" "},null,null,null,null,null,null,null,null,null,null,null,null,null,null,null,null,null,null,null,null,null,{"$f":"COUNTIF(J262:AD262,\">''\")","v":0},{"$f":"IF(NOT(ISBLANK(F262)),LOOKUP(F262,WKNrListe,Übersicht!E$7:E$77),0)","v":0},""]
[null,null,null,null,null,null,{"$f":"IF(ISERROR(MATCH(F263,WKNrListe_Einzel,0)),\"\",LOOKUP(F263,WKNrListe_Einzel,Übersicht!$B$7:$B$62))","v":""},null,{"$f":"IF(ISBLANK(H263),\" \",IF(LOOKUP(H263,MannschaftsNrListe,Mannschaften!B$4:B$53)<>0,LOOKUP(H263,MannschaftsNrListe,Mannschaften!B$4:B$53),\"\"))","v":" "},null,null,null,null,null,null,null,null,null,null,null,null,null,null,null,null,null,null,null,null,null,0,{"$f":"IF(NOT(ISBLANK(F263)),LOOKUP(F263,WKNrListe,Übersicht!E$7:E$77),0)","v":0},""]
[null,null,null,null,null,null,{"$f":"IF(ISERROR(MATCH(F264,WKNrListe_Einzel,0)),\"\",LOOKUP(F264,WKNrListe_Einzel,Übersicht!$B$7:$B$62))","v":""},null,{"$f":"IF(ISBLANK(H264),\" \",IF(LOOKUP(H264,MannschaftsNrListe,Mannschaften!B$4:B$53)<>0,LOOKUP(H264,MannschaftsNrListe,Mannschaften!B$4:B$53),\"\"))","v":" "},null,null,null,null,null,null,null,null,null,null,null,null,null,null,null,null,null,null,null,null,null,0,{"$f":"IF(NOT(ISBLANK(F264)),LOOKUP(F264,WKNrListe,Übersicht!E$7:E$77),0)","v":0},""]
[null,null,null,null,null,null,{"$f":"IF(ISERROR(MATCH(F265,WKNrListe_Einzel,0)),\"\",LOOKUP(F265,WKNrListe_Einzel,Übersicht!$B$7:$B$62))","v":""},null,{"$f":"IF(ISBLANK(H265),\" \",IF(LOOKUP(H265,MannschaftsNrListe,Mannschaften!B$4:B$53)<>0,LOOKUP(H265,MannschaftsNrListe,Mannschaften!B$4:B$53),\"\"))","v":" "},null,null,null,null,null,null,null,null,null,null,null,null,null,null,null,null,null,null,null,null,null,0,{"$f":"IF(NOT(ISBLANK(F265)),LOOKUP(F265,WKNrListe,Übersicht!E$7:E$77),0)","v":0},""]
[null,null,null,null,null,null,{"$f":"IF(ISERROR(MATCH(F266,WKNrListe_Einzel,0)),\"\",LOOKUP(F266,WKNrListe_Einzel,Übersicht!$B$7:$B$62))","v":""},null,{"$f":"IF(ISBLANK(H266),\" \",IF(LOOKUP(H266,MannschaftsNrListe,Mannschaften!B$4:B$53)<>0,LOOKUP(H266,MannschaftsNrListe,Mannschaften!B$4:B$53),\"\"))","v":" "},null,null,null,null,null,null,null,null,null,null,null,null,null,null,null,null,null,null,null,null,null,0,{"$f":"IF(NOT(ISBLANK(F266)),LOOKUP(F266,WKNrListe,Übersicht!E$7:E$77),0)","v":0},""]
[null,null,null,null,null,null,{"$f":"IF(ISERROR(MATCH(F267,WKNrListe_Einzel,0)),\"\",LOOKUP(F267,WKNrListe_Einzel,Übersicht!$B$7:$B$62))","v":""},null,{"$f":"IF(ISBLANK(H267),\" \",IF(LOOKUP(H267,MannschaftsNrListe,Mannschaften!B$4:B$53)<>0,LOOKUP(H267,MannschaftsNrListe,Mannschaften!B$4:B$53),\"\"))","v":" "},null,null,null,null,null,null,null,null,null,null,null,null,null,null,null,null,null,null,null,null,null,0,{"$f":"IF(NOT(ISBLANK(F267)),LOOKUP(F267,WKNrListe,Übersicht!E$7:E$77),0)","v":0},""]
[null,null,null,null,null,null,{"$f":"IF(ISERROR(MATCH(F268,WKNrListe_Einzel,0)),\"\",LOOKUP(F268,WKNrListe_Einzel,Übersicht!$B$7:$B$62))","v":""},null,{"$f":"IF(ISBLANK(H268),\" \",IF(LOOKUP(H268,MannschaftsNrListe,Mannschaften!B$4:B$53)<>0,LOOKUP(H268,MannschaftsNrListe,Mannschaften!B$4:B$53),\"\"))","v":" "},null,null,null,null,null,null,null,null,null,null,null,null,null,null,null,null,null,null,null,null,null,0,{"$f":"IF(NOT(ISBLANK(F268)),LOOKUP(F268,WKNrListe,Übersicht!E$7:E$77),0)","v":0},""]
[null,null,null,null,null,null,{"$f":"IF(ISERROR(MATCH(F269,WKNrListe_Einzel,0)),\"\",LOOKUP(F269,WKNrListe_Einzel,Übersicht!$B$7:$B$62))","v":""},null,{"$f":"IF(ISBLANK(H269),\" \",IF(LOOKUP(H269,MannschaftsNrListe,Mannschaften!B$4:B$53)<>0,LOOKUP(H269,MannschaftsNrListe,Mannschaften!B$4:B$53),\"\"))","v":" "},null,null,null,null,null,null,null,null,null,null,null,null,null,null,null,null,null,null,null,null,null,0,{"$f":"IF(NOT(ISBLANK(F269)),LOOKUP(F269,WKNrListe,Übersicht!E$7:E$77),0)","v":0},""]
[null,null,null,null,null,null,{"$f":"IF(ISERROR(MATCH(F270,WKNrListe_Einzel,0)),\"\",LOOKUP(F270,WKNrListe_Einzel,Übersicht!$B$7:$B$62))","v":""},null,{"$f":"IF(ISBLANK(H270),\" \",IF(LOOKUP(H270,MannschaftsNrListe,Mannschaften!B$4:B$53)<>0,LOOKUP(H270,MannschaftsNrListe,Mannschaften!B$4:B$53),\"\"))","v":" "},null,null,null,null,null,null,null,null,null,null,null,null,null,null,null,null,null,null,null,null,null,0,{"$f":"IF(NOT(ISBLANK(F270)),LOOKUP(F270,WKNrListe,Übersicht!E$7:E$77),0)","v":0},""]
[null,null,null,null,null,null,{"$f":"IF(ISERROR(MATCH(F271,WKNrListe_Einzel,0)),\"\",LOOKUP(F271,WKNrListe_Einzel,Übersicht!$B$7:$B$62))","v":""},null,{"$f":"IF(ISBLANK(H271),\" \",IF(LOOKUP(H271,MannschaftsNrListe,Mannschaften!B$4:B$53)<>0,LOOKUP(H271,MannschaftsNrListe,Mannschaften!B$4:B$53),\"\"))","v":" "},null,null,null,null,null,null,null,null,null,null,null,null,null,null,null,null,null,null,null,null,null,0,{"$f":"IF(NOT(ISBLANK(F271)),LOOKUP(F271,WKNrListe,Übersicht!E$7:E$77),0)","v":0},""]
[null,null,null,null,null,null,{"$f":"IF(ISERROR(MATCH(F272,WKNrListe_Einzel,0)),\"\",LOOKUP(F272,WKNrListe_Einzel,Übersicht!$B$7:$B$62))","v":""},null,{"$f":"IF(ISBLANK(H272),\" \",IF(LOOKUP(H272,MannschaftsNrListe,Mannschaften!B$4:B$53)<>0,LOOKUP(H272,MannschaftsNrListe,Mannschaften!B$4:B$53),\"\"))","v":" "},null,null,null,null,null,null,null,null,null,null,null,null,null,null,null,null,null,null,null,null,null,0,{"$f":"IF(NOT(ISBLANK(F272)),LOOKUP(F272,WKNrListe,Übersicht!E$7:E$77),0)","v":0},""]
[null,null,null,null,null,null,{"$f":"IF(ISERROR(MATCH(F273,WKNrListe_Einzel,0)),\"\",LOOKUP(F273,WKNrListe_Einzel,Übersicht!$B$7:$B$62))","v":""},null,{"$f":"IF(ISBLANK(H273),\" \",IF(LOOKUP(H273,MannschaftsNrListe,Mannschaften!B$4:B$53)<>0,LOOKUP(H273,MannschaftsNrListe,Mannschaften!B$4:B$53),\"\"))","v":" "},null,null,null,null,null,null,null,null,null,null,null,null,null,null,null,null,null,null,null,null,null,0,{"$f":"IF(NOT(ISBLANK(F273)),LOOKUP(F273,WKNrListe,Übersicht!E$7:E$77),0)","v":0},""]
[null,null,null,null,null,null,{"$f":"IF(ISERROR(MATCH(F274,WKNrListe_Einzel,0)),\"\",LOOKUP(F274,WKNrListe_Einzel,Übersicht!$B$7:$B$62))","v":""},null,{"$f":"IF(ISBLANK(H274),\" \",IF(LOOKUP(H274,MannschaftsNrListe,Mannschaften!B$4:B$53)<>0,LOOKUP(H274,MannschaftsNrListe,Mannschaften!B$4:B$53),\"\"))","v":" "},null,null,null,null,null,null,null,null,null,null,null,null,null,null,null,null,null,null,null,null,null,0,{"$f":"IF(NOT(ISBLANK(F274)),LOOKUP(F274,WKNrListe,Übersicht!E$7:E$77),0)","v":0},""]
[null,null,null,null,null,null,{"$f":"IF(ISERROR(MATCH(F275,WKNrListe_Einzel,0)),\"\",LOOKUP(F275,WKNrListe_Einzel,Übersicht!$B$7:$B$62))","v":""},null,{"$f":"IF(ISBLANK(H275),\" \",IF(LOOKUP(H275,MannschaftsNrListe,Mannschaften!B$4:B$53)<>0,LOOKUP(H275,MannschaftsNrListe,Mannschaften!B$4:B$53),\"\"))","v":" "},null,null,null,null,null,null,null,null,null,null,null,null,null,null,null,null,null,null,null,null,null,0,{"$f":"IF(NOT(ISBLANK(F275)),LOOKUP(F275,WKNrListe,Übersicht!E$7:E$77),0)","v":0},""]
[null,null,null,null,null,null,{"$f":"IF(ISERROR(MATCH(F276,WKNrListe_Einzel,0)),\"\",LOOKUP(F276,WKNrListe_Einzel,Übersicht!$B$7:$B$62))","v":""},null,{"$f":"IF(ISBLANK(H276),\" \",IF(LOOKUP(H276,MannschaftsNrListe,Mannschaften!B$4:B$53)<>0,LOOKUP(H276,MannschaftsNrListe,Mannschaften!B$4:B$53),\"\"))","v":" "},null,null,null,null,null,null,null,null,null,null,null,null,null,null,null,null,null,null,null,null,null,0,{"$f":"IF(NOT(ISBLANK(F276)),LOOKUP(F276,WKNrListe,Übersicht!E$7:E$77),0)","v":0},""]
[null,null,null,null,null,null,{"$f":"IF(ISERROR(MATCH(F277,WKNrListe_Einzel,0)),\"\",LOOKUP(F277,WKNrListe_Einzel,Übersicht!$B$7:$B$62))","v":""},null,{"$f":"IF(ISBLANK(H277),\" \",IF(LOOKUP(H277,MannschaftsNrListe,Mannschaften!B$4:B$53)<>0,LOOKUP(H277,MannschaftsNrListe,Mannschaften!B$4:B$53),\"\"))","v":" "},null,null,null,null,null,null,null,null,null,null,null,null,null,null,null,null,null,null,null,null,null,0,{"$f":"IF(NOT(ISBLANK(F277)),LOOKUP(F277,WKNrListe,Übersicht!E$7:E$77),0)","v":0},""]
[null,null,null,null,null,null,{"$f":"IF(ISERROR(MATCH(F278,WKNrListe_Einzel,0)),\"\",LOOKUP(F278,WKNrListe_Einzel,Übersicht!$B$7:$B$62))","v":""},null,{"$f":"IF(ISBLANK(H278),\" \",IF(LOOKUP(H278,MannschaftsNrListe,Mannschaften!B$4:B$53)<>0,LOOKUP(H278,MannschaftsNrListe,Mannschaften!B$4:B$53),\"\"))","v":" "},null,null,null,null,null,null,null,null,null,null,null,null,null,null,null,null,null,null,null,null,null,0,{"$f":"IF(NOT(ISBLANK(F278)),LOOKUP(F278,WKNrListe,Übersicht!E$7:E$77),0)","v":0},""]
[null,null,null,null,null,null,{"$f":"IF(ISERROR(MATCH(F279,WKNrListe_Einzel,0)),\"\",LOOKUP(F279,WKNrListe_Einzel,Übersicht!$B$7:$B$62))","v":""},null,{"$f":"IF(ISBLANK(H279),\" \",IF(LOOKUP(H279,MannschaftsNrListe,Mannschaften!B$4:B$53)<>0,LOOKUP(H279,MannschaftsNrListe,Mannschaften!B$4:B$53),\"\"))","v":" "},null,null,null,null,null,null,null,null,null,null,null,null,null,null,null,null,null,null,null,null,null,0,{"$f":"IF(NOT(ISBLANK(F279)),LOOKUP(F279,WKNrListe,Übersicht!E$7:E$77),0)","v":0},""]
[null,null,null,null,null,null,{"$f":"IF(ISERROR(MATCH(F280,WKNrListe_Einzel,0)),\"\",LOOKUP(F280,WKNrListe_Einzel,Übersicht!$B$7:$B$62))","v":""},null,{"$f":"IF(ISBLANK(H280),\" \",IF(LOOKUP(H280,MannschaftsNrListe,Mannschaften!B$4:B$53)<>0,LOOKUP(H280,MannschaftsNrListe,Mannschaften!B$4:B$53),\"\"))","v":" "},null,null,null,null,null,null,null,null,null,null,null,null,null,null,null,null,null,null,null,null,null,0,{"$f":"IF(NOT(ISBLANK(F280)),LOOKUP(F280,WKNrListe,Übersicht!E$7:E$77),0)","v":0},""]
[null,null,null,null,null,null,{"$f":"IF(ISERROR(MATCH(F281,WKNrListe_Einzel,0)),\"\",LOOKUP(F281,WKNrListe_Einzel,Übersicht!$B$7:$B$62))","v":""},null,{"$f":"IF(ISBLANK(H281),\" \",IF(LOOKUP(H281,MannschaftsNrListe,Mannschaften!B$4:B$53)<>0,LOOKUP(H281,MannschaftsNrListe,Mannschaften!B$4:B$53),\"\"))","v":" "},null,null,null,null,null,null,null,null,null,null,null,null,null,null,null,null,null,null,null,null,null,0,{"$f":"IF(NOT(ISBLANK(F281)),LOOKUP(F281,WKNrListe,Übersicht!E$7:E$77),0)","v":0},""]
[null,null,null,null,null,null,{"$f":"IF(ISERROR(MATCH(F282,WKNrListe_Einzel,0)),\"\",LOOKUP(F282,WKNrListe_Einzel,Übersicht!$B$7:$B$62))","v":""},null,{"$f":"IF(ISBLANK(H282),\" \",IF(LOOKUP(H282,MannschaftsNrListe,Mannschaften!B$4:B$53)<>0,LOOKUP(H282,MannschaftsNrListe,Mannschaften!B$4:B$53),\"\"))","v":" "},null,null,null,null,null,null,null,null,null,null,null,null,null,null,null,null,null,null,null,null,null,0,{"$f":"IF(NOT(ISBLANK(F282)),LOOKUP(F282,WKNrListe,Übersicht!E$7:E$77),0)","v":0},""]
[null,null,null,null,null,null,{"$f":"IF(ISERROR(MATCH(F283,WKNrListe_Einzel,0)),\"\",LOOKUP(F283,WKNrListe_Einzel,Übersicht!$B$7:$B$62))","v":""},null,{"$f":"IF(ISBLANK(H283),\" \",IF(LOOKUP(H283,MannschaftsNrListe,Mannschaften!B$4:B$53)<>0,LOOKUP(H283,MannschaftsNrListe,Mannschaften!B$4:B$53),\"\"))","v":" "},null,null,null,null,null,null,null,null,null,null,null,null,null,null,null,null,null,null,null,null,null,0,{"$f":"IF(NOT(ISBLANK(F283)),LOOKUP(F283,WKNrListe,Übersicht!E$7:E$77),0)","v":0},""]
[null,null,null,null,null,null,{"$f":"IF(ISERROR(MATCH(F284,WKNrListe_Einzel,0)),\"\",LOOKUP(F284,WKNrListe_Einzel,Übersicht!$B$7:$B$62))","v":""},null,{"$f":"IF(ISBLANK(H284),\" \",IF(LOOKUP(H284,MannschaftsNrListe,Mannschaften!B$4:B$53)<>0,LOOKUP(H284,MannschaftsNrListe,Mannschaften!B$4:B$53),\"\"))","v":" "},null,null,null,null,null,null,null,null,null,null,null,null,null,null,null,null,null,null,null,null,null,0,{"$f":"IF(NOT(ISBLANK(F284)),LOOKUP(F284,WKNrListe,Übersicht!E$7:E$77),0)","v":0},""]
[null,null,null,null,null,null,{"$f":"IF(ISERROR(MATCH(F285,WKNrListe_Einzel,0)),\"\",LOOKUP(F285,WKNrListe_Einzel,Übersicht!$B$7:$B$62))","v":""},null,{"$f":"IF(ISBLANK(H285),\" \",IF(LOOKUP(H285,MannschaftsNrListe,Mannschaften!B$4:B$53)<>0,LOOKUP(H285,MannschaftsNrListe,Mannschaften!B$4:B$53),\"\"))","v":" "},null,null,null,null,null,null,null,null,null,null,null,null,null,null,null,null,null,null,null,null,null,0,{"$f":"IF(NOT(ISBLANK(F285)),LOOKUP(F285,WKNrListe,Übersicht!E$7:E$77),0)","v":0},""]
[null,null,null,null,null,null,{"$f":"IF(ISERROR(MATCH(F286,WKNrListe_Einzel,0)),\"\",LOOKUP(F286,WKNrListe_Einzel,Übersicht!$B$7:$B$62))","v":""},null,{"$f":"IF(ISBLANK(H286),\" \",IF(LOOKUP(H286,MannschaftsNrListe,Mannschaften!B$4:B$53)<>0,LOOKUP(H286,MannschaftsNrListe,Mannschaften!B$4:B$53),\"\"))","v":" "},null,null,null,null,null,null,null,null,null,null,null,null,null,null,null,null,null,null,null,null,null,0,{"$f":"IF(NOT(ISBLANK(F286)),LOOKUP(F286,WKNrListe,Übersicht!E$7:E$77),0)","v":0},""]
[null,null,null,null,null,null,{"$f":"IF(ISERROR(MATCH(F287,WKNrListe_Einzel,0)),\"\",LOOKUP(F287,WKNrListe_Einzel,Übersicht!$B$7:$B$62))","v":""},null,{"$f":"IF(ISBLANK(H287),\" \",IF(LOOKUP(H287,MannschaftsNrListe,Mannschaften!B$4:B$53)<>0,LOOKUP(H287,MannschaftsNrListe,Mannschaften!B$4:B$53),\"\"))","v":" "},null,null,null,null,null,null,null,null,null,null,null,null,null,null,null,null,null,null,null,null,null,0,{"$f":"IF(NOT(ISBLANK(F287)),LOOKUP(F287,WKNrListe,Übersicht!E$7:E$77),0)","v":0},""]
[null,null,null,null,null,null,{"$f":"IF(ISERROR(MATCH(F288,WKNrListe_Einzel,0)),\"\",LOOKUP(F288,WKNrListe_Einzel,Übersicht!$B$7:$B$62))","v":""},null,{"$f":"IF(ISBLANK(H288),\" \",IF(LOOKUP(H288,MannschaftsNrListe,Mannschaften!B$4:B$53)<>0,LOOKUP(H288,MannschaftsNrListe,Mannschaften!B$4:B$53),\"\"))","v":" "},null,null,null,null,null,null,null,null,null,null,null,null,null,null,null,null,null,null,null,null,null,0,{"$f":"IF(NOT(ISBLANK(F288)),LOOKUP(F288,WKNrListe,Übersicht!E$7:E$77),0)","v":0},""]
[null,null,null,null,null,null,{"$f":"IF(ISERROR(MATCH(F289,WKNrListe_Einzel,0)),\"\",LOOKUP(F289,WKNrListe_Einzel,Übersicht!$B$7:$B$62))","v":""},null,{"$f":"IF(ISBLANK(H289),\" \",IF(LOOKUP(H289,MannschaftsNrListe,Mannschaften!B$4:B$53)<>0,LOOKUP(H289,MannschaftsNrListe,Mannschaften!B$4:B$53),\"\"))","v":" "},null,null,null,null,null,null,null,null,null,null,null,null,null,null,null,null,null,null,null,null,null,0,{"$f":"IF(NOT(ISBLANK(F289)),LOOKUP(F289,WKNrListe,Übersicht!E$7:E$77),0)","v":0},""]
[null,null,null,null,null,null,{"$f":"IF(ISERROR(MATCH(F290,WKNrListe_Einzel,0)),\"\",LOOKUP(F290,WKNrListe_Einzel,Übersicht!$B$7:$B$62))","v":""},null,{"$f":"IF(ISBLANK(H290),\" \",IF(LOOKUP(H290,MannschaftsNrListe,Mannschaften!B$4:B$53)<>0,LOOKUP(H290,MannschaftsNrListe,Mannschaften!B$4:B$53),\"\"))","v":" "},null,null,null,null,null,null,null,null,null,null,null,null,null,null,null,null,null,null,null,null,null,0,{"$f":"IF(NOT(ISBLANK(F290)),LOOKUP(F290,WKNrListe,Übersicht!E$7:E$77),0)","v":0},""]
[null,null,null,null,null,null,{"$f":"IF(ISERROR(MATCH(F291,WKNrListe_Einzel,0)),\"\",LOOKUP(F291,WKNrListe_Einzel,Übersicht!$B$7:$B$62))","v":""},null,{"$f":"IF(ISBLANK(H291),\" \",IF(LOOKUP(H291,MannschaftsNrListe,Mannschaften!B$4:B$53)<>0,LOOKUP(H291,MannschaftsNrListe,Mannschaften!B$4:B$53),\"\"))","v":" "},null,null,null,null,null,null,null,null,null,null,null,null,null,null,null,null,null,null,null,null,null,0,{"$f":"IF(NOT(ISBLANK(F291)),LOOKUP(F291,WKNrListe,Übersicht!E$7:E$77),0)","v":0},""]
[null,null,null,null,null,null,{"$f":"IF(ISERROR(MATCH(F292,WKNrListe_Einzel,0)),\"\",LOOKUP(F292,WKNrListe_Einzel,Übersicht!$B$7:$B$62))","v":""},null,{"$f":"IF(ISBLANK(H292),\" \",IF(LOOKUP(H292,MannschaftsNrListe,Mannschaften!B$4:B$53)<>0,LOOKUP(H292,MannschaftsNrListe,Mannschaften!B$4:B$53),\"\"))","v":" "},null,null,null,null,null,null,null,null,null,null,null,null,null,null,null,null,null,null,null,null,null,0,{"$f":"IF(NOT(ISBLANK(F292)),LOOKUP(F292,WKNrListe,Übersicht!E$7:E$77),0)","v":0},""]
[null,null,null,null,null,null,{"$f":"IF(ISERROR(MATCH(F293,WKNrListe_Einzel,0)),\"\",LOOKUP(F293,WKNrListe_Einzel,Übersicht!$B$7:$B$62))","v":""},null,{"$f":"IF(ISBLANK(H293),\" \",IF(LOOKUP(H293,MannschaftsNrListe,Mannschaften!B$4:B$53)<>0,LOOKUP(H293,MannschaftsNrListe,Mannschaften!B$4:B$53),\"\"))","v":" "},null,null,null,null,null,null,null,null,null,null,null,null,null,null,null,null,null,null,null,null,null,0,{"$f":"IF(NOT(ISBLANK(F293)),LOOKUP(F293,WKNrListe,Übersicht!E$7:E$77),0)","v":0},""]
[null,null,null,null,null,null,{"$f":"IF(ISERROR(MATCH(F294,WKNrListe_Einzel,0)),\"\",LOOKUP(F294,WKNrListe_Einzel,Übersicht!$B$7:$B$62))","v":""},null,{"$f":"IF(ISBLANK(H294),\" \",IF(LOOKUP(H294,MannschaftsNrListe,Mannschaften!B$4:B$53)<>0,LOOKUP(H294,MannschaftsNrListe,Mannschaften!B$4:B$53),\"\"))","v":" "},null,null,null,null,null,null,null,null,null,null,null,null,null,null,null,null,null,null,null,null,null,0,{"$f":"IF(NOT(ISBLANK(F294)),LOOKUP(F294,WKNrListe,Übersicht!E$7:E$77),0)","v":0},""]
[null,null,null,null,null,null,{"$f":"IF(ISERROR(MATCH(F295,WKNrListe_Einzel,0)),\"\",LOOKUP(F295,WKNrListe_Einzel,Übersicht!$B$7:$B$62))","v":""},null,{"$f":"IF(ISBLANK(H295),\" \",IF(LOOKUP(H295,MannschaftsNrListe,Mannschaften!B$4:B$53)<>0,LOOKUP(H295,MannschaftsNrListe,Mannschaften!B$4:B$53),\"\"))","v":" "},null,null,null,null,null,null,null,null,null,null,null,null,null,null,null,null,null,null,null,null,null,0,{"$f":"IF(NOT(ISBLANK(F295)),LOOKUP(F295,WKNrListe,Übersicht!E$7:E$77),0)","v":0},""]
[null,null,null,null,null,null,{"$f":"IF(ISERROR(MATCH(F296,WKNrListe_Einzel,0)),\"\",LOOKUP(F296,WKNrListe_Einzel,Übersicht!$B$7:$B$62))","v":""},null,{"$f":"IF(ISBLANK(H296),\" \",IF(LOOKUP(H296,MannschaftsNrListe,Mannschaften!B$4:B$53)<>0,LOOKUP(H296,MannschaftsNrListe,Mannschaften!B$4:B$53),\"\"))","v":" "},null,null,null,null,null,null,null,null,null,null,null,null,null,null,null,null,null,null,null,null,null,0,{"$f":"IF(NOT(ISBLANK(F296)),LOOKUP(F296,WKNrListe,Übersicht!E$7:E$77),0)","v":0},""]
[null,null,null,null,null,null,{"$f":"IF(ISERROR(MATCH(F297,WKNrListe_Einzel,0)),\"\",LOOKUP(F297,WKNrListe_Einzel,Übersicht!$B$7:$B$62))","v":""},null,{"$f":"IF(ISBLANK(H297),\" \",IF(LOOKUP(H297,MannschaftsNrListe,Mannschaften!B$4:B$53)<>0,LOOKUP(H297,MannschaftsNrListe,Mannschaften!B$4:B$53),\"\"))","v":" "},null,null,null,null,null,null,null,null,null,null,null,null,null,null,null,null,null,null,null,null,null,0,{"$f":"IF(NOT(ISBLANK(F297)),LOOKUP(F297,WKNrListe,Übersicht!E$7:E$77),0)","v":0},""]
[null,null,null,null,null,null,{"$f":"IF(ISERROR(MATCH(F298,WKNrListe_Einzel,0)),\"\",LOOKUP(F298,WKNrListe_Einzel,Übersicht!$B$7:$B$62))","v":""},null,{"$f":"IF(ISBLANK(H298),\" \",IF(LOOKUP(H298,MannschaftsNrListe,Mannschaften!B$4:B$53)<>0,LOOKUP(H298,MannschaftsNrListe,Mannschaften!B$4:B$53),\"\"))","v":" "},null,null,null,null,null,null,null,null,null,null,null,null,null,null,null,null,null,null,null,null,null,0,{"$f":"IF(NOT(ISBLANK(F298)),LOOKUP(F298,WKNrListe,Übersicht!E$7:E$77),0)","v":0},""]
[null,null,null,null,null,null,{"$f":"IF(ISERROR(MATCH(F299,WKNrListe_Einzel,0)),\"\",LOOKUP(F299,WKNrListe_Einzel,Übersicht!$B$7:$B$62))","v":""},null,{"$f":"IF(ISBLANK(H299),\" \",IF(LOOKUP(H299,MannschaftsNrListe,Mannschaften!B$4:B$53)<>0,LOOKUP(H299,MannschaftsNrListe,Mannschaften!B$4:B$53),\"\"))","v":" "},null,null,null,null,null,null,null,null,null,null,null,null,null,null,null,null,null,null,null,null,null,0,{"$f":"IF(NOT(ISBLANK(F299)),LOOKUP(F299,WKNrListe,Übersicht!E$7:E$77),0)","v":0},""]
[null,null,null,null,null,null,{"$f":"IF(ISERROR(MATCH(F300,WKNrListe_Einzel,0)),\"\",LOOKUP(F300,WKNrListe_Einzel,Übersicht!$B$7:$B$62))","v":""},null,{"$f":"IF(ISBLANK(H300),\" \",IF(LOOKUP(H300,MannschaftsNrListe,Mannschaften!B$4:B$53)<>0,LOOKUP(H300,MannschaftsNrListe,Mannschaften!B$4:B$53),\"\"))","v":" "},null,null,null,null,null,null,null,null,null,null,null,null,null,null,null,null,null,null,null,null,null,0,{"$f":"IF(NOT(ISBLANK(F300)),LOOKUP(F300,WKNrListe,Übersicht!E$7:E$77),0)","v":0},""]
[null,null,null,null,null,null,{"$f":"IF(ISERROR(MATCH(F301,WKNrListe_Einzel,0)),\"\",LOOKUP(F301,WKNrListe_Einzel,Übersicht!$B$7:$B$62))","v":""},null,{"$f":"IF(ISBLANK(H301),\" \",IF(LOOKUP(H301,MannschaftsNrListe,Mannschaften!B$4:B$53)<>0,LOOKUP(H301,MannschaftsNrListe,Mannschaften!B$4:B$53),\"\"))","v":" "},null,null,null,null,null,null,null,null,null,null,null,null,null,null,null,null,null,null,null,null,null,0,{"$f":"IF(NOT(ISBLANK(F301)),LOOKUP(F301,WKNrListe,Übersicht!E$7:E$77),0)","v":0},""]
[null,null,null,null,null,null,{"$f":"IF(ISERROR(MATCH(F302,WKNrListe_Einzel,0)),\"\",LOOKUP(F302,WKNrListe_Einzel,Übersicht!$B$7:$B$62))","v":""},null,{"$f":"IF(ISBLANK(H302),\" \",IF(LOOKUP(H302,MannschaftsNrListe,Mannschaften!B$4:B$53)<>0,LOOKUP(H302,MannschaftsNrListe,Mannschaften!B$4:B$53),\"\"))","v":" "},null,null,null,null,null,null,null,null,null,null,null,null,null,null,null,null,null,null,null,null,null,0,{"$f":"IF(NOT(ISBLANK(F302)),LOOKUP(F302,WKNrListe,Übersicht!E$7:E$77),0)","v":0},""]
[null,null,null,null,null,null,{"$f":"IF(ISERROR(MATCH(F303,WKNrListe_Einzel,0)),\"\",LOOKUP(F303,WKNrListe_Einzel,Übersicht!$B$7:$B$62))","v":""},null,{"$f":"IF(ISBLANK(H303),\" \",IF(LOOKUP(H303,MannschaftsNrListe,Mannschaften!B$4:B$53)<>0,LOOKUP(H303,MannschaftsNrListe,Mannschaften!B$4:B$53),\"\"))","v":" "},null,null,null,null,null,null,null,null,null,null,null,null,null,null,null,null,null,null,null,null,null,0,{"$f":"IF(NOT(ISBLANK(F303)),LOOKUP(F303,WKNrListe,Übersicht!E$7:E$77),0)","v":0},""]
[null,null,null,null,null,null,{"$f":"IF(ISERROR(MATCH(F304,WKNrListe_Einzel,0)),\"\",LOOKUP(F304,WKNrListe_Einzel,Übersicht!$B$7:$B$62))","v":""},null,{"$f":"IF(ISBLANK(H304),\" \",IF(LOOKUP(H304,MannschaftsNrListe,Mannschaften!B$4:B$53)<>0,LOOKUP(H304,MannschaftsNrListe,Mannschaften!B$4:B$53),\"\"))","v":" "},null,null,null,null,null,null,null,null,null,null,null,null,null,null,null,null,null,null,null,null,null,0,{"$f":"IF(NOT(ISBLANK(F304)),LOOKUP(F304,WKNrListe,Übersicht!E$7:E$77),0)","v":0},""]
[null,null,null,null,null,null,{"$f":"IF(ISERROR(MATCH(F305,WKNrListe_Einzel,0)),\"\",LOOKUP(F305,WKNrListe_Einzel,Übersicht!$B$7:$B$62))","v":""},null,{"$f":"IF(ISBLANK(H305),\" \",IF(LOOKUP(H305,MannschaftsNrListe,Mannschaften!B$4:B$53)<>0,LOOKUP(H305,MannschaftsNrListe,Mannschaften!B$4:B$53),\"\"))","v":" "},null,null,null,null,null,null,null,null,null,null,null,null,null,null,null,null,null,null,null,null,null,0,{"$f":"IF(NOT(ISBLANK(F305)),LOOKUP(F305,WKNrListe,Übersicht!E$7:E$77),0)","v":0},""]
[null,null,null,null,null,null,{"$f":"IF(ISERROR(MATCH(F306,WKNrListe_Einzel,0)),\"\",LOOKUP(F306,WKNrListe_Einzel,Übersicht!$B$7:$B$62))","v":""},null,{"$f":"IF(ISBLANK(H306),\" \",IF(LOOKUP(H306,MannschaftsNrListe,Mannschaften!B$4:B$53)<>0,LOOKUP(H306,MannschaftsNrListe,Mannschaften!B$4:B$53),\"\"))","v":" "},null,null,null,null,null,null,null,null,null,null,null,null,null,null,null,null,null,null,null,null,null,0,{"$f":"IF(NOT(ISBLANK(F306)),LOOKUP(F306,WKNrListe,Übersicht!E$7:E$77),0)","v":0},""]
[null,null,null,null,null,null,{"$f":"IF(ISERROR(MATCH(F307,WKNrListe_Einzel,0)),\"\",LOOKUP(F307,WKNrListe_Einzel,Übersicht!$B$7:$B$62))","v":""},null,{"$f":"IF(ISBLANK(H307),\" \",IF(LOOKUP(H307,MannschaftsNrListe,Mannschaften!B$4:B$53)<>0,LOOKUP(H307,MannschaftsNrListe,Mannschaften!B$4:B$53),\"\"))","v":" "},null,null,null,null,null,null,null,null,null,null,null,null,null,null,null,null,null,null,null,null,null,0,{"$f":"IF(NOT(ISBLANK(F307)),LOOKUP(F307,WKNrListe,Übersicht!E$7:E$77),0)","v":0},""]
[null,null,null,null,null,null,{"$f":"IF(ISERROR(MATCH(F308,WKNrListe_Einzel,0)),\"\",LOOKUP(F308,WKNrListe_Einzel,Übersicht!$B$7:$B$62))","v":""},null,{"$f":"IF(ISBLANK(H308),\" \",IF(LOOKUP(H308,MannschaftsNrListe,Mannschaften!B$4:B$53)<>0,LOOKUP(H308,MannschaftsNrListe,Mannschaften!B$4:B$53),\"\"))","v":" "},null,null,null,null,null,null,null,null,null,null,null,null,null,null,null,null,null,null,null,null,null,0,{"$f":"IF(NOT(ISBLANK(F308)),LOOKUP(F308,WKNrListe,Übersicht!E$7:E$77),0)","v":0},""]
[null,null,null,null,null,null,{"$f":"IF(ISERROR(MATCH(F309,WKNrListe_Einzel,0)),\"\",LOOKUP(F309,WKNrListe_Einzel,Übersicht!$B$7:$B$62))","v":""},null,{"$f":"IF(ISBLANK(H309),\" \",IF(LOOKUP(H309,MannschaftsNrListe,Mannschaften!B$4:B$53)<>0,LOOKUP(H309,MannschaftsNrListe,Mannschaften!B$4:B$53),\"\"))","v":" "},null,null,null,null,null,null,null,null,null,null,null,null,null,null,null,null,null,null,null,null,null,0,{"$f":"IF(NOT(ISBLANK(F309)),LOOKUP(F309,WKNrListe,Übersicht!E$7:E$77),0)","v":0},""]
[null,null,null,null,null,null,{"$f":"IF(ISERROR(MATCH(F310,WKNrListe_Einzel,0)),\"\",LOOKUP(F310,WKNrListe_Einzel,Übersicht!$B$7:$B$62))","v":""},null,{"$f":"IF(ISBLANK(H310),\" \",IF(LOOKUP(H310,MannschaftsNrListe,Mannschaften!B$4:B$53)<>0,LOOKUP(H310,MannschaftsNrListe,Mannschaften!B$4:B$53),\"\"))","v":" "},null,null,null,null,null,null,null,null,null,null,null,null,null,null,null,null,null,null,null,null,null,0,{"$f":"IF(NOT(ISBLANK(F310)),LOOKUP(F310,WKNrListe,Übersicht!E$7:E$77),0)","v":0},""]
[null,null,null,null,null,null,{"$f":"IF(ISERROR(MATCH(F311,WKNrListe_Einzel,0)),\"\",LOOKUP(F311,WKNrListe_Einzel,Übersicht!$B$7:$B$62))","v":""},null,{"$f":"IF(ISBLANK(H311),\" \",IF(LOOKUP(H311,MannschaftsNrListe,Mannschaften!B$4:B$53)<>0,LOOKUP(H311,MannschaftsNrListe,Mannschaften!B$4:B$53),\"\"))","v":" "},null,null,null,null,null,null,null,null,null,null,null,null,null,null,null,null,null,null,null,null,null,0,{"$f":"IF(NOT(ISBLANK(F311)),LOOKUP(F311,WKNrListe,Übersicht!E$7:E$77),0)","v":0},""]
[null,null,null,null,null,null,{"$f":"IF(ISERROR(MATCH(F312,WKNrListe_Einzel,0)),\"\",LOOKUP(F312,WKNrListe_Einzel,Übersicht!$B$7:$B$62))","v":""},null,{"$f":"IF(ISBLANK(H312),\" \",IF(LOOKUP(H312,MannschaftsNrListe,Mannschaften!B$4:B$53)<>0,LOOKUP(H312,MannschaftsNrListe,Mannschaften!B$4:B$53),\"\"))","v":" "},null,null,null,null,null,null,null,null,null,null,null,null,null,null,null,null,null,null,null,null,null,0,{"$f":"IF(NOT(ISBLANK(F312)),LOOKUP(F312,WKNrListe,Übersicht!E$7:E$77),0)","v":0},""]
[null,null,null,null,null,null,{"$f":"IF(ISERROR(MATCH(F313,WKNrListe_Einzel,0)),\"\",LOOKUP(F313,WKNrListe_Einzel,Übersicht!$B$7:$B$62))","v":""},null,{"$f":"IF(ISBLANK(H313),\" \",IF(LOOKUP(H313,MannschaftsNrListe,Mannschaften!B$4:B$53)<>0,LOOKUP(H313,MannschaftsNrListe,Mannschaften!B$4:B$53),\"\"))","v":" "},null,null,null,null,null,null,null,null,null,null,null,null,null,null,null,null,null,null,null,null,null,0,{"$f":"IF(NOT(ISBLANK(F313)),LOOKUP(F313,WKNrListe,Übersicht!E$7:E$77),0)","v":0},""]
[null,null,null,null,null,null,{"$f":"IF(ISERROR(MATCH(F314,WKNrListe_Einzel,0)),\"\",LOOKUP(F314,WKNrListe_Einzel,Übersicht!$B$7:$B$62))","v":""},null,{"$f":"IF(ISBLANK(H314),\" \",IF(LOOKUP(H314,MannschaftsNrListe,Mannschaften!B$4:B$53)<>0,LOOKUP(H314,MannschaftsNrListe,Mannschaften!B$4:B$53),\"\"))","v":" "},null,null,null,null,null,null,null,null,null,null,null,null,null,null,null,null,null,null,null,null,null,0,{"$f":"IF(NOT(ISBLANK(F314)),LOOKUP(F314,WKNrListe,Übersicht!E$7:E$77),0)","v":0},""]
[null,null,null,null,null,null,{"$f":"IF(ISERROR(MATCH(F315,WKNrListe_Einzel,0)),\"\",LOOKUP(F315,WKNrListe_Einzel,Übersicht!$B$7:$B$62))","v":""},null,{"$f":"IF(ISBLANK(H315),\" \",IF(LOOKUP(H315,MannschaftsNrListe,Mannschaften!B$4:B$53)<>0,LOOKUP(H315,MannschaftsNrListe,Mannschaften!B$4:B$53),\"\"))","v":" "},null,null,null,null,null,null,null,null,null,null,null,null,null,null,null,null,null,null,null,null,null,0,{"$f":"IF(NOT(ISBLANK(F315)),LOOKUP(F315,WKNrListe,Übersicht!E$7:E$77),0)","v":0},""]
[null,null,null,null,null,null,{"$f":"IF(ISERROR(MATCH(F316,WKNrListe_Einzel,0)),\"\",LOOKUP(F316,WKNrListe_Einzel,Übersicht!$B$7:$B$62))","v":""},null,{"$f":"IF(ISBLANK(H316),\" \",IF(LOOKUP(H316,MannschaftsNrListe,Mannschaften!B$4:B$53)<>0,LOOKUP(H316,MannschaftsNrListe,Mannschaften!B$4:B$53),\"\"))","v":" "},null,null,null,null,null,null,null,null,null,null,null,null,null,null,null,null,null,null,null,null,null,0,{"$f":"IF(NOT(ISBLANK(F316)),LOOKUP(F316,WKNrListe,Übersicht!E$7:E$77),0)","v":0},""]
[null,null,null,null,null,null,{"$f":"IF(ISERROR(MATCH(F317,WKNrListe_Einzel,0)),\"\",LOOKUP(F317,WKNrListe_Einzel,Übersicht!$B$7:$B$62))","v":""},null,{"$f":"IF(ISBLANK(H317),\" \",IF(LOOKUP(H317,MannschaftsNrListe,Mannschaften!B$4:B$53)<>0,LOOKUP(H317,MannschaftsNrListe,Mannschaften!B$4:B$53),\"\"))","v":" "},null,null,null,null,null,null,null,null,null,null,null,null,null,null,null,null,null,null,null,null,null,0,{"$f":"IF(NOT(ISBLANK(F317)),LOOKUP(F317,WKNrListe,Übersicht!E$7:E$77),0)","v":0},""]
[null,null,null,null,null,null,{"$f":"IF(ISERROR(MATCH(F318,WKNrListe_Einzel,0)),\"\",LOOKUP(F318,WKNrListe_Einzel,Übersicht!$B$7:$B$62))","v":""},null,{"$f":"IF(ISBLANK(H318),\" \",IF(LOOKUP(H318,MannschaftsNrListe,Mannschaften!B$4:B$53)<>0,LOOKUP(H318,MannschaftsNrListe,Mannschaften!B$4:B$53),\"\"))","v":" "},null,null,null,null,null,null,null,null,null,null,null,null,null,null,null,null,null,null,null,null,null,0,{"$f":"IF(NOT(ISBLANK(F318)),LOOKUP(F318,WKNrListe,Übersicht!E$7:E$77),0)","v":0},""]
[null,null,null,null,null,null,{"$f":"IF(ISERROR(MATCH(F319,WKNrListe_Einzel,0)),\"\",LOOKUP(F319,WKNrListe_Einzel,Übersicht!$B$7:$B$62))","v":""},null,{"$f":"IF(ISBLANK(H319),\" \",IF(LOOKUP(H319,MannschaftsNrListe,Mannschaften!B$4:B$53)<>0,LOOKUP(H319,MannschaftsNrListe,Mannschaften!B$4:B$53),\"\"))","v":" "},null,null,null,null,null,null,null,null,null,null,null,null,null,null,null,null,null,null,null,null,null,0,{"$f":"IF(NOT(ISBLANK(F319)),LOOKUP(F319,WKNrListe,Übersicht!E$7:E$77),0)","v":0},""]
[null,null,null,null,null,null,{"$f":"IF(ISERROR(MATCH(F320,WKNrListe_Einzel,0)),\"\",LOOKUP(F320,WKNrListe_Einzel,Übersicht!$B$7:$B$62))","v":""},null,{"$f":"IF(ISBLANK(H320),\" \",IF(LOOKUP(H320,MannschaftsNrListe,Mannschaften!B$4:B$53)<>0,LOOKUP(H320,MannschaftsNrListe,Mannschaften!B$4:B$53),\"\"))","v":" "},null,null,null,null,null,null,null,null,null,null,null,null,null,null,null,null,null,null,null,null,null,0,{"$f":"IF(NOT(ISBLANK(F320)),LOOKUP(F320,WKNrListe,Übersicht!E$7:E$77),0)","v":0},""]
[null,null,null,null,null,null,{"$f":"IF(ISERROR(MATCH(F321,WKNrListe_Einzel,0)),\"\",LOOKUP(F321,WKNrListe_Einzel,Übersicht!$B$7:$B$62))","v":""},null,{"$f":"IF(ISBLANK(H321),\" \",IF(LOOKUP(H321,MannschaftsNrListe,Mannschaften!B$4:B$53)<>0,LOOKUP(H321,MannschaftsNrListe,Mannschaften!B$4:B$53),\"\"))","v":" "},null,null,null,null,null,null,null,null,null,null,null,null,null,null,null,null,null,null,null,null,null,0,{"$f":"IF(NOT(ISBLANK(F321)),LOOKUP(F321,WKNrListe,Übersicht!E$7:E$77),0)","v":0},""]
[null,null,null,null,null,null,{"$f":"IF(ISERROR(MATCH(F322,WKNrListe_Einzel,0)),\"\",LOOKUP(F322,WKNrListe_Einzel,Übersicht!$B$7:$B$62))","v":""},null,{"$f":"IF(ISBLANK(H322),\" \",IF(LOOKUP(H322,MannschaftsNrListe,Mannschaften!B$4:B$53)<>0,LOOKUP(H322,MannschaftsNrListe,Mannschaften!B$4:B$53),\"\"))","v":" "},null,null,null,null,null,null,null,null,null,null,null,null,null,null,null,null,null,null,null,null,null,0,{"$f":"IF(NOT(ISBLANK(F322)),LOOKUP(F322,WKNrListe,Übersicht!E$7:E$77),0)","v":0},""]
[null,null,null,null,null,null,{"$f":"IF(ISERROR(MATCH(F323,WKNrListe_Einzel,0)),\"\",LOOKUP(F323,WKNrListe_Einzel,Übersicht!$B$7:$B$62))","v":""},null,{"$f":"IF(ISBLANK(H323),\" \",IF(LOOKUP(H323,MannschaftsNrListe,Mannschaften!B$4:B$53)<>0,LOOKUP(H323,MannschaftsNrListe,Mannschaften!B$4:B$53),\"\"))","v":" "},null,null,null,null,null,null,null,null,null,null,null,null,null,null,null,null,null,null,null,null,null,0,{"$f":"IF(NOT(ISBLANK(F323)),LOOKUP(F323,WKNrListe,Übersicht!E$7:E$77),0)","v":0},""]
[null,null,null,null,null,null,{"$f":"IF(ISERROR(MATCH(F324,WKNrListe_Einzel,0)),\"\",LOOKUP(F324,WKNrListe_Einzel,Übersicht!$B$7:$B$62))","v":""},null,{"$f":"IF(ISBLANK(H324),\" \",IF(LOOKUP(H324,MannschaftsNrListe,Mannschaften!B$4:B$53)<>0,LOOKUP(H324,MannschaftsNrListe,Mannschaften!B$4:B$53),\"\"))","v":" "},null,null,null,null,null,null,null,null,null,null,null,null,null,null,null,null,null,null,null,null,null,0,{"$f":"IF(NOT(ISBLANK(F324)),LOOKUP(F324,WKNrListe,Übersicht!E$7:E$77),0)","v":0},""]
[null,null,null,null,null,null,{"$f":"IF(ISERROR(MATCH(F325,WKNrListe_Einzel,0)),\"\",LOOKUP(F325,WKNrListe_Einzel,Übersicht!$B$7:$B$62))","v":""},null,{"$f":"IF(ISBLANK(H325),\" \",IF(LOOKUP(H325,MannschaftsNrListe,Mannschaften!B$4:B$53)<>0,LOOKUP(H325,MannschaftsNrListe,Mannschaften!B$4:B$53),\"\"))","v":" "},null,null,null,null,null,null,null,null,null,null,null,null,null,null,null,null,null,null,null,null,null,0,{"$f":"IF(NOT(ISBLANK(F325)),LOOKUP(F325,WKNrListe,Übersicht!E$7:E$77),0)","v":0},{"$f":"IF(\n AND(\n  OR(ISTEXT(A325), ISTEXT(B325), NOT(ISBLANK(E325)), NOT(ISBLANK(F325)), NOT(ISBLANK(H325))),\n  OR(ISBLANK(A325),ISBLANK(B325),AND(ISBLANK(E325),ISBLANK(F325),ISBLANK(H325)))\n ),\n \"unvollständig\",\n IF(\n  AND(\n   NOT(\n    ISBLANK(H325)\n    ),\n   NOT(ISNUMBER(I325))\n  ),\n  \"Seite Mannschaften ausfüllen!\",\n  IF(AF325>AE325,\"zu wenig Disziplinen gewählt\",IF(AE325>AF325,\"zu viele Disziplinen gewählt\",\"\"))\n )\n)","v":""}]
[null,null,null,null,null,null,{"$f":"IF(ISERROR(MATCH(F326,WKNrListe_Einzel,0)),\"\",LOOKUP(F326,WKNrListe_Einzel,Übersicht!$B$7:$B$62))","v":""},null,{"$f":"IF(ISBLANK(H326),\" \",IF(LOOKUP(H326,MannschaftsNrListe,Mannschaften!B$4:B$53)<>0,LOOKUP(H326,MannschaftsNrListe,Mannschaften!B$4:B$53),\"\"))","v":" "},null,null,null,null,null,null,null,null,null,null,null,null,null,null,null,null,null,null,null,null,null,{"$f":"COUNTIF(J326:AD326,\">''\")","v":0},{"$f":"IF(NOT(ISBLANK(F326)),LOOKUP(F326,WKNrListe,Übersicht!E$7:E$77),0)","v":0},""]
[null,null,null,null,null,null,{"$f":"IF(ISERROR(MATCH(F327,WKNrListe_Einzel,0)),\"\",LOOKUP(F327,WKNrListe_Einzel,Übersicht!$B$7:$B$62))","v":""},null,{"$f":"IF(ISBLANK(H327),\" \",IF(LOOKUP(H327,MannschaftsNrListe,Mannschaften!B$4:B$53)<>0,LOOKUP(H327,MannschaftsNrListe,Mannschaften!B$4:B$53),\"\"))","v":" "},null,null,null,null,null,null,null,null,null,null,null,null,null,null,null,null,null,null,null,null,null,0,{"$f":"IF(NOT(ISBLANK(F327)),LOOKUP(F327,WKNrListe,Übersicht!E$7:E$77),0)","v":0},""]
[null,null,null,null,null,null,{"$f":"IF(ISERROR(MATCH(F328,WKNrListe_Einzel,0)),\"\",LOOKUP(F328,WKNrListe_Einzel,Übersicht!$B$7:$B$62))","v":""},null,{"$f":"IF(ISBLANK(H328),\" \",IF(LOOKUP(H328,MannschaftsNrListe,Mannschaften!B$4:B$53)<>0,LOOKUP(H328,MannschaftsNrListe,Mannschaften!B$4:B$53),\"\"))","v":" "},null,null,null,null,null,null,null,null,null,null,null,null,null,null,null,null,null,null,null,null,null,0,{"$f":"IF(NOT(ISBLANK(F328)),LOOKUP(F328,WKNrListe,Übersicht!E$7:E$77),0)","v":0},""]
[null,null,null,null,null,null,{"$f":"IF(ISERROR(MATCH(F329,WKNrListe_Einzel,0)),\"\",LOOKUP(F329,WKNrListe_Einzel,Übersicht!$B$7:$B$62))","v":""},null,{"$f":"IF(ISBLANK(H329),\" \",IF(LOOKUP(H329,MannschaftsNrListe,Mannschaften!B$4:B$53)<>0,LOOKUP(H329,MannschaftsNrListe,Mannschaften!B$4:B$53),\"\"))","v":" "},null,null,null,null,null,null,null,null,null,null,null,null,null,null,null,null,null,null,null,null,null,0,{"$f":"IF(NOT(ISBLANK(F329)),LOOKUP(F329,WKNrListe,Übersicht!E$7:E$77),0)","v":0},""]
[null,null,null,null,null,null,{"$f":"IF(ISERROR(MATCH(F330,WKNrListe_Einzel,0)),\"\",LOOKUP(F330,WKNrListe_Einzel,Übersicht!$B$7:$B$62))","v":""},null,{"$f":"IF(ISBLANK(H330),\" \",IF(LOOKUP(H330,MannschaftsNrListe,Mannschaften!B$4:B$53)<>0,LOOKUP(H330,MannschaftsNrListe,Mannschaften!B$4:B$53),\"\"))","v":" "},null,null,null,null,null,null,null,null,null,null,null,null,null,null,null,null,null,null,null,null,null,0,{"$f":"IF(NOT(ISBLANK(F330)),LOOKUP(F330,WKNrListe,Übersicht!E$7:E$77),0)","v":0},""]
[null,null,null,null,null,null,{"$f":"IF(ISERROR(MATCH(F331,WKNrListe_Einzel,0)),\"\",LOOKUP(F331,WKNrListe_Einzel,Übersicht!$B$7:$B$62))","v":""},null,{"$f":"IF(ISBLANK(H331),\" \",IF(LOOKUP(H331,MannschaftsNrListe,Mannschaften!B$4:B$53)<>0,LOOKUP(H331,MannschaftsNrListe,Mannschaften!B$4:B$53),\"\"))","v":" "},null,null,null,null,null,null,null,null,null,null,null,null,null,null,null,null,null,null,null,null,null,0,{"$f":"IF(NOT(ISBLANK(F331)),LOOKUP(F331,WKNrListe,Übersicht!E$7:E$77),0)","v":0},""]
[null,null,null,null,null,null,{"$f":"IF(ISERROR(MATCH(F332,WKNrListe_Einzel,0)),\"\",LOOKUP(F332,WKNrListe_Einzel,Übersicht!$B$7:$B$62))","v":""},null,{"$f":"IF(ISBLANK(H332),\" \",IF(LOOKUP(H332,MannschaftsNrListe,Mannschaften!B$4:B$53)<>0,LOOKUP(H332,MannschaftsNrListe,Mannschaften!B$4:B$53),\"\"))","v":" "},null,null,null,null,null,null,null,null,null,null,null,null,null,null,null,null,null,null,null,null,null,0,{"$f":"IF(NOT(ISBLANK(F332)),LOOKUP(F332,WKNrListe,Übersicht!E$7:E$77),0)","v":0},""]
[null,null,null,null,null,null,{"$f":"IF(ISERROR(MATCH(F333,WKNrListe_Einzel,0)),\"\",LOOKUP(F333,WKNrListe_Einzel,Übersicht!$B$7:$B$62))","v":""},null,{"$f":"IF(ISBLANK(H333),\" \",IF(LOOKUP(H333,MannschaftsNrListe,Mannschaften!B$4:B$53)<>0,LOOKUP(H333,MannschaftsNrListe,Mannschaften!B$4:B$53),\"\"))","v":" "},null,null,null,null,null,null,null,null,null,null,null,null,null,null,null,null,null,null,null,null,null,0,{"$f":"IF(NOT(ISBLANK(F333)),LOOKUP(F333,WKNrListe,Übersicht!E$7:E$77),0)","v":0},""]
[null,null,null,null,null,null,{"$f":"IF(ISERROR(MATCH(F334,WKNrListe_Einzel,0)),\"\",LOOKUP(F334,WKNrListe_Einzel,Übersicht!$B$7:$B$62))","v":""},null,{"$f":"IF(ISBLANK(H334),\" \",IF(LOOKUP(H334,MannschaftsNrListe,Mannschaften!B$4:B$53)<>0,LOOKUP(H334,MannschaftsNrListe,Mannschaften!B$4:B$53),\"\"))","v":" "},null,null,null,null,null,null,null,null,null,null,null,null,null,null,null,null,null,null,null,null,null,0,{"$f":"IF(NOT(ISBLANK(F334)),LOOKUP(F334,WKNrListe,Übersicht!E$7:E$77),0)","v":0},""]
[null,null,null,null,null,null,{"$f":"IF(ISERROR(MATCH(F335,WKNrListe_Einzel,0)),\"\",LOOKUP(F335,WKNrListe_Einzel,Übersicht!$B$7:$B$62))","v":""},null,{"$f":"IF(ISBLANK(H335),\" \",IF(LOOKUP(H335,MannschaftsNrListe,Mannschaften!B$4:B$53)<>0,LOOKUP(H335,MannschaftsNrListe,Mannschaften!B$4:B$53),\"\"))","v":" "},null,null,null,null,null,null,null,null,null,null,null,null,null,null,null,null,null,null,null,null,null,0,{"$f":"IF(NOT(ISBLANK(F335)),LOOKUP(F335,WKNrListe,Übersicht!E$7:E$77),0)","v":0},""]
[null,null,null,null,null,null,{"$f":"IF(ISERROR(MATCH(F336,WKNrListe_Einzel,0)),\"\",LOOKUP(F336,WKNrListe_Einzel,Übersicht!$B$7:$B$62))","v":""},null,{"$f":"IF(ISBLANK(H336),\" \",IF(LOOKUP(H336,MannschaftsNrListe,Mannschaften!B$4:B$53)<>0,LOOKUP(H336,MannschaftsNrListe,Mannschaften!B$4:B$53),\"\"))","v":" "},null,null,null,null,null,null,null,null,null,null,null,null,null,null,null,null,null,null,null,null,null,0,{"$f":"IF(NOT(ISBLANK(F336)),LOOKUP(F336,WKNrListe,Übersicht!E$7:E$77),0)","v":0},""]
[null,null,null,null,null,null,{"$f":"IF(ISERROR(MATCH(F337,WKNrListe_Einzel,0)),\"\",LOOKUP(F337,WKNrListe_Einzel,Übersicht!$B$7:$B$62))","v":""},null,{"$f":"IF(ISBLANK(H337),\" \",IF(LOOKUP(H337,MannschaftsNrListe,Mannschaften!B$4:B$53)<>0,LOOKUP(H337,MannschaftsNrListe,Mannschaften!B$4:B$53),\"\"))","v":" "},null,null,null,null,null,null,null,null,null,null,null,null,null,null,null,null,null,null,null,null,null,0,{"$f":"IF(NOT(ISBLANK(F337)),LOOKUP(F337,WKNrListe,Übersicht!E$7:E$77),0)","v":0},""]
[null,null,null,null,null,null,{"$f":"IF(ISERROR(MATCH(F338,WKNrListe_Einzel,0)),\"\",LOOKUP(F338,WKNrListe_Einzel,Übersicht!$B$7:$B$62))","v":""},null,{"$f":"IF(ISBLANK(H338),\" \",IF(LOOKUP(H338,MannschaftsNrListe,Mannschaften!B$4:B$53)<>0,LOOKUP(H338,MannschaftsNrListe,Mannschaften!B$4:B$53),\"\"))","v":" "},null,null,null,null,null,null,null,null,null,null,null,null,null,null,null,null,null,null,null,null,null,0,{"$f":"IF(NOT(ISBLANK(F338)),LOOKUP(F338,WKNrListe,Übersicht!E$7:E$77),0)","v":0},""]
[null,null,null,null,null,null,{"$f":"IF(ISERROR(MATCH(F339,WKNrListe_Einzel,0)),\"\",LOOKUP(F339,WKNrListe_Einzel,Übersicht!$B$7:$B$62))","v":""},null,{"$f":"IF(ISBLANK(H339),\" \",IF(LOOKUP(H339,MannschaftsNrListe,Mannschaften!B$4:B$53)<>0,LOOKUP(H339,MannschaftsNrListe,Mannschaften!B$4:B$53),\"\"))","v":" "},null,null,null,null,null,null,null,null,null,null,null,null,null,null,null,null,null,null,null,null,null,0,{"$f":"IF(NOT(ISBLANK(F339)),LOOKUP(F339,WKNrListe,Übersicht!E$7:E$77),0)","v":0},""]
[null,null,null,null,null,null,{"$f":"IF(ISERROR(MATCH(F340,WKNrListe_Einzel,0)),\"\",LOOKUP(F340,WKNrListe_Einzel,Übersicht!$B$7:$B$62))","v":""},null,{"$f":"IF(ISBLANK(H340),\" \",IF(LOOKUP(H340,MannschaftsNrListe,Mannschaften!B$4:B$53)<>0,LOOKUP(H340,MannschaftsNrListe,Mannschaften!B$4:B$53),\"\"))","v":" "},null,null,null,null,null,null,null,null,null,null,null,null,null,null,null,null,null,null,null,null,null,0,{"$f":"IF(NOT(ISBLANK(F340)),LOOKUP(F340,WKNrListe,Übersicht!E$7:E$77),0)","v":0},""]
[null,null,null,null,null,null,{"$f":"IF(ISERROR(MATCH(F341,WKNrListe_Einzel,0)),\"\",LOOKUP(F341,WKNrListe_Einzel,Übersicht!$B$7:$B$62))","v":""},null,{"$f":"IF(ISBLANK(H341),\" \",IF(LOOKUP(H341,MannschaftsNrListe,Mannschaften!B$4:B$53)<>0,LOOKUP(H341,MannschaftsNrListe,Mannschaften!B$4:B$53),\"\"))","v":" "},null,null,null,null,null,null,null,null,null,null,null,null,null,null,null,null,null,null,null,null,null,0,{"$f":"IF(NOT(ISBLANK(F341)),LOOKUP(F341,WKNrListe,Übersicht!E$7:E$77),0)","v":0},""]
[null,null,null,null,null,null,{"$f":"IF(ISERROR(MATCH(F342,WKNrListe_Einzel,0)),\"\",LOOKUP(F342,WKNrListe_Einzel,Übersicht!$B$7:$B$62))","v":""},null,{"$f":"IF(ISBLANK(H342),\" \",IF(LOOKUP(H342,MannschaftsNrListe,Mannschaften!B$4:B$53)<>0,LOOKUP(H342,MannschaftsNrListe,Mannschaften!B$4:B$53),\"\"))","v":" "},null,null,null,null,null,null,null,null,null,null,null,null,null,null,null,null,null,null,null,null,null,0,{"$f":"IF(NOT(ISBLANK(F342)),LOOKUP(F342,WKNrListe,Übersicht!E$7:E$77),0)","v":0},""]
[null,null,null,null,null,null,{"$f":"IF(ISERROR(MATCH(F343,WKNrListe_Einzel,0)),\"\",LOOKUP(F343,WKNrListe_Einzel,Übersicht!$B$7:$B$62))","v":""},null,{"$f":"IF(ISBLANK(H343),\" \",IF(LOOKUP(H343,MannschaftsNrListe,Mannschaften!B$4:B$53)<>0,LOOKUP(H343,MannschaftsNrListe,Mannschaften!B$4:B$53),\"\"))","v":" "},null,null,null,null,null,null,null,null,null,null,null,null,null,null,null,null,null,null,null,null,null,0,{"$f":"IF(NOT(ISBLANK(F343)),LOOKUP(F343,WKNrListe,Übersicht!E$7:E$77),0)","v":0},""]
[null,null,null,null,null,null,{"$f":"IF(ISERROR(MATCH(F344,WKNrListe_Einzel,0)),\"\",LOOKUP(F344,WKNrListe_Einzel,Übersicht!$B$7:$B$62))","v":""},null,{"$f":"IF(ISBLANK(H344),\" \",IF(LOOKUP(H344,MannschaftsNrListe,Mannschaften!B$4:B$53)<>0,LOOKUP(H344,MannschaftsNrListe,Mannschaften!B$4:B$53),\"\"))","v":" "},null,null,null,null,null,null,null,null,null,null,null,null,null,null,null,null,null,null,null,null,null,0,{"$f":"IF(NOT(ISBLANK(F344)),LOOKUP(F344,WKNrListe,Übersicht!E$7:E$77),0)","v":0},""]
[null,null,null,null,null,null,{"$f":"IF(ISERROR(MATCH(F345,WKNrListe_Einzel,0)),\"\",LOOKUP(F345,WKNrListe_Einzel,Übersicht!$B$7:$B$62))","v":""},null,{"$f":"IF(ISBLANK(H345),\" \",IF(LOOKUP(H345,MannschaftsNrListe,Mannschaften!B$4:B$53)<>0,LOOKUP(H345,MannschaftsNrListe,Mannschaften!B$4:B$53),\"\"))","v":" "},null,null,null,null,null,null,null,null,null,null,null,null,null,null,null,null,null,null,null,null,null,0,{"$f":"IF(NOT(ISBLANK(F345)),LOOKUP(F345,WKNrListe,Übersicht!E$7:E$77),0)","v":0},""]
[null,null,null,null,null,null,{"$f":"IF(ISERROR(MATCH(F346,WKNrListe_Einzel,0)),\"\",LOOKUP(F346,WKNrListe_Einzel,Übersicht!$B$7:$B$62))","v":""},null,{"$f":"IF(ISBLANK(H346),\" \",IF(LOOKUP(H346,MannschaftsNrListe,Mannschaften!B$4:B$53)<>0,LOOKUP(H346,MannschaftsNrListe,Mannschaften!B$4:B$53),\"\"))","v":" "},null,null,null,null,null,null,null,null,null,null,null,null,null,null,null,null,null,null,null,null,null,0,{"$f":"IF(NOT(ISBLANK(F346)),LOOKUP(F346,WKNrListe,Übersicht!E$7:E$77),0)","v":0},""]
[null,null,null,null,null,null,{"$f":"IF(ISERROR(MATCH(F347,WKNrListe_Einzel,0)),\"\",LOOKUP(F347,WKNrListe_Einzel,Übersicht!$B$7:$B$62))","v":""},null,{"$f":"IF(ISBLANK(H347),\" \",IF(LOOKUP(H347,MannschaftsNrListe,Mannschaften!B$4:B$53)<>0,LOOKUP(H347,MannschaftsNrListe,Mannschaften!B$4:B$53),\"\"))","v":" "},null,null,null,null,null,null,null,null,null,null,null,null,null,null,null,null,null,null,null,null,null,0,{"$f":"IF(NOT(ISBLANK(F347)),LOOKUP(F347,WKNrListe,Übersicht!E$7:E$77),0)","v":0},""]
[null,null,null,null,null,null,{"$f":"IF(ISERROR(MATCH(F348,WKNrListe_Einzel,0)),\"\",LOOKUP(F348,WKNrListe_Einzel,Übersicht!$B$7:$B$62))","v":""},null,{"$f":"IF(ISBLANK(H348),\" \",IF(LOOKUP(H348,MannschaftsNrListe,Mannschaften!B$4:B$53)<>0,LOOKUP(H348,MannschaftsNrListe,Mannschaften!B$4:B$53),\"\"))","v":" "},null,null,null,null,null,null,null,null,null,null,null,null,null,null,null,null,null,null,null,null,null,0,{"$f":"IF(NOT(ISBLANK(F348)),LOOKUP(F348,WKNrListe,Übersicht!E$7:E$77),0)","v":0},""]
[null,null,null,null,null,null,{"$f":"IF(ISERROR(MATCH(F349,WKNrListe_Einzel,0)),\"\",LOOKUP(F349,WKNrListe_Einzel,Übersicht!$B$7:$B$62))","v":""},null,{"$f":"IF(ISBLANK(H349),\" \",IF(LOOKUP(H349,MannschaftsNrListe,Mannschaften!B$4:B$53)<>0,LOOKUP(H349,MannschaftsNrListe,Mannschaften!B$4:B$53),\"\"))","v":" "},null,null,null,null,null,null,null,null,null,null,null,null,null,null,null,null,null,null,null,null,null,0,{"$f":"IF(NOT(ISBLANK(F349)),LOOKUP(F349,WKNrListe,Übersicht!E$7:E$77),0)","v":0},""]
[null,null,null,null,null,null,{"$f":"IF(ISERROR(MATCH(F350,WKNrListe_Einzel,0)),\"\",LOOKUP(F350,WKNrListe_Einzel,Übersicht!$B$7:$B$62))","v":""},null,{"$f":"IF(ISBLANK(H350),\" \",IF(LOOKUP(H350,MannschaftsNrListe,Mannschaften!B$4:B$53)<>0,LOOKUP(H350,MannschaftsNrListe,Mannschaften!B$4:B$53),\"\"))","v":" "},null,null,null,null,null,null,null,null,null,null,null,null,null,null,null,null,null,null,null,null,null,0,{"$f":"IF(NOT(ISBLANK(F350)),LOOKUP(F350,WKNrListe,Übersicht!E$7:E$77),0)","v":0},""]
[null,null,null,null,null,null,{"$f":"IF(ISERROR(MATCH(F351,WKNrListe_Einzel,0)),\"\",LOOKUP(F351,WKNrListe_Einzel,Übersicht!$B$7:$B$62))","v":""},null,{"$f":"IF(ISBLANK(H351),\" \",IF(LOOKUP(H351,MannschaftsNrListe,Mannschaften!B$4:B$53)<>0,LOOKUP(H351,MannschaftsNrListe,Mannschaften!B$4:B$53),\"\"))","v":" "},null,null,null,null,null,null,null,null,null,null,null,null,null,null,null,null,null,null,null,null,null,0,{"$f":"IF(NOT(ISBLANK(F351)),LOOKUP(F351,WKNrListe,Übersicht!E$7:E$77),0)","v":0},""]
[null,null,null,null,null,null,{"$f":"IF(ISERROR(MATCH(F352,WKNrListe_Einzel,0)),\"\",LOOKUP(F352,WKNrListe_Einzel,Übersicht!$B$7:$B$62))","v":""},null,{"$f":"IF(ISBLANK(H352),\" \",IF(LOOKUP(H352,MannschaftsNrListe,Mannschaften!B$4:B$53)<>0,LOOKUP(H352,MannschaftsNrListe,Mannschaften!B$4:B$53),\"\"))","v":" "},null,null,null,null,null,null,null,null,null,null,null,null,null,null,null,null,null,null,null,null,null,0,{"$f":"IF(NOT(ISBLANK(F352)),LOOKUP(F352,WKNrListe,Übersicht!E$7:E$77),0)","v":0},""]
[null,null,null,null,null,null,{"$f":"IF(ISERROR(MATCH(F353,WKNrListe_Einzel,0)),\"\",LOOKUP(F353,WKNrListe_Einzel,Übersicht!$B$7:$B$62))","v":""},null,{"$f":"IF(ISBLANK(H353),\" \",IF(LOOKUP(H353,MannschaftsNrListe,Mannschaften!B$4:B$53)<>0,LOOKUP(H353,MannschaftsNrListe,Mannschaften!B$4:B$53),\"\"))","v":" "},null,null,null,null,null,null,null,null,null,null,null,null,null,null,null,null,null,null,null,null,null,0,{"$f":"IF(NOT(ISBLANK(F353)),LOOKUP(F353,WKNrListe,Übersicht!E$7:E$77),0)","v":0},""]
[null,null,null,null,null,null,{"$f":"IF(ISERROR(MATCH(F354,WKNrListe_Einzel,0)),\"\",LOOKUP(F354,WKNrListe_Einzel,Übersicht!$B$7:$B$62))","v":""},null,{"$f":"IF(ISBLANK(H354),\" \",IF(LOOKUP(H354,MannschaftsNrListe,Mannschaften!B$4:B$53)<>0,LOOKUP(H354,MannschaftsNrListe,Mannschaften!B$4:B$53),\"\"))","v":" "},null,null,null,null,null,null,null,null,null,null,null,null,null,null,null,null,null,null,null,null,null,0,{"$f":"IF(NOT(ISBLANK(F354)),LOOKUP(F354,WKNrListe,Übersicht!E$7:E$77),0)","v":0},""]
[null,null,null,null,null,null,{"$f":"IF(ISERROR(MATCH(F355,WKNrListe_Einzel,0)),\"\",LOOKUP(F355,WKNrListe_Einzel,Übersicht!$B$7:$B$62))","v":""},null,{"$f":"IF(ISBLANK(H355),\" \",IF(LOOKUP(H355,MannschaftsNrListe,Mannschaften!B$4:B$53)<>0,LOOKUP(H355,MannschaftsNrListe,Mannschaften!B$4:B$53),\"\"))","v":" "},null,null,null,null,null,null,null,null,null,null,null,null,null,null,null,null,null,null,null,null,null,0,{"$f":"IF(NOT(ISBLANK(F355)),LOOKUP(F355,WKNrListe,Übersicht!E$7:E$77),0)","v":0},""]
[null,null,null,null,null,null,{"$f":"IF(ISERROR(MATCH(F356,WKNrListe_Einzel,0)),\"\",LOOKUP(F356,WKNrListe_Einzel,Übersicht!$B$7:$B$62))","v":""},null,{"$f":"IF(ISBLANK(H356),\" \",IF(LOOKUP(H356,MannschaftsNrListe,Mannschaften!B$4:B$53)<>0,LOOKUP(H356,MannschaftsNrListe,Mannschaften!B$4:B$53),\"\"))","v":" "},null,null,null,null,null,null,null,null,null,null,null,null,null,null,null,null,null,null,null,null,null,0,{"$f":"IF(NOT(ISBLANK(F356)),LOOKUP(F356,WKNrListe,Übersicht!E$7:E$77),0)","v":0},""]
[null,null,null,null,null,null,{"$f":"IF(ISERROR(MATCH(F357,WKNrListe_Einzel,0)),\"\",LOOKUP(F357,WKNrListe_Einzel,Übersicht!$B$7:$B$62))","v":""},null,{"$f":"IF(ISBLANK(H357),\" \",IF(LOOKUP(H357,MannschaftsNrListe,Mannschaften!B$4:B$53)<>0,LOOKUP(H357,MannschaftsNrListe,Mannschaften!B$4:B$53),\"\"))","v":" "},null,null,null,null,null,null,null,null,null,null,null,null,null,null,null,null,null,null,null,null,null,0,{"$f":"IF(NOT(ISBLANK(F357)),LOOKUP(F357,WKNrListe,Übersicht!E$7:E$77),0)","v":0},""]
[null,null,null,null,null,null,{"$f":"IF(ISERROR(MATCH(F358,WKNrListe_Einzel,0)),\"\",LOOKUP(F358,WKNrListe_Einzel,Übersicht!$B$7:$B$62))","v":""},null,{"$f":"IF(ISBLANK(H358),\" \",IF(LOOKUP(H358,MannschaftsNrListe,Mannschaften!B$4:B$53)<>0,LOOKUP(H358,MannschaftsNrListe,Mannschaften!B$4:B$53),\"\"))","v":" "},null,null,null,null,null,null,null,null,null,null,null,null,null,null,null,null,null,null,null,null,null,0,{"$f":"IF(NOT(ISBLANK(F358)),LOOKUP(F358,WKNrListe,Übersicht!E$7:E$77),0)","v":0},""]
[null,null,null,null,null,null,{"$f":"IF(ISERROR(MATCH(F359,WKNrListe_Einzel,0)),\"\",LOOKUP(F359,WKNrListe_Einzel,Übersicht!$B$7:$B$62))","v":""},null,{"$f":"IF(ISBLANK(H359),\" \",IF(LOOKUP(H359,MannschaftsNrListe,Mannschaften!B$4:B$53)<>0,LOOKUP(H359,MannschaftsNrListe,Mannschaften!B$4:B$53),\"\"))","v":" "},null,null,null,null,null,null,null,null,null,null,null,null,null,null,null,null,null,null,null,null,null,0,{"$f":"IF(NOT(ISBLANK(F359)),LOOKUP(F359,WKNrListe,Übersicht!E$7:E$77),0)","v":0},""]
[null,null,null,null,null,null,{"$f":"IF(ISERROR(MATCH(F360,WKNrListe_Einzel,0)),\"\",LOOKUP(F360,WKNrListe_Einzel,Übersicht!$B$7:$B$62))","v":""},null,{"$f":"IF(ISBLANK(H360),\" \",IF(LOOKUP(H360,MannschaftsNrListe,Mannschaften!B$4:B$53)<>0,LOOKUP(H360,MannschaftsNrListe,Mannschaften!B$4:B$53),\"\"))","v":" "},null,null,null,null,null,null,null,null,null,null,null,null,null,null,null,null,null,null,null,null,null,0,{"$f":"IF(NOT(ISBLANK(F360)),LOOKUP(F360,WKNrListe,Übersicht!E$7:E$77),0)","v":0},""]
[null,null,null,null,null,null,{"$f":"IF(ISERROR(MATCH(F361,WKNrListe_Einzel,0)),\"\",LOOKUP(F361,WKNrListe_Einzel,Übersicht!$B$7:$B$62))","v":""},null,{"$f":"IF(ISBLANK(H361),\" \",IF(LOOKUP(H361,MannschaftsNrListe,Mannschaften!B$4:B$53)<>0,LOOKUP(H361,MannschaftsNrListe,Mannschaften!B$4:B$53),\"\"))","v":" "},null,null,null,null,null,null,null,null,null,null,null,null,null,null,null,null,null,null,null,null,null,0,{"$f":"IF(NOT(ISBLANK(F361)),LOOKUP(F361,WKNrListe,Übersicht!E$7:E$77),0)","v":0},""]
[null,null,null,null,null,null,{"$f":"IF(ISERROR(MATCH(F362,WKNrListe_Einzel,0)),\"\",LOOKUP(F362,WKNrListe_Einzel,Übersicht!$B$7:$B$62))","v":""},null,{"$f":"IF(ISBLANK(H362),\" \",IF(LOOKUP(H362,MannschaftsNrListe,Mannschaften!B$4:B$53)<>0,LOOKUP(H362,MannschaftsNrListe,Mannschaften!B$4:B$53),\"\"))","v":" "},null,null,null,null,null,null,null,null,null,null,null,null,null,null,null,null,null,null,null,null,null,0,{"$f":"IF(NOT(ISBLANK(F362)),LOOKUP(F362,WKNrListe,Übersicht!E$7:E$77),0)","v":0},""]
[null,null,null,null,null,null,{"$f":"IF(ISERROR(MATCH(F363,WKNrListe_Einzel,0)),\"\",LOOKUP(F363,WKNrListe_Einzel,Übersicht!$B$7:$B$62))","v":""},null,{"$f":"IF(ISBLANK(H363),\" \",IF(LOOKUP(H363,MannschaftsNrListe,Mannschaften!B$4:B$53)<>0,LOOKUP(H363,MannschaftsNrListe,Mannschaften!B$4:B$53),\"\"))","v":" "},null,null,null,null,null,null,null,null,null,null,null,null,null,null,null,null,null,null,null,null,null,0,{"$f":"IF(NOT(ISBLANK(F363)),LOOKUP(F363,WKNrListe,Übersicht!E$7:E$77),0)","v":0},""]
[null,null,null,null,null,null,{"$f":"IF(ISERROR(MATCH(F364,WKNrListe_Einzel,0)),\"\",LOOKUP(F364,WKNrListe_Einzel,Übersicht!$B$7:$B$62))","v":""},null,{"$f":"IF(ISBLANK(H364),\" \",IF(LOOKUP(H364,MannschaftsNrListe,Mannschaften!B$4:B$53)<>0,LOOKUP(H364,MannschaftsNrListe,Mannschaften!B$4:B$53),\"\"))","v":" "},null,null,null,null,null,null,null,null,null,null,null,null,null,null,null,null,null,null,null,null,null,0,{"$f":"IF(NOT(ISBLANK(F364)),LOOKUP(F364,WKNrListe,Übersicht!E$7:E$77),0)","v":0},""]
[null,null,null,null,null,null,{"$f":"IF(ISERROR(MATCH(F365,WKNrListe_Einzel,0)),\"\",LOOKUP(F365,WKNrListe_Einzel,Übersicht!$B$7:$B$62))","v":""},null,{"$f":"IF(ISBLANK(H365),\" \",IF(LOOKUP(H365,MannschaftsNrListe,Mannschaften!B$4:B$53)<>0,LOOKUP(H365,MannschaftsNrListe,Mannschaften!B$4:B$53),\"\"))","v":" "},null,null,null,null,null,null,null,null,null,null,null,null,null,null,null,null,null,null,null,null,null,0,{"$f":"IF(NOT(ISBLANK(F365)),LOOKUP(F365,WKNrListe,Übersicht!E$7:E$77),0)","v":0},""]
[null,null,null,null,null,null,{"$f":"IF(ISERROR(MATCH(F366,WKNrListe_Einzel,0)),\"\",LOOKUP(F366,WKNrListe_Einzel,Übersicht!$B$7:$B$62))","v":""},null,{"$f":"IF(ISBLANK(H366),\" \",IF(LOOKUP(H366,MannschaftsNrListe,Mannschaften!B$4:B$53)<>0,LOOKUP(H366,MannschaftsNrListe,Mannschaften!B$4:B$53),\"\"))","v":" "},null,null,null,null,null,null,null,null,null,null,null,null,null,null,null,null,null,null,null,null,null,0,{"$f":"IF(NOT(ISBLANK(F366)),LOOKUP(F366,WKNrListe,Übersicht!E$7:E$77),0)","v":0},""]
[null,null,null,null,null,null,{"$f":"IF(ISERROR(MATCH(F367,WKNrListe_Einzel,0)),\"\",LOOKUP(F367,WKNrListe_Einzel,Übersicht!$B$7:$B$62))","v":""},null,{"$f":"IF(ISBLANK(H367),\" \",IF(LOOKUP(H367,MannschaftsNrListe,Mannschaften!B$4:B$53)<>0,LOOKUP(H367,MannschaftsNrListe,Mannschaften!B$4:B$53),\"\"))","v":" "},null,null,null,null,null,null,null,null,null,null,null,null,null,null,null,null,null,null,null,null,null,0,{"$f":"IF(NOT(ISBLANK(F367)),LOOKUP(F367,WKNrListe,Übersicht!E$7:E$77),0)","v":0},""]
[null,null,null,null,null,null,{"$f":"IF(ISERROR(MATCH(F368,WKNrListe_Einzel,0)),\"\",LOOKUP(F368,WKNrListe_Einzel,Übersicht!$B$7:$B$62))","v":""},null,{"$f":"IF(ISBLANK(H368),\" \",IF(LOOKUP(H368,MannschaftsNrListe,Mannschaften!B$4:B$53)<>0,LOOKUP(H368,MannschaftsNrListe,Mannschaften!B$4:B$53),\"\"))","v":" "},null,null,null,null,null,null,null,null,null,null,null,null,null,null,null,null,null,null,null,null,null,0,{"$f":"IF(NOT(ISBLANK(F368)),LOOKUP(F368,WKNrListe,Übersicht!E$7:E$77),0)","v":0},""]
[null,null,null,null,null,null,{"$f":"IF(ISERROR(MATCH(F369,WKNrListe_Einzel,0)),\"\",LOOKUP(F369,WKNrListe_Einzel,Übersicht!$B$7:$B$62))","v":""},null,{"$f":"IF(ISBLANK(H369),\" \",IF(LOOKUP(H369,MannschaftsNrListe,Mannschaften!B$4:B$53)<>0,LOOKUP(H369,MannschaftsNrListe,Mannschaften!B$4:B$53),\"\"))","v":" "},null,null,null,null,null,null,null,null,null,null,null,null,null,null,null,null,null,null,null,null,null,0,{"$f":"IF(NOT(ISBLANK(F369)),LOOKUP(F369,WKNrListe,Übersicht!E$7:E$77),0)","v":0},""]
[null,null,null,null,null,null,{"$f":"IF(ISERROR(MATCH(F370,WKNrListe_Einzel,0)),\"\",LOOKUP(F370,WKNrListe_Einzel,Übersicht!$B$7:$B$62))","v":""},null,{"$f":"IF(ISBLANK(H370),\" \",IF(LOOKUP(H370,MannschaftsNrListe,Mannschaften!B$4:B$53)<>0,LOOKUP(H370,MannschaftsNrListe,Mannschaften!B$4:B$53),\"\"))","v":" "},null,null,null,null,null,null,null,null,null,null,null,null,null,null,null,null,null,null,null,null,null,0,{"$f":"IF(NOT(ISBLANK(F370)),LOOKUP(F370,WKNrListe,Übersicht!E$7:E$77),0)","v":0},""]
[null,null,null,null,null,null,{"$f":"IF(ISERROR(MATCH(F371,WKNrListe_Einzel,0)),\"\",LOOKUP(F371,WKNrListe_Einzel,Übersicht!$B$7:$B$62))","v":""},null,{"$f":"IF(ISBLANK(H371),\" \",IF(LOOKUP(H371,MannschaftsNrListe,Mannschaften!B$4:B$53)<>0,LOOKUP(H371,MannschaftsNrListe,Mannschaften!B$4:B$53),\"\"))","v":" "},null,null,null,null,null,null,null,null,null,null,null,null,null,null,null,null,null,null,null,null,null,0,{"$f":"IF(NOT(ISBLANK(F371)),LOOKUP(F371,WKNrListe,Übersicht!E$7:E$77),0)","v":0},""]
[null,null,null,null,null,null,{"$f":"IF(ISERROR(MATCH(F372,WKNrListe_Einzel,0)),\"\",LOOKUP(F372,WKNrListe_Einzel,Übersicht!$B$7:$B$62))","v":""},null,{"$f":"IF(ISBLANK(H372),\" \",IF(LOOKUP(H372,MannschaftsNrListe,Mannschaften!B$4:B$53)<>0,LOOKUP(H372,MannschaftsNrListe,Mannschaften!B$4:B$53),\"\"))","v":" "},null,null,null,null,null,null,null,null,null,null,null,null,null,null,null,null,null,null,null,null,null,0,{"$f":"IF(NOT(ISBLANK(F372)),LOOKUP(F372,WKNrListe,Übersicht!E$7:E$77),0)","v":0},""]
[null,null,null,null,null,null,{"$f":"IF(ISERROR(MATCH(F373,WKNrListe_Einzel,0)),\"\",LOOKUP(F373,WKNrListe_Einzel,Übersicht!$B$7:$B$62))","v":""},null,{"$f":"IF(ISBLANK(H373),\" \",IF(LOOKUP(H373,MannschaftsNrListe,Mannschaften!B$4:B$53)<>0,LOOKUP(H373,MannschaftsNrListe,Mannschaften!B$4:B$53),\"\"))","v":" "},null,null,null,null,null,null,null,null,null,null,null,null,null,null,null,null,null,null,null,null,null,0,{"$f":"IF(NOT(ISBLANK(F373)),LOOKUP(F373,WKNrListe,Übersicht!E$7:E$77),0)","v":0},""]
[null,null,null,null,null,null,{"$f":"IF(ISERROR(MATCH(F374,WKNrListe_Einzel,0)),\"\",LOOKUP(F374,WKNrListe_Einzel,Übersicht!$B$7:$B$62))","v":""},null,{"$f":"IF(ISBLANK(H374),\" \",IF(LOOKUP(H374,MannschaftsNrListe,Mannschaften!B$4:B$53)<>0,LOOKUP(H374,MannschaftsNrListe,Mannschaften!B$4:B$53),\"\"))","v":" "},null,null,null,null,null,null,null,null,null,null,null,null,null,null,null,null,null,null,null,null,null,0,{"$f":"IF(NOT(ISBLANK(F374)),LOOKUP(F374,WKNrListe,Übersicht!E$7:E$77),0)","v":0},""]
[null,null,null,null,null,null,{"$f":"IF(ISERROR(MATCH(F375,WKNrListe_Einzel,0)),\"\",LOOKUP(F375,WKNrListe_Einzel,Übersicht!$B$7:$B$62))","v":""},null,{"$f":"IF(ISBLANK(H375),\" \",IF(LOOKUP(H375,MannschaftsNrListe,Mannschaften!B$4:B$53)<>0,LOOKUP(H375,MannschaftsNrListe,Mannschaften!B$4:B$53),\"\"))","v":" "},null,null,null,null,null,null,null,null,null,null,null,null,null,null,null,null,null,null,null,null,null,0,{"$f":"IF(NOT(ISBLANK(F375)),LOOKUP(F375,WKNrListe,Übersicht!E$7:E$77),0)","v":0},""]
[null,null,null,null,null,null,{"$f":"IF(ISERROR(MATCH(F376,WKNrListe_Einzel,0)),\"\",LOOKUP(F376,WKNrListe_Einzel,Übersicht!$B$7:$B$62))","v":""},null,{"$f":"IF(ISBLANK(H376),\" \",IF(LOOKUP(H376,MannschaftsNrListe,Mannschaften!B$4:B$53)<>0,LOOKUP(H376,MannschaftsNrListe,Mannschaften!B$4:B$53),\"\"))","v":" "},null,null,null,null,null,null,null,null,null,null,null,null,null,null,null,null,null,null,null,null,null,0,{"$f":"IF(NOT(ISBLANK(F376)),LOOKUP(F376,WKNrListe,Übersicht!E$7:E$77),0)","v":0},""]
[null,null,null,null,null,null,{"$f":"IF(ISERROR(MATCH(F377,WKNrListe_Einzel,0)),\"\",LOOKUP(F377,WKNrListe_Einzel,Übersicht!$B$7:$B$62))","v":""},null,{"$f":"IF(ISBLANK(H377),\" \",IF(LOOKUP(H377,MannschaftsNrListe,Mannschaften!B$4:B$53)<>0,LOOKUP(H377,MannschaftsNrListe,Mannschaften!B$4:B$53),\"\"))","v":" "},null,null,null,null,null,null,null,null,null,null,null,null,null,null,null,null,null,null,null,null,null,0,{"$f":"IF(NOT(ISBLANK(F377)),LOOKUP(F377,WKNrListe,Übersicht!E$7:E$77),0)","v":0},""]
[null,null,null,null,null,null,{"$f":"IF(ISERROR(MATCH(F378,WKNrListe_Einzel,0)),\"\",LOOKUP(F378,WKNrListe_Einzel,Übersicht!$B$7:$B$62))","v":""},null,{"$f":"IF(ISBLANK(H378),\" \",IF(LOOKUP(H378,MannschaftsNrListe,Mannschaften!B$4:B$53)<>0,LOOKUP(H378,MannschaftsNrListe,Mannschaften!B$4:B$53),\"\"))","v":" "},null,null,null,null,null,null,null,null,null,null,null,null,null,null,null,null,null,null,null,null,null,0,{"$f":"IF(NOT(ISBLANK(F378)),LOOKUP(F378,WKNrListe,Übersicht!E$7:E$77),0)","v":0},""]
[null,null,null,null,null,null,{"$f":"IF(ISERROR(MATCH(F379,WKNrListe_Einzel,0)),\"\",LOOKUP(F379,WKNrListe_Einzel,Übersicht!$B$7:$B$62))","v":""},null,{"$f":"IF(ISBLANK(H379),\" \",IF(LOOKUP(H379,MannschaftsNrListe,Mannschaften!B$4:B$53)<>0,LOOKUP(H379,MannschaftsNrListe,Mannschaften!B$4:B$53),\"\"))","v":" "},null,null,null,null,null,null,null,null,null,null,null,null,null,null,null,null,null,null,null,null,null,0,{"$f":"IF(NOT(ISBLANK(F379)),LOOKUP(F379,WKNrListe,Übersicht!E$7:E$77),0)","v":0},""]
[null,null,null,null,null,null,{"$f":"IF(ISERROR(MATCH(F380,WKNrListe_Einzel,0)),\"\",LOOKUP(F380,WKNrListe_Einzel,Übersicht!$B$7:$B$62))","v":""},null,{"$f":"IF(ISBLANK(H380),\" \",IF(LOOKUP(H380,MannschaftsNrListe,Mannschaften!B$4:B$53)<>0,LOOKUP(H380,MannschaftsNrListe,Mannschaften!B$4:B$53),\"\"))","v":" "},null,null,null,null,null,null,null,null,null,null,null,null,null,null,null,null,null,null,null,null,null,0,{"$f":"IF(NOT(ISBLANK(F380)),LOOKUP(F380,WKNrListe,Übersicht!E$7:E$77),0)","v":0},""]
[null,null,null,null,null,null,{"$f":"IF(ISERROR(MATCH(F381,WKNrListe_Einzel,0)),\"\",LOOKUP(F381,WKNrListe_Einzel,Übersicht!$B$7:$B$62))","v":""},null,{"$f":"IF(ISBLANK(H381),\" \",IF(LOOKUP(H381,MannschaftsNrListe,Mannschaften!B$4:B$53)<>0,LOOKUP(H381,MannschaftsNrListe,Mannschaften!B$4:B$53),\"\"))","v":" "},null,null,null,null,null,null,null,null,null,null,null,null,null,null,null,null,null,null,null,null,null,0,{"$f":"IF(NOT(ISBLANK(F381)),LOOKUP(F381,WKNrListe,Übersicht!E$7:E$77),0)","v":0},""]
[null,null,null,null,null,null,{"$f":"IF(ISERROR(MATCH(F382,WKNrListe_Einzel,0)),\"\",LOOKUP(F382,WKNrListe_Einzel,Übersicht!$B$7:$B$62))","v":""},null,{"$f":"IF(ISBLANK(H382),\" \",IF(LOOKUP(H382,MannschaftsNrListe,Mannschaften!B$4:B$53)<>0,LOOKUP(H382,MannschaftsNrListe,Mannschaften!B$4:B$53),\"\"))","v":" "},null,null,null,null,null,null,null,null,null,null,null,null,null,null,null,null,null,null,null,null,null,0,{"$f":"IF(NOT(ISBLANK(F382)),LOOKUP(F382,WKNrListe,Übersicht!E$7:E$77),0)","v":0},""]
[null,null,null,null,null,null,{"$f":"IF(ISERROR(MATCH(F383,WKNrListe_Einzel,0)),\"\",LOOKUP(F383,WKNrListe_Einzel,Übersicht!$B$7:$B$62))","v":""},null,{"$f":"IF(ISBLANK(H383),\" \",IF(LOOKUP(H383,MannschaftsNrListe,Mannschaften!B$4:B$53)<>0,LOOKUP(H383,MannschaftsNrListe,Mannschaften!B$4:B$53),\"\"))","v":" "},null,null,null,null,null,null,null,null,null,null,null,null,null,null,null,null,null,null,null,null,null,0,{"$f":"IF(NOT(ISBLANK(F383)),LOOKUP(F383,WKNrListe,Übersicht!E$7:E$77),0)","v":0},""]
[null,null,null,null,null,null,{"$f":"IF(ISERROR(MATCH(F384,WKNrListe_Einzel,0)),\"\",LOOKUP(F384,WKNrListe_Einzel,Übersicht!$B$7:$B$62))","v":""},null,{"$f":"IF(ISBLANK(H384),\" \",IF(LOOKUP(H384,MannschaftsNrListe,Mannschaften!B$4:B$53)<>0,LOOKUP(H384,MannschaftsNrListe,Mannschaften!B$4:B$53),\"\"))","v":" "},null,null,null,null,null,null,null,null,null,null,null,null,null,null,null,null,null,null,null,null,null,0,{"$f":"IF(NOT(ISBLANK(F384)),LOOKUP(F384,WKNrListe,Übersicht!E$7:E$77),0)","v":0},""]
[null,null,null,null,null,null,{"$f":"IF(ISERROR(MATCH(F385,WKNrListe_Einzel,0)),\"\",LOOKUP(F385,WKNrListe_Einzel,Übersicht!$B$7:$B$62))","v":""},null,{"$f":"IF(ISBLANK(H385),\" \",IF(LOOKUP(H385,MannschaftsNrListe,Mannschaften!B$4:B$53)<>0,LOOKUP(H385,MannschaftsNrListe,Mannschaften!B$4:B$53),\"\"))","v":" "},null,null,null,null,null,null,null,null,null,null,null,null,null,null,null,null,null,null,null,null,null,0,{"$f":"IF(NOT(ISBLANK(F385)),LOOKUP(F385,WKNrListe,Übersicht!E$7:E$77),0)","v":0},""]
[null,null,null,null,null,null,{"$f":"IF(ISERROR(MATCH(F386,WKNrListe_Einzel,0)),\"\",LOOKUP(F386,WKNrListe_Einzel,Übersicht!$B$7:$B$62))","v":""},null,{"$f":"IF(ISBLANK(H386),\" \",IF(LOOKUP(H386,MannschaftsNrListe,Mannschaften!B$4:B$53)<>0,LOOKUP(H386,MannschaftsNrListe,Mannschaften!B$4:B$53),\"\"))","v":" "},null,null,null,null,null,null,null,null,null,null,null,null,null,null,null,null,null,null,null,null,null,0,{"$f":"IF(NOT(ISBLANK(F386)),LOOKUP(F386,WKNrListe,Übersicht!E$7:E$77),0)","v":0},""]
[null,null,null,null,null,null,{"$f":"IF(ISERROR(MATCH(F387,WKNrListe_Einzel,0)),\"\",LOOKUP(F387,WKNrListe_Einzel,Übersicht!$B$7:$B$62))","v":""},null,{"$f":"IF(ISBLANK(H387),\" \",IF(LOOKUP(H387,MannschaftsNrListe,Mannschaften!B$4:B$53)<>0,LOOKUP(H387,MannschaftsNrListe,Mannschaften!B$4:B$53),\"\"))","v":" "},null,null,null,null,null,null,null,null,null,null,null,null,null,null,null,null,null,null,null,null,null,0,{"$f":"IF(NOT(ISBLANK(F387)),LOOKUP(F387,WKNrListe,Übersicht!E$7:E$77),0)","v":0},""]
[null,null,null,null,null,null,{"$f":"IF(ISERROR(MATCH(F388,WKNrListe_Einzel,0)),\"\",LOOKUP(F388,WKNrListe_Einzel,Übersicht!$B$7:$B$62))","v":""},null,{"$f":"IF(ISBLANK(H388),\" \",IF(LOOKUP(H388,MannschaftsNrListe,Mannschaften!B$4:B$53)<>0,LOOKUP(H388,MannschaftsNrListe,Mannschaften!B$4:B$53),\"\"))","v":" "},null,null,null,null,null,null,null,null,null,null,null,null,null,null,null,null,null,null,null,null,null,0,{"$f":"IF(NOT(ISBLANK(F388)),LOOKUP(F388,WKNrListe,Übersicht!E$7:E$77),0)","v":0},""]
[null,null,null,null,null,null,{"$f":"IF(ISERROR(MATCH(F389,WKNrListe_Einzel,0)),\"\",LOOKUP(F389,WKNrListe_Einzel,Übersicht!$B$7:$B$62))","v":""},null,{"$f":"IF(ISBLANK(H389),\" \",IF(LOOKUP(H389,MannschaftsNrListe,Mannschaften!B$4:B$53)<>0,LOOKUP(H389,MannschaftsNrListe,Mannschaften!B$4:B$53),\"\"))","v":" "},null,null,null,null,null,null,null,null,null,null,null,null,null,null,null,null,null,null,null,null,null,0,{"$f":"IF(NOT(ISBLANK(F389)),LOOKUP(F389,WKNrListe,Übersicht!E$7:E$77),0)","v":0},{"$f":"IF(\n AND(\n  OR(ISTEXT(A389), ISTEXT(B389), NOT(ISBLANK(E389)), NOT(ISBLANK(F389)), NOT(ISBLANK(H389))),\n  OR(ISBLANK(A389),ISBLANK(B389),AND(ISBLANK(E389),ISBLANK(F389),ISBLANK(H389)))\n ),\n \"unvollständig\",\n IF(\n  AND(\n   NOT(\n    ISBLANK(H389)\n    ),\n   NOT(ISNUMBER(I389))\n  ),\n  \"Seite Mannschaften ausfüllen!\",\n  IF(AF389>AE389,\"zu wenig Disziplinen gewählt\",IF(AE389>AF389,\"zu viele Disziplinen gewählt\",\"\"))\n )\n)","v":""}]
[null,null,null,null,null,null,{"$f":"IF(ISERROR(MATCH(F390,WKNrListe_Einzel,0)),\"\",LOOKUP(F390,WKNrListe_Einzel,Übersicht!$B$7:$B$62))","v":""},null,{"$f":"IF(ISBLANK(H390),\" \",IF(LOOKUP(H390,MannschaftsNrListe,Mannschaften!B$4:B$53)<>0,LOOKUP(H390,MannschaftsNrListe,Mannschaften!B$4:B$53),\"\"))","v":" "},null,null,null,null,null,null,null,null,null,null,null,null,null,null,null,null,null,null,null,null,null,{"$f":"COUNTIF(J390:AD390,\">''\")","v":0},{"$f":"IF(NOT(ISBLANK(F390)),LOOKUP(F390,WKNrListe,Übersicht!E$7:E$77),0)","v":0},""]
[null,null,null,null,null,null,{"$f":"IF(ISERROR(MATCH(F391,WKNrListe_Einzel,0)),\"\",LOOKUP(F391,WKNrListe_Einzel,Übersicht!$B$7:$B$62))","v":""},null,{"$f":"IF(ISBLANK(H391),\" \",IF(LOOKUP(H391,MannschaftsNrListe,Mannschaften!B$4:B$53)<>0,LOOKUP(H391,MannschaftsNrListe,Mannschaften!B$4:B$53),\"\"))","v":" "},null,null,null,null,null,null,null,null,null,null,null,null,null,null,null,null,null,null,null,null,null,0,{"$f":"IF(NOT(ISBLANK(F391)),LOOKUP(F391,WKNrListe,Übersicht!E$7:E$77),0)","v":0},""]
[null,null,null,null,null,null,{"$f":"IF(ISERROR(MATCH(F392,WKNrListe_Einzel,0)),\"\",LOOKUP(F392,WKNrListe_Einzel,Übersicht!$B$7:$B$62))","v":""},null,{"$f":"IF(ISBLANK(H392),\" \",IF(LOOKUP(H392,MannschaftsNrListe,Mannschaften!B$4:B$53)<>0,LOOKUP(H392,MannschaftsNrListe,Mannschaften!B$4:B$53),\"\"))","v":" "},null,null,null,null,null,null,null,null,null,null,null,null,null,null,null,null,null,null,null,null,null,0,{"$f":"IF(NOT(ISBLANK(F392)),LOOKUP(F392,WKNrListe,Übersicht!E$7:E$77),0)","v":0},""]
[null,null,null,null,null,null,{"$f":"IF(ISERROR(MATCH(F393,WKNrListe_Einzel,0)),\"\",LOOKUP(F393,WKNrListe_Einzel,Übersicht!$B$7:$B$62))","v":""},null,{"$f":"IF(ISBLANK(H393),\" \",IF(LOOKUP(H393,MannschaftsNrListe,Mannschaften!B$4:B$53)<>0,LOOKUP(H393,MannschaftsNrListe,Mannschaften!B$4:B$53),\"\"))","v":" "},null,null,null,null,null,null,null,null,null,null,null,null,null,null,null,null,null,null,null,null,null,0,{"$f":"IF(NOT(ISBLANK(F393)),LOOKUP(F393,WKNrListe,Übersicht!E$7:E$77),0)","v":0},""]
[null,null,null,null,null,null,{"$f":"IF(ISERROR(MATCH(F394,WKNrListe_Einzel,0)),\"\",LOOKUP(F394,WKNrListe_Einzel,Übersicht!$B$7:$B$62))","v":""},null,{"$f":"IF(ISBLANK(H394),\" \",IF(LOOKUP(H394,MannschaftsNrListe,Mannschaften!B$4:B$53)<>0,LOOKUP(H394,MannschaftsNrListe,Mannschaften!B$4:B$53),\"\"))","v":" "},null,null,null,null,null,null,null,null,null,null,null,null,null,null,null,null,null,null,null,null,null,0,{"$f":"IF(NOT(ISBLANK(F394)),LOOKUP(F394,WKNrListe,Übersicht!E$7:E$77),0)","v":0},""]
[null,null,null,null,null,null,{"$f":"IF(ISERROR(MATCH(F395,WKNrListe_Einzel,0)),\"\",LOOKUP(F395,WKNrListe_Einzel,Übersicht!$B$7:$B$62))","v":""},null,{"$f":"IF(ISBLANK(H395),\" \",IF(LOOKUP(H395,MannschaftsNrListe,Mannschaften!B$4:B$53)<>0,LOOKUP(H395,MannschaftsNrListe,Mannschaften!B$4:B$53),\"\"))","v":" "},null,null,null,null,null,null,null,null,null,null,null,null,null,null,null,null,null,null,null,null,null,0,{"$f":"IF(NOT(ISBLANK(F395)),LOOKUP(F395,WKNrListe,Übersicht!E$7:E$77),0)","v":0},""]
[null,null,null,null,null,null,{"$f":"IF(ISERROR(MATCH(F396,WKNrListe_Einzel,0)),\"\",LOOKUP(F396,WKNrListe_Einzel,Übersicht!$B$7:$B$62))","v":""},null,{"$f":"IF(ISBLANK(H396),\" \",IF(LOOKUP(H396,MannschaftsNrListe,Mannschaften!B$4:B$53)<>0,LOOKUP(H396,MannschaftsNrListe,Mannschaften!B$4:B$53),\"\"))","v":" "},null,null,null,null,null,null,null,null,null,null,null,null,null,null,null,null,null,null,null,null,null,0,{"$f":"IF(NOT(ISBLANK(F396)),LOOKUP(F396,WKNrListe,Übersicht!E$7:E$77),0)","v":0},""]
[null,null,null,null,null,null,{"$f":"IF(ISERROR(MATCH(F397,WKNrListe_Einzel,0)),\"\",LOOKUP(F397,WKNrListe_Einzel,Übersicht!$B$7:$B$62))","v":""},null,{"$f":"IF(ISBLANK(H397),\" \",IF(LOOKUP(H397,MannschaftsNrListe,Mannschaften!B$4:B$53)<>0,LOOKUP(H397,MannschaftsNrListe,Mannschaften!B$4:B$53),\"\"))","v":" "},null,null,null,null,null,null,null,null,null,null,null,null,null,null,null,null,null,null,null,null,null,0,{"$f":"IF(NOT(ISBLANK(F397)),LOOKUP(F397,WKNrListe,Übersicht!E$7:E$77),0)","v":0},""]
[null,null,null,null,null,null,{"$f":"IF(ISERROR(MATCH(F398,WKNrListe_Einzel,0)),\"\",LOOKUP(F398,WKNrListe_Einzel,Übersicht!$B$7:$B$62))","v":""},null,{"$f":"IF(ISBLANK(H398),\" \",IF(LOOKUP(H398,MannschaftsNrListe,Mannschaften!B$4:B$53)<>0,LOOKUP(H398,MannschaftsNrListe,Mannschaften!B$4:B$53),\"\"))","v":" "},null,null,null,null,null,null,null,null,null,null,null,null,null,null,null,null,null,null,null,null,null,0,{"$f":"IF(NOT(ISBLANK(F398)),LOOKUP(F398,WKNrListe,Übersicht!E$7:E$77),0)","v":0},""]
[null,null,null,null,null,null,{"$f":"IF(ISERROR(MATCH(F399,WKNrListe_Einzel,0)),\"\",LOOKUP(F399,WKNrListe_Einzel,Übersicht!$B$7:$B$62))","v":""},null,{"$f":"IF(ISBLANK(H399),\" \",IF(LOOKUP(H399,MannschaftsNrListe,Mannschaften!B$4:B$53)<>0,LOOKUP(H399,MannschaftsNrListe,Mannschaften!B$4:B$53),\"\"))","v":" "},null,null,null,null,null,null,null,null,null,null,null,null,null,null,null,null,null,null,null,null,null,0,{"$f":"IF(NOT(ISBLANK(F399)),LOOKUP(F399,WKNrListe,Übersicht!E$7:E$77),0)","v":0},""]
[null,null,null,null,null,null,{"$f":"IF(ISERROR(MATCH(F400,WKNrListe_Einzel,0)),\"\",LOOKUP(F400,WKNrListe_Einzel,Übersicht!$B$7:$B$62))","v":""},null,{"$f":"IF(ISBLANK(H400),\" \",IF(LOOKUP(H400,MannschaftsNrListe,Mannschaften!B$4:B$53)<>0,LOOKUP(H400,MannschaftsNrListe,Mannschaften!B$4:B$53),\"\"))","v":" "},null,null,null,null,null,null,null,null,null,null,null,null,null,null,null,null,null,null,null,null,null,0,{"$f":"IF(NOT(ISBLANK(F400)),LOOKUP(F400,WKNrListe,Übersicht!E$7:E$77),0)","v":0},""]
[null,null,null,null,null,null,{"$f":"IF(ISERROR(MATCH(F401,WKNrListe_Einzel,0)),\"\",LOOKUP(F401,WKNrListe_Einzel,Übersicht!$B$7:$B$62))","v":""},null,{"$f":"IF(ISBLANK(H401),\" \",IF(LOOKUP(H401,MannschaftsNrListe,Mannschaften!B$4:B$53)<>0,LOOKUP(H401,MannschaftsNrListe,Mannschaften!B$4:B$53),\"\"))","v":" "},null,null,null,null,null,null,null,null,null,null,null,null,null,null,null,null,null,null,null,null,null,0,{"$f":"IF(NOT(ISBLANK(F401)),LOOKUP(F401,WKNrListe,Übersicht!E$7:E$77),0)","v":0},""]
[null,null,null,null,null,null,{"$f":"IF(ISERROR(MATCH(F402,WKNrListe_Einzel,0)),\"\",LOOKUP(F402,WKNrListe_Einzel,Übersicht!$B$7:$B$62))","v":""},null,{"$f":"IF(ISBLANK(H402),\" \",IF(LOOKUP(H402,MannschaftsNrListe,Mannschaften!B$4:B$53)<>0,LOOKUP(H402,MannschaftsNrListe,Mannschaften!B$4:B$53),\"\"))","v":" "},null,null,null,null,null,null,null,null,null,null,null,null,null,null,null,null,null,null,null,null,null,0,{"$f":"IF(NOT(ISBLANK(F402)),LOOKUP(F402,WKNrListe,Übersicht!E$7:E$77),0)","v":0},""]
[null,null,null,null,null,null,{"$f":"IF(ISERROR(MATCH(F403,WKNrListe_Einzel,0)),\"\",LOOKUP(F403,WKNrListe_Einzel,Übersicht!$B$7:$B$62))","v":""},null,{"$f":"IF(ISBLANK(H403),\" \",IF(LOOKUP(H403,MannschaftsNrListe,Mannschaften!B$4:B$53)<>0,LOOKUP(H403,MannschaftsNrListe,Mannschaften!B$4:B$53),\"\"))","v":" "},null,null,null,null,null,null,null,null,null,null,null,null,null,null,null,null,null,null,null,null,null,0,{"$f":"IF(NOT(ISBLANK(F403)),LOOKUP(F403,WKNrListe,Übersicht!E$7:E$77),0)","v":0},""]
[null,null,null,null,null,null,{"$f":"IF(ISERROR(MATCH(F404,WKNrListe_Einzel,0)),\"\",LOOKUP(F404,WKNrListe_Einzel,Übersicht!$B$7:$B$62))","v":""},null,{"$f":"IF(ISBLANK(H404),\" \",IF(LOOKUP(H404,MannschaftsNrListe,Mannschaften!B$4:B$53)<>0,LOOKUP(H404,MannschaftsNrListe,Mannschaften!B$4:B$53),\"\"))","v":" "},null,null,null,null,null,null,null,null,null,null,null,null,null,null,null,null,null,null,null,null,null,0,{"$f":"IF(NOT(ISBLANK(F404)),LOOKUP(F404,WKNrListe,Übersicht!E$7:E$77),0)","v":0},""]
[null,null,null,null,null,null,{"$f":"IF(ISERROR(MATCH(F405,WKNrListe_Einzel,0)),\"\",LOOKUP(F405,WKNrListe_Einzel,Übersicht!$B$7:$B$62))","v":""},null,{"$f":"IF(ISBLANK(H405),\" \",IF(LOOKUP(H405,MannschaftsNrListe,Mannschaften!B$4:B$53)<>0,LOOKUP(H405,MannschaftsNrListe,Mannschaften!B$4:B$53),\"\"))","v":" "},null,null,null,null,null,null,null,null,null,null,null,null,null,null,null,null,null,null,null,null,null,0,{"$f":"IF(NOT(ISBLANK(F405)),LOOKUP(F405,WKNrListe,Übersicht!E$7:E$77),0)","v":0},""]
[null,null,null,null,null,null,{"$f":"IF(ISERROR(MATCH(F406,WKNrListe_Einzel,0)),\"\",LOOKUP(F406,WKNrListe_Einzel,Übersicht!$B$7:$B$62))","v":""},null,{"$f":"IF(ISBLANK(H406),\" \",IF(LOOKUP(H406,MannschaftsNrListe,Mannschaften!B$4:B$53)<>0,LOOKUP(H406,MannschaftsNrListe,Mannschaften!B$4:B$53),\"\"))","v":" "},null,null,null,null,null,null,null,null,null,null,null,null,null,null,null,null,null,null,null,null,null,0,{"$f":"IF(NOT(ISBLANK(F406)),LOOKUP(F406,WKNrListe,Übersicht!E$7:E$77),0)","v":0},""]
[null,null,null,null,null,null,{"$f":"IF(ISERROR(MATCH(F407,WKNrListe_Einzel,0)),\"\",LOOKUP(F407,WKNrListe_Einzel,Übersicht!$B$7:$B$62))","v":""},null,{"$f":"IF(ISBLANK(H407),\" \",IF(LOOKUP(H407,MannschaftsNrListe,Mannschaften!B$4:B$53)<>0,LOOKUP(H407,MannschaftsNrListe,Mannschaften!B$4:B$53),\"\"))","v":" "},null,null,null,null,null,null,null,null,null,null,null,null,null,null,null,null,null,null,null,null,null,0,{"$f":"IF(NOT(ISBLANK(F407)),LOOKUP(F407,WKNrListe,Übersicht!E$7:E$77),0)","v":0},""]
[null,null,null,null,null,null,{"$f":"IF(ISERROR(MATCH(F408,WKNrListe_Einzel,0)),\"\",LOOKUP(F408,WKNrListe_Einzel,Übersicht!$B$7:$B$62))","v":""},null,{"$f":"IF(ISBLANK(H408),\" \",IF(LOOKUP(H408,MannschaftsNrListe,Mannschaften!B$4:B$53)<>0,LOOKUP(H408,MannschaftsNrListe,Mannschaften!B$4:B$53),\"\"))","v":" "},null,null,null,null,null,null,null,null,null,null,null,null,null,null,null,null,null,null,null,null,null,0,{"$f":"IF(NOT(ISBLANK(F408)),LOOKUP(F408,WKNrListe,Übersicht!E$7:E$77),0)","v":0},""]
[null,null,null,null,null,null,{"$f":"IF(ISERROR(MATCH(F409,WKNrListe_Einzel,0)),\"\",LOOKUP(F409,WKNrListe_Einzel,Übersicht!$B$7:$B$62))","v":""},null,{"$f":"IF(ISBLANK(H409),\" \",IF(LOOKUP(H409,MannschaftsNrListe,Mannschaften!B$4:B$53)<>0,LOOKUP(H409,MannschaftsNrListe,Mannschaften!B$4:B$53),\"\"))","v":" "},null,null,null,null,null,null,null,null,null,null,null,null,null,null,null,null,null,null,null,null,null,0,{"$f":"IF(NOT(ISBLANK(F409)),LOOKUP(F409,WKNrListe,Übersicht!E$7:E$77),0)","v":0},""]
[null,null,null,null,null,null,{"$f":"IF(ISERROR(MATCH(F410,WKNrListe_Einzel,0)),\"\",LOOKUP(F410,WKNrListe_Einzel,Übersicht!$B$7:$B$62))","v":""},null,{"$f":"IF(ISBLANK(H410),\" \",IF(LOOKUP(H410,MannschaftsNrListe,Mannschaften!B$4:B$53)<>0,LOOKUP(H410,MannschaftsNrListe,Mannschaften!B$4:B$53),\"\"))","v":" "},null,null,null,null,null,null,null,null,null,null,null,null,null,null,null,null,null,null,null,null,null,0,{"$f":"IF(NOT(ISBLANK(F410)),LOOKUP(F410,WKNrListe,Übersicht!E$7:E$77),0)","v":0},""]
[null,null,null,null,null,null,{"$f":"IF(ISERROR(MATCH(F411,WKNrListe_Einzel,0)),\"\",LOOKUP(F411,WKNrListe_Einzel,Übersicht!$B$7:$B$62))","v":""},null,{"$f":"IF(ISBLANK(H411),\" \",IF(LOOKUP(H411,MannschaftsNrListe,Mannschaften!B$4:B$53)<>0,LOOKUP(H411,MannschaftsNrListe,Mannschaften!B$4:B$53),\"\"))","v":" "},null,null,null,null,null,null,null,null,null,null,null,null,null,null,null,null,null,null,null,null,null,0,{"$f":"IF(NOT(ISBLANK(F411)),LOOKUP(F411,WKNrListe,Übersicht!E$7:E$77),0)","v":0},""]
[null,null,null,null,null,null,{"$f":"IF(ISERROR(MATCH(F412,WKNrListe_Einzel,0)),\"\",LOOKUP(F412,WKNrListe_Einzel,Übersicht!$B$7:$B$62))","v":""},null,{"$f":"IF(ISBLANK(H412),\" \",IF(LOOKUP(H412,MannschaftsNrListe,Mannschaften!B$4:B$53)<>0,LOOKUP(H412,MannschaftsNrListe,Mannschaften!B$4:B$53),\"\"))","v":" "},null,null,null,null,null,null,null,null,null,null,null,null,null,null,null,null,null,null,null,null,null,0,{"$f":"IF(NOT(ISBLANK(F412)),LOOKUP(F412,WKNrListe,Übersicht!E$7:E$77),0)","v":0},""]
[null,null,null,null,null,null,{"$f":"IF(ISERROR(MATCH(F413,WKNrListe_Einzel,0)),\"\",LOOKUP(F413,WKNrListe_Einzel,Übersicht!$B$7:$B$62))","v":""},null,{"$f":"IF(ISBLANK(H413),\" \",IF(LOOKUP(H413,MannschaftsNrListe,Mannschaften!B$4:B$53)<>0,LOOKUP(H413,MannschaftsNrListe,Mannschaften!B$4:B$53),\"\"))","v":" "},null,null,null,null,null,null,null,null,null,null,null,null,null,null,null,null,null,null,null,null,null,0,{"$f":"IF(NOT(ISBLANK(F413)),LOOKUP(F413,WKNrListe,Übersicht!E$7:E$77),0)","v":0},""]
[null,null,null,null,null,null,{"$f":"IF(ISERROR(MATCH(F414,WKNrListe_Einzel,0)),\"\",LOOKUP(F414,WKNrListe_Einzel,Übersicht!$B$7:$B$62))","v":""},null,{"$f":"IF(ISBLANK(H414),\" \",IF(LOOKUP(H414,MannschaftsNrListe,Mannschaften!B$4:B$53)<>0,LOOKUP(H414,MannschaftsNrListe,Mannschaften!B$4:B$53),\"\"))","v":" "},null,null,null,null,null,null,null,null,null,null,null,null,null,null,null,null,null,null,null,null,null,0,{"$f":"IF(NOT(ISBLANK(F414)),LOOKUP(F414,WKNrListe,Übersicht!E$7:E$77),0)","v":0},""]
[null,null,null,null,null,null,{"$f":"IF(ISERROR(MATCH(F415,WKNrListe_Einzel,0)),\"\",LOOKUP(F415,WKNrListe_Einzel,Übersicht!$B$7:$B$62))","v":""},null,{"$f":"IF(ISBLANK(H415),\" \",IF(LOOKUP(H415,MannschaftsNrListe,Mannschaften!B$4:B$53)<>0,LOOKUP(H415,MannschaftsNrListe,Mannschaften!B$4:B$53),\"\"))","v":" "},null,null,null,null,null,null,null,null,null,null,null,null,null,null,null,null,null,null,null,null,null,0,{"$f":"IF(NOT(ISBLANK(F415)),LOOKUP(F415,WKNrListe,Übersicht!E$7:E$77),0)","v":0},""]
[null,null,null,null,null,null,{"$f":"IF(ISERROR(MATCH(F416,WKNrListe_Einzel,0)),\"\",LOOKUP(F416,WKNrListe_Einzel,Übersicht!$B$7:$B$62))","v":""},null,{"$f":"IF(ISBLANK(H416),\" \",IF(LOOKUP(H416,MannschaftsNrListe,Mannschaften!B$4:B$53)<>0,LOOKUP(H416,MannschaftsNrListe,Mannschaften!B$4:B$53),\"\"))","v":" "},null,null,null,null,null,null,null,null,null,null,null,null,null,null,null,null,null,null,null,null,null,0,{"$f":"IF(NOT(ISBLANK(F416)),LOOKUP(F416,WKNrListe,Übersicht!E$7:E$77),0)","v":0},""]
[null,null,null,null,null,null,{"$f":"IF(ISERROR(MATCH(F417,WKNrListe_Einzel,0)),\"\",LOOKUP(F417,WKNrListe_Einzel,Übersicht!$B$7:$B$62))","v":""},null,{"$f":"IF(ISBLANK(H417),\" \",IF(LOOKUP(H417,MannschaftsNrListe,Mannschaften!B$4:B$53)<>0,LOOKUP(H417,MannschaftsNrListe,Mannschaften!B$4:B$53),\"\"))","v":" "},null,null,null,null,null,null,null,null,null,null,null,null,null,null,null,null,null,null,null,null,null,0,{"$f":"IF(NOT(ISBLANK(F417)),LOOKUP(F417,WKNrListe,Übersicht!E$7:E$77),0)","v":0},""]
[null,null,null,null,null,null,{"$f":"IF(ISERROR(MATCH(F418,WKNrListe_Einzel,0)),\"\",LOOKUP(F418,WKNrListe_Einzel,Übersicht!$B$7:$B$62))","v":""},null,{"$f":"IF(ISBLANK(H418),\" \",IF(LOOKUP(H418,MannschaftsNrListe,Mannschaften!B$4:B$53)<>0,LOOKUP(H418,MannschaftsNrListe,Mannschaften!B$4:B$53),\"\"))","v":" "},null,null,null,null,null,null,null,null,null,null,null,null,null,null,null,null,null,null,null,null,null,0,{"$f":"IF(NOT(ISBLANK(F418)),LOOKUP(F418,WKNrListe,Übersicht!E$7:E$77),0)","v":0},""]
[null,null,null,null,null,null,{"$f":"IF(ISERROR(MATCH(F419,WKNrListe_Einzel,0)),\"\",LOOKUP(F419,WKNrListe_Einzel,Übersicht!$B$7:$B$62))","v":""},null,{"$f":"IF(ISBLANK(H419),\" \",IF(LOOKUP(H419,MannschaftsNrListe,Mannschaften!B$4:B$53)<>0,LOOKUP(H419,MannschaftsNrListe,Mannschaften!B$4:B$53),\"\"))","v":" "},null,null,null,null,null,null,null,null,null,null,null,null,null,null,null,null,null,null,null,null,null,0,{"$f":"IF(NOT(ISBLANK(F419)),LOOKUP(F419,WKNrListe,Übersicht!E$7:E$77),0)","v":0},""]
[null,null,null,null,null,null,{"$f":"IF(ISERROR(MATCH(F420,WKNrListe_Einzel,0)),\"\",LOOKUP(F420,WKNrListe_Einzel,Übersicht!$B$7:$B$62))","v":""},null,{"$f":"IF(ISBLANK(H420),\" \",IF(LOOKUP(H420,MannschaftsNrListe,Mannschaften!B$4:B$53)<>0,LOOKUP(H420,MannschaftsNrListe,Mannschaften!B$4:B$53),\"\"))","v":" "},null,null,null,null,null,null,null,null,null,null,null,null,null,null,null,null,null,null,null,null,null,0,{"$f":"IF(NOT(ISBLANK(F420)),LOOKUP(F420,WKNrListe,Übersicht!E$7:E$77),0)","v":0},""]
[null,null,null,null,null,null,{"$f":"IF(ISERROR(MATCH(F421,WKNrListe_Einzel,0)),\"\",LOOKUP(F421,WKNrListe_Einzel,Übersicht!$B$7:$B$62))","v":""},null,{"$f":"IF(ISBLANK(H421),\" \",IF(LOOKUP(H421,MannschaftsNrListe,Mannschaften!B$4:B$53)<>0,LOOKUP(H421,MannschaftsNrListe,Mannschaften!B$4:B$53),\"\"))","v":" "},null,null,null,null,null,null,null,null,null,null,null,null,null,null,null,null,null,null,null,null,null,0,{"$f":"IF(NOT(ISBLANK(F421)),LOOKUP(F421,WKNrListe,Übersicht!E$7:E$77),0)","v":0},""]
[null,null,null,null,null,null,{"$f":"IF(ISERROR(MATCH(F422,WKNrListe_Einzel,0)),\"\",LOOKUP(F422,WKNrListe_Einzel,Übersicht!$B$7:$B$62))","v":""},null,{"$f":"IF(ISBLANK(H422),\" \",IF(LOOKUP(H422,MannschaftsNrListe,Mannschaften!B$4:B$53)<>0,LOOKUP(H422,MannschaftsNrListe,Mannschaften!B$4:B$53),\"\"))","v":" "},null,null,null,null,null,null,null,null,null,null,null,null,null,null,null,null,null,null,null,null,null,0,{"$f":"IF(NOT(ISBLANK(F422)),LOOKUP(F422,WKNrListe,Übersicht!E$7:E$77),0)","v":0},""]
[null,null,null,null,null,null,{"$f":"IF(ISERROR(MATCH(F423,WKNrListe_Einzel,0)),\"\",LOOKUP(F423,WKNrListe_Einzel,Übersicht!$B$7:$B$62))","v":""},null,{"$f":"IF(ISBLANK(H423),\" \",IF(LOOKUP(H423,MannschaftsNrListe,Mannschaften!B$4:B$53)<>0,LOOKUP(H423,MannschaftsNrListe,Mannschaften!B$4:B$53),\"\"))","v":" "},null,null,null,null,null,null,null,null,null,null,null,null,null,null,null,null,null,null,null,null,null,0,{"$f":"IF(NOT(ISBLANK(F423)),LOOKUP(F423,WKNrListe,Übersicht!E$7:E$77),0)","v":0},""]
[null,null,null,null,null,null,{"$f":"IF(ISERROR(MATCH(F424,WKNrListe_Einzel,0)),\"\",LOOKUP(F424,WKNrListe_Einzel,Übersicht!$B$7:$B$62))","v":""},null,{"$f":"IF(ISBLANK(H424),\" \",IF(LOOKUP(H424,MannschaftsNrListe,Mannschaften!B$4:B$53)<>0,LOOKUP(H424,MannschaftsNrListe,Mannschaften!B$4:B$53),\"\"))","v":" "},null,null,null,null,null,null,null,null,null,null,null,null,null,null,null,null,null,null,null,null,null,0,{"$f":"IF(NOT(ISBLANK(F424)),LOOKUP(F424,WKNrListe,Übersicht!E$7:E$77),0)","v":0},""]
[null,null,null,null,null,null,{"$f":"IF(ISERROR(MATCH(F425,WKNrListe_Einzel,0)),\"\",LOOKUP(F425,WKNrListe_Einzel,Übersicht!$B$7:$B$62))","v":""},null,{"$f":"IF(ISBLANK(H425),\" \",IF(LOOKUP(H425,MannschaftsNrListe,Mannschaften!B$4:B$53)<>0,LOOKUP(H425,MannschaftsNrListe,Mannschaften!B$4:B$53),\"\"))","v":" "},null,null,null,null,null,null,null,null,null,null,null,null,null,null,null,null,null,null,null,null,null,0,{"$f":"IF(NOT(ISBLANK(F425)),LOOKUP(F425,WKNrListe,Übersicht!E$7:E$77),0)","v":0},""]
[null,null,null,null,null,null,{"$f":"IF(ISERROR(MATCH(F426,WKNrListe_Einzel,0)),\"\",LOOKUP(F426,WKNrListe_Einzel,Übersicht!$B$7:$B$62))","v":""},null,{"$f":"IF(ISBLANK(H426),\" \",IF(LOOKUP(H426,MannschaftsNrListe,Mannschaften!B$4:B$53)<>0,LOOKUP(H426,MannschaftsNrListe,Mannschaften!B$4:B$53),\"\"))","v":" "},null,null,null,null,null,null,null,null,null,null,null,null,null,null,null,null,null,null,null,null,null,0,{"$f":"IF(NOT(ISBLANK(F426)),LOOKUP(F426,WKNrListe,Übersicht!E$7:E$77),0)","v":0},""]
[null,null,null,null,null,null,{"$f":"IF(ISERROR(MATCH(F427,WKNrListe_Einzel,0)),\"\",LOOKUP(F427,WKNrListe_Einzel,Übersicht!$B$7:$B$62))","v":""},null,{"$f":"IF(ISBLANK(H427),\" \",IF(LOOKUP(H427,MannschaftsNrListe,Mannschaften!B$4:B$53)<>0,LOOKUP(H427,MannschaftsNrListe,Mannschaften!B$4:B$53),\"\"))","v":" "},null,null,null,null,null,null,null,null,null,null,null,null,null,null,null,null,null,null,null,null,null,0,{"$f":"IF(NOT(ISBLANK(F427)),LOOKUP(F427,WKNrListe,Übersicht!E$7:E$77),0)","v":0},""]
[null,null,null,null,null,null,{"$f":"IF(ISERROR(MATCH(F428,WKNrListe_Einzel,0)),\"\",LOOKUP(F428,WKNrListe_Einzel,Übersicht!$B$7:$B$62))","v":""},null,{"$f":"IF(ISBLANK(H428),\" \",IF(LOOKUP(H428,MannschaftsNrListe,Mannschaften!B$4:B$53)<>0,LOOKUP(H428,MannschaftsNrListe,Mannschaften!B$4:B$53),\"\"))","v":" "},null,null,null,null,null,null,null,null,null,null,null,null,null,null,null,null,null,null,null,null,null,0,{"$f":"IF(NOT(ISBLANK(F428)),LOOKUP(F428,WKNrListe,Übersicht!E$7:E$77),0)","v":0},""]
[null,null,null,null,null,null,{"$f":"IF(ISERROR(MATCH(F429,WKNrListe_Einzel,0)),\"\",LOOKUP(F429,WKNrListe_Einzel,Übersicht!$B$7:$B$62))","v":""},null,{"$f":"IF(ISBLANK(H429),\" \",IF(LOOKUP(H429,MannschaftsNrListe,Mannschaften!B$4:B$53)<>0,LOOKUP(H429,MannschaftsNrListe,Mannschaften!B$4:B$53),\"\"))","v":" "},null,null,null,null,null,null,null,null,null,null,null,null,null,null,null,null,null,null,null,null,null,0,{"$f":"IF(NOT(ISBLANK(F429)),LOOKUP(F429,WKNrListe,Übersicht!E$7:E$77),0)","v":0},""]
[null,null,null,null,null,null,{"$f":"IF(ISERROR(MATCH(F430,WKNrListe_Einzel,0)),\"\",LOOKUP(F430,WKNrListe_Einzel,Übersicht!$B$7:$B$62))","v":""},null,{"$f":"IF(ISBLANK(H430),\" \",IF(LOOKUP(H430,MannschaftsNrListe,Mannschaften!B$4:B$53)<>0,LOOKUP(H430,MannschaftsNrListe,Mannschaften!B$4:B$53),\"\"))","v":" "},null,null,null,null,null,null,null,null,null,null,null,null,null,null,null,null,null,null,null,null,null,0,{"$f":"IF(NOT(ISBLANK(F430)),LOOKUP(F430,WKNrListe,Übersicht!E$7:E$77),0)","v":0},""]
[null,null,null,null,null,null,{"$f":"IF(ISERROR(MATCH(F431,WKNrListe_Einzel,0)),\"\",LOOKUP(F431,WKNrListe_Einzel,Übersicht!$B$7:$B$62))","v":""},null,{"$f":"IF(ISBLANK(H431),\" \",IF(LOOKUP(H431,MannschaftsNrListe,Mannschaften!B$4:B$53)<>0,LOOKUP(H431,MannschaftsNrListe,Mannschaften!B$4:B$53),\"\"))","v":" "},null,null,null,null,null,null,null,null,null,null,null,null,null,null,null,null,null,null,null,null,null,0,{"$f":"IF(NOT(ISBLANK(F431)),LOOKUP(F431,WKNrListe,Übersicht!E$7:E$77),0)","v":0},""]
[null,null,null,null,null,null,{"$f":"IF(ISERROR(MATCH(F432,WKNrListe_Einzel,0)),\"\",LOOKUP(F432,WKNrListe_Einzel,Übersicht!$B$7:$B$62))","v":""},null,{"$f":"IF(ISBLANK(H432),\" \",IF(LOOKUP(H432,MannschaftsNrListe,Mannschaften!B$4:B$53)<>0,LOOKUP(H432,MannschaftsNrListe,Mannschaften!B$4:B$53),\"\"))","v":" "},null,null,null,null,null,null,null,null,null,null,null,null,null,null,null,null,null,null,null,null,null,0,{"$f":"IF(NOT(ISBLANK(F432)),LOOKUP(F432,WKNrListe,Übersicht!E$7:E$77),0)","v":0},""]
[null,null,null,null,null,null,{"$f":"IF(ISERROR(MATCH(F433,WKNrListe_Einzel,0)),\"\",LOOKUP(F433,WKNrListe_Einzel,Übersicht!$B$7:$B$62))","v":""},null,{"$f":"IF(ISBLANK(H433),\" \",IF(LOOKUP(H433,MannschaftsNrListe,Mannschaften!B$4:B$53)<>0,LOOKUP(H433,MannschaftsNrListe,Mannschaften!B$4:B$53),\"\"))","v":" "},null,null,null,null,null,null,null,null,null,null,null,null,null,null,null,null,null,null,null,null,null,0,{"$f":"IF(NOT(ISBLANK(F433)),LOOKUP(F433,WKNrListe,Übersicht!E$7:E$77),0)","v":0},""]
[null,null,null,null,null,null,{"$f":"IF(ISERROR(MATCH(F434,WKNrListe_Einzel,0)),\"\",LOOKUP(F434,WKNrListe_Einzel,Übersicht!$B$7:$B$62))","v":""},null,{"$f":"IF(ISBLANK(H434),\" \",IF(LOOKUP(H434,MannschaftsNrListe,Mannschaften!B$4:B$53)<>0,LOOKUP(H434,MannschaftsNrListe,Mannschaften!B$4:B$53),\"\"))","v":" "},null,null,null,null,null,null,null,null,null,null,null,null,null,null,null,null,null,null,null,null,null,0,{"$f":"IF(NOT(ISBLANK(F434)),LOOKUP(F434,WKNrListe,Übersicht!E$7:E$77),0)","v":0},""]
[null,null,null,null,null,null,{"$f":"IF(ISERROR(MATCH(F435,WKNrListe_Einzel,0)),\"\",LOOKUP(F435,WKNrListe_Einzel,Übersicht!$B$7:$B$62))","v":""},null,{"$f":"IF(ISBLANK(H435),\" \",IF(LOOKUP(H435,MannschaftsNrListe,Mannschaften!B$4:B$53)<>0,LOOKUP(H435,MannschaftsNrListe,Mannschaften!B$4:B$53),\"\"))","v":" "},null,null,null,null,null,null,null,null,null,null,null,null,null,null,null,null,null,null,null,null,null,0,{"$f":"IF(NOT(ISBLANK(F435)),LOOKUP(F435,WKNrListe,Übersicht!E$7:E$77),0)","v":0},""]
[null,null,null,null,null,null,{"$f":"IF(ISERROR(MATCH(F436,WKNrListe_Einzel,0)),\"\",LOOKUP(F436,WKNrListe_Einzel,Übersicht!$B$7:$B$62))","v":""},null,{"$f":"IF(ISBLANK(H436),\" \",IF(LOOKUP(H436,MannschaftsNrListe,Mannschaften!B$4:B$53)<>0,LOOKUP(H436,MannschaftsNrListe,Mannschaften!B$4:B$53),\"\"))","v":" "},null,null,null,null,null,null,null,null,null,null,null,null,null,null,null,null,null,null,null,null,null,0,{"$f":"IF(NOT(ISBLANK(F436)),LOOKUP(F436,WKNrListe,Übersicht!E$7:E$77),0)","v":0},""]
[null,null,null,null,null,null,{"$f":"IF(ISERROR(MATCH(F437,WKNrListe_Einzel,0)),\"\",LOOKUP(F437,WKNrListe_Einzel,Übersicht!$B$7:$B$62))","v":""},null,{"$f":"IF(ISBLANK(H437),\" \",IF(LOOKUP(H437,MannschaftsNrListe,Mannschaften!B$4:B$53)<>0,LOOKUP(H437,MannschaftsNrListe,Mannschaften!B$4:B$53),\"\"))","v":" "},null,null,null,null,null,null,null,null,null,null,null,null,null,null,null,null,null,null,null,null,null,0,{"$f":"IF(NOT(ISBLANK(F437)),LOOKUP(F437,WKNrListe,Übersicht!E$7:E$77),0)","v":0},""]
[null,null,null,null,null,null,{"$f":"IF(ISERROR(MATCH(F438,WKNrListe_Einzel,0)),\"\",LOOKUP(F438,WKNrListe_Einzel,Übersicht!$B$7:$B$62))","v":""},null,{"$f":"IF(ISBLANK(H438),\" \",IF(LOOKUP(H438,MannschaftsNrListe,Mannschaften!B$4:B$53)<>0,LOOKUP(H438,MannschaftsNrListe,Mannschaften!B$4:B$53),\"\"))","v":" "},null,null,null,null,null,null,null,null,null,null,null,null,null,null,null,null,null,null,null,null,null,0,{"$f":"IF(NOT(ISBLANK(F438)),LOOKUP(F438,WKNrListe,Übersicht!E$7:E$77),0)","v":0},""]
[null,null,null,null,null,null,{"$f":"IF(ISERROR(MATCH(F439,WKNrListe_Einzel,0)),\"\",LOOKUP(F439,WKNrListe_Einzel,Übersicht!$B$7:$B$62))","v":""},null,{"$f":"IF(ISBLANK(H439),\" \",IF(LOOKUP(H439,MannschaftsNrListe,Mannschaften!B$4:B$53)<>0,LOOKUP(H439,MannschaftsNrListe,Mannschaften!B$4:B$53),\"\"))","v":" "},null,null,null,null,null,null,null,null,null,null,null,null,null,null,null,null,null,null,null,null,null,0,{"$f":"IF(NOT(ISBLANK(F439)),LOOKUP(F439,WKNrListe,Übersicht!E$7:E$77),0)","v":0},""]
[null,null,null,null,null,null,{"$f":"IF(ISERROR(MATCH(F440,WKNrListe_Einzel,0)),\"\",LOOKUP(F440,WKNrListe_Einzel,Übersicht!$B$7:$B$62))","v":""},null,{"$f":"IF(ISBLANK(H440),\" \",IF(LOOKUP(H440,MannschaftsNrListe,Mannschaften!B$4:B$53)<>0,LOOKUP(H440,MannschaftsNrListe,Mannschaften!B$4:B$53),\"\"))","v":" "},null,null,null,null,null,null,null,null,null,null,null,null,null,null,null,null,null,null,null,null,null,0,{"$f":"IF(NOT(ISBLANK(F440)),LOOKUP(F440,WKNrListe,Übersicht!E$7:E$77),0)","v":0},""]
[null,null,null,null,null,null,{"$f":"IF(ISERROR(MATCH(F441,WKNrListe_Einzel,0)),\"\",LOOKUP(F441,WKNrListe_Einzel,Übersicht!$B$7:$B$62))","v":""},null,{"$f":"IF(ISBLANK(H441),\" \",IF(LOOKUP(H441,MannschaftsNrListe,Mannschaften!B$4:B$53)<>0,LOOKUP(H441,MannschaftsNrListe,Mannschaften!B$4:B$53),\"\"))","v":" "},null,null,null,null,null,null,null,null,null,null,null,null,null,null,null,null,null,null,null,null,null,0,{"$f":"IF(NOT(ISBLANK(F441)),LOOKUP(F441,WKNrListe,Übersicht!E$7:E$77),0)","v":0},""]
[null,null,null,null,null,null,{"$f":"IF(ISERROR(MATCH(F442,WKNrListe_Einzel,0)),\"\",LOOKUP(F442,WKNrListe_Einzel,Übersicht!$B$7:$B$62))","v":""},null,{"$f":"IF(ISBLANK(H442),\" \",IF(LOOKUP(H442,MannschaftsNrListe,Mannschaften!B$4:B$53)<>0,LOOKUP(H442,MannschaftsNrListe,Mannschaften!B$4:B$53),\"\"))","v":" "},null,null,null,null,null,null,null,null,null,null,null,null,null,null,null,null,null,null,null,null,null,0,{"$f":"IF(NOT(ISBLANK(F442)),LOOKUP(F442,WKNrListe,Übersicht!E$7:E$77),0)","v":0},""]
[null,null,null,null,null,null,{"$f":"IF(ISERROR(MATCH(F443,WKNrListe_Einzel,0)),\"\",LOOKUP(F443,WKNrListe_Einzel,Übersicht!$B$7:$B$62))","v":""},null,{"$f":"IF(ISBLANK(H443),\" \",IF(LOOKUP(H443,MannschaftsNrListe,Mannschaften!B$4:B$53)<>0,LOOKUP(H443,MannschaftsNrListe,Mannschaften!B$4:B$53),\"\"))","v":" "},null,null,null,null,null,null,null,null,null,null,null,null,null,null,null,null,null,null,null,null,null,0,{"$f":"IF(NOT(ISBLANK(F443)),LOOKUP(F443,WKNrListe,Übersicht!E$7:E$77),0)","v":0},""]
[null,null,null,null,null,null,{"$f":"IF(ISERROR(MATCH(F444,WKNrListe_Einzel,0)),\"\",LOOKUP(F444,WKNrListe_Einzel,Übersicht!$B$7:$B$62))","v":""},null,{"$f":"IF(ISBLANK(H444),\" \",IF(LOOKUP(H444,MannschaftsNrListe,Mannschaften!B$4:B$53)<>0,LOOKUP(H444,MannschaftsNrListe,Mannschaften!B$4:B$53),\"\"))","v":" "},null,null,null,null,null,null,null,null,null,null,null,null,null,null,null,null,null,null,null,null,null,0,{"$f":"IF(NOT(ISBLANK(F444)),LOOKUP(F444,WKNrListe,Übersicht!E$7:E$77),0)","v":0},""]
[null,null,null,null,null,null,{"$f":"IF(ISERROR(MATCH(F445,WKNrListe_Einzel,0)),\"\",LOOKUP(F445,WKNrListe_Einzel,Übersicht!$B$7:$B$62))","v":""},null,{"$f":"IF(ISBLANK(H445),\" \",IF(LOOKUP(H445,MannschaftsNrListe,Mannschaften!B$4:B$53)<>0,LOOKUP(H445,MannschaftsNrListe,Mannschaften!B$4:B$53),\"\"))","v":" "},null,null,null,null,null,null,null,null,null,null,null,null,null,null,null,null,null,null,null,null,null,0,{"$f":"IF(NOT(ISBLANK(F445)),LOOKUP(F445,WKNrListe,Übersicht!E$7:E$77),0)","v":0},""]
[null,null,null,null,null,null,{"$f":"IF(ISERROR(MATCH(F446,WKNrListe_Einzel,0)),\"\",LOOKUP(F446,WKNrListe_Einzel,Übersicht!$B$7:$B$62))","v":""},null,{"$f":"IF(ISBLANK(H446),\" \",IF(LOOKUP(H446,MannschaftsNrListe,Mannschaften!B$4:B$53)<>0,LOOKUP(H446,MannschaftsNrListe,Mannschaften!B$4:B$53),\"\"))","v":" "},null,null,null,null,null,null,null,null,null,null,null,null,null,null,null,null,null,null,null,null,null,0,{"$f":"IF(NOT(ISBLANK(F446)),LOOKUP(F446,WKNrListe,Übersicht!E$7:E$77),0)","v":0},""]
[null,null,null,null,null,null,{"$f":"IF(ISERROR(MATCH(F447,WKNrListe_Einzel,0)),\"\",LOOKUP(F447,WKNrListe_Einzel,Übersicht!$B$7:$B$62))","v":""},null,{"$f":"IF(ISBLANK(H447),\" \",IF(LOOKUP(H447,MannschaftsNrListe,Mannschaften!B$4:B$53)<>0,LOOKUP(H447,MannschaftsNrListe,Mannschaften!B$4:B$53),\"\"))","v":" "},null,null,null,null,null,null,null,null,null,null,null,null,null,null,null,null,null,null,null,null,null,0,{"$f":"IF(NOT(ISBLANK(F447)),LOOKUP(F447,WKNrListe,Übersicht!E$7:E$77),0)","v":0},""]
[null,null,null,null,null,null,{"$f":"IF(ISERROR(MATCH(F448,WKNrListe_Einzel,0)),\"\",LOOKUP(F448,WKNrListe_Einzel,Übersicht!$B$7:$B$62))","v":""},null,{"$f":"IF(ISBLANK(H448),\" \",IF(LOOKUP(H448,MannschaftsNrListe,Mannschaften!B$4:B$53)<>0,LOOKUP(H448,MannschaftsNrListe,Mannschaften!B$4:B$53),\"\"))","v":" "},null,null,null,null,null,null,null,null,null,null,null,null,null,null,null,null,null,null,null,null,null,0,{"$f":"IF(NOT(ISBLANK(F448)),LOOKUP(F448,WKNrListe,Übersicht!E$7:E$77),0)","v":0},""]
[null,null,null,null,null,null,{"$f":"IF(ISERROR(MATCH(F449,WKNrListe_Einzel,0)),\"\",LOOKUP(F449,WKNrListe_Einzel,Übersicht!$B$7:$B$62))","v":""},null,{"$f":"IF(ISBLANK(H449),\" \",IF(LOOKUP(H449,MannschaftsNrListe,Mannschaften!B$4:B$53)<>0,LOOKUP(H449,MannschaftsNrListe,Mannschaften!B$4:B$53),\"\"))","v":" "},null,null,null,null,null,null,null,null,null,null,null,null,null,null,null,null,null,null,null,null,null,0,{"$f":"IF(NOT(ISBLANK(F449)),LOOKUP(F449,WKNrListe,Übersicht!E$7:E$77),0)","v":0},""]
[null,null,null,null,null,null,{"$f":"IF(ISERROR(MATCH(F450,WKNrListe_Einzel,0)),\"\",LOOKUP(F450,WKNrListe_Einzel,Übersicht!$B$7:$B$62))","v":""},null,{"$f":"IF(ISBLANK(H450),\" \",IF(LOOKUP(H450,MannschaftsNrListe,Mannschaften!B$4:B$53)<>0,LOOKUP(H450,MannschaftsNrListe,Mannschaften!B$4:B$53),\"\"))","v":" "},null,null,null,null,null,null,null,null,null,null,null,null,null,null,null,null,null,null,null,null,null,0,{"$f":"IF(NOT(ISBLANK(F450)),LOOKUP(F450,WKNrListe,Übersicht!E$7:E$77),0)","v":0},""]
[null,null,null,null,null,null,{"$f":"IF(ISERROR(MATCH(F451,WKNrListe_Einzel,0)),\"\",LOOKUP(F451,WKNrListe_Einzel,Übersicht!$B$7:$B$62))","v":""},null,{"$f":"IF(ISBLANK(H451),\" \",IF(LOOKUP(H451,MannschaftsNrListe,Mannschaften!B$4:B$53)<>0,LOOKUP(H451,MannschaftsNrListe,Mannschaften!B$4:B$53),\"\"))","v":" "},null,null,null,null,null,null,null,null,null,null,null,null,null,null,null,null,null,null,null,null,null,0,{"$f":"IF(NOT(ISBLANK(F451)),LOOKUP(F451,WKNrListe,Übersicht!E$7:E$77),0)","v":0},""]
[null,null,null,null,null,null,{"$f":"IF(ISERROR(MATCH(F452,WKNrListe_Einzel,0)),\"\",LOOKUP(F452,WKNrListe_Einzel,Übersicht!$B$7:$B$62))","v":""},null,{"$f":"IF(ISBLANK(H452),\" \",IF(LOOKUP(H452,MannschaftsNrListe,Mannschaften!B$4:B$53)<>0,LOOKUP(H452,MannschaftsNrListe,Mannschaften!B$4:B$53),\"\"))","v":" "},null,null,null,null,null,null,null,null,null,null,null,null,null,null,null,null,null,null,null,null,null,0,{"$f":"IF(NOT(ISBLANK(F452)),LOOKUP(F452,WKNrListe,Übersicht!E$7:E$77),0)","v":0},""]
[null,null,null,null,null,null,{"$f":"IF(ISERROR(MATCH(F453,WKNrListe_Einzel,0)),\"\",LOOKUP(F453,WKNrListe_Einzel,Übersicht!$B$7:$B$62))","v":""},null,{"$f":"IF(ISBLANK(H453),\" \",IF(LOOKUP(H453,MannschaftsNrListe,Mannschaften!B$4:B$53)<>0,LOOKUP(H453,MannschaftsNrListe,Mannschaften!B$4:B$53),\"\"))","v":" "},null,null,null,null,null,null,null,null,null,null,null,null,null,null,null,null,null,null,null,null,null,0,{"$f":"IF(NOT(ISBLANK(F453)),LOOKUP(F453,WKNrListe,Übersicht!E$7:E$77),0)","v":0},{"$f":"IF(\n AND(\n  OR(ISTEXT(A453), ISTEXT(B453), NOT(ISBLANK(E453)), NOT(ISBLANK(F453)), NOT(ISBLANK(H453))),\n  OR(ISBLANK(A453),ISBLANK(B453),AND(ISBLANK(E453),ISBLANK(F453),ISBLANK(H453)))\n ),\n \"unvollständig\",\n IF(\n  AND(\n   NOT(\n    ISBLANK(H453)\n    ),\n   NOT(ISNUMBER(I453))\n  ),\n  \"Seite Mannschaften ausfüllen!\",\n  IF(AF453>AE453,\"zu wenig Disziplinen gewählt\",IF(AE453>AF453,\"zu viele Disziplinen gewählt\",\"\"))\n )\n)","v":""}]
[null,null,null,null,null,null,{"$f":"IF(ISERROR(MATCH(F454,WKNrListe_Einzel,0)),\"\",LOOKUP(F454,WKNrListe_Einzel,Übersicht!$B$7:$B$62))","v":""},null,{"$f":"IF(ISBLANK(H454),\" \",IF(LOOKUP(H454,MannschaftsNrListe,Mannschaften!B$4:B$53)<>0,LOOKUP(H454,MannschaftsNrListe,Mannschaften!B$4:B$53),\"\"))","v":" "},null,null,null,null,null,null,null,null,null,null,null,null,null,null,null,null,null,null,null,null,null,{"$f":"COUNTIF(J454:AD454,\">''\")","v":0},{"$f":"IF(NOT(ISBLANK(F454)),LOOKUP(F454,WKNrListe,Übersicht!E$7:E$77),0)","v":0},""]
[null,null,null,null,null,null,{"$f":"IF(ISERROR(MATCH(F455,WKNrListe_Einzel,0)),\"\",LOOKUP(F455,WKNrListe_Einzel,Übersicht!$B$7:$B$62))","v":""},null,{"$f":"IF(ISBLANK(H455),\" \",IF(LOOKUP(H455,MannschaftsNrListe,Mannschaften!B$4:B$53)<>0,LOOKUP(H455,MannschaftsNrListe,Mannschaften!B$4:B$53),\"\"))","v":" "},null,null,null,null,null,null,null,null,null,null,null,null,null,null,null,null,null,null,null,null,null,0,{"$f":"IF(NOT(ISBLANK(F455)),LOOKUP(F455,WKNrListe,Übersicht!E$7:E$77),0)","v":0},""]
[null,null,null,null,null,null,{"$f":"IF(ISERROR(MATCH(F456,WKNrListe_Einzel,0)),\"\",LOOKUP(F456,WKNrListe_Einzel,Übersicht!$B$7:$B$62))","v":""},null,{"$f":"IF(ISBLANK(H456),\" \",IF(LOOKUP(H456,MannschaftsNrListe,Mannschaften!B$4:B$53)<>0,LOOKUP(H456,MannschaftsNrListe,Mannschaften!B$4:B$53),\"\"))","v":" "},null,null,null,null,null,null,null,null,null,null,null,null,null,null,null,null,null,null,null,null,null,0,{"$f":"IF(NOT(ISBLANK(F456)),LOOKUP(F456,WKNrListe,Übersicht!E$7:E$77),0)","v":0},""]
[null,null,null,null,null,null,{"$f":"IF(ISERROR(MATCH(F457,WKNrListe_Einzel,0)),\"\",LOOKUP(F457,WKNrListe_Einzel,Übersicht!$B$7:$B$62))","v":""},null,{"$f":"IF(ISBLANK(H457),\" \",IF(LOOKUP(H457,MannschaftsNrListe,Mannschaften!B$4:B$53)<>0,LOOKUP(H457,MannschaftsNrListe,Mannschaften!B$4:B$53),\"\"))","v":" "},null,null,null,null,null,null,null,null,null,null,null,null,null,null,null,null,null,null,null,null,null,0,{"$f":"IF(NOT(ISBLANK(F457)),LOOKUP(F457,WKNrListe,Übersicht!E$7:E$77),0)","v":0},""]
[null,null,null,null,null,null,{"$f":"IF(ISERROR(MATCH(F458,WKNrListe_Einzel,0)),\"\",LOOKUP(F458,WKNrListe_Einzel,Übersicht!$B$7:$B$62))","v":""},null,{"$f":"IF(ISBLANK(H458),\" \",IF(LOOKUP(H458,MannschaftsNrListe,Mannschaften!B$4:B$53)<>0,LOOKUP(H458,MannschaftsNrListe,Mannschaften!B$4:B$53),\"\"))","v":" "},null,null,null,null,null,null,null,null,null,null,null,null,null,null,null,null,null,null,null,null,null,0,{"$f":"IF(NOT(ISBLANK(F458)),LOOKUP(F458,WKNrListe,Übersicht!E$7:E$77),0)","v":0},""]
[null,null,null,null,null,null,{"$f":"IF(ISERROR(MATCH(F459,WKNrListe_Einzel,0)),\"\",LOOKUP(F459,WKNrListe_Einzel,Übersicht!$B$7:$B$62))","v":""},null,{"$f":"IF(ISBLANK(H459),\" \",IF(LOOKUP(H459,MannschaftsNrListe,Mannschaften!B$4:B$53)<>0,LOOKUP(H459,MannschaftsNrListe,Mannschaften!B$4:B$53),\"\"))","v":" "},null,null,null,null,null,null,null,null,null,null,null,null,null,null,null,null,null,null,null,null,null,0,{"$f":"IF(NOT(ISBLANK(F459)),LOOKUP(F459,WKNrListe,Übersicht!E$7:E$77),0)","v":0},""]
[null,null,null,null,null,null,{"$f":"IF(ISERROR(MATCH(F460,WKNrListe_Einzel,0)),\"\",LOOKUP(F460,WKNrListe_Einzel,Übersicht!$B$7:$B$62))","v":""},null,{"$f":"IF(ISBLANK(H460),\" \",IF(LOOKUP(H460,MannschaftsNrListe,Mannschaften!B$4:B$53)<>0,LOOKUP(H460,MannschaftsNrListe,Mannschaften!B$4:B$53),\"\"))","v":" "},null,null,null,null,null,null,null,null,null,null,null,null,null,null,null,null,null,null,null,null,null,0,{"$f":"IF(NOT(ISBLANK(F460)),LOOKUP(F460,WKNrListe,Übersicht!E$7:E$77),0)","v":0},""]
[null,null,null,null,null,null,{"$f":"IF(ISERROR(MATCH(F461,WKNrListe_Einzel,0)),\"\",LOOKUP(F461,WKNrListe_Einzel,Übersicht!$B$7:$B$62))","v":""},null,{"$f":"IF(ISBLANK(H461),\" \",IF(LOOKUP(H461,MannschaftsNrListe,Mannschaften!B$4:B$53)<>0,LOOKUP(H461,MannschaftsNrListe,Mannschaften!B$4:B$53),\"\"))","v":" "},null,null,null,null,null,null,null,null,null,null,null,null,null,null,null,null,null,null,null,null,null,0,{"$f":"IF(NOT(ISBLANK(F461)),LOOKUP(F461,WKNrListe,Übersicht!E$7:E$77),0)","v":0},""]
[null,null,null,null,null,null,{"$f":"IF(ISERROR(MATCH(F462,WKNrListe_Einzel,0)),\"\",LOOKUP(F462,WKNrListe_Einzel,Übersicht!$B$7:$B$62))","v":""},null,{"$f":"IF(ISBLANK(H462),\" \",IF(LOOKUP(H462,MannschaftsNrListe,Mannschaften!B$4:B$53)<>0,LOOKUP(H462,MannschaftsNrListe,Mannschaften!B$4:B$53),\"\"))","v":" "},null,null,null,null,null,null,null,null,null,null,null,null,null,null,null,null,null,null,null,null,null,0,{"$f":"IF(NOT(ISBLANK(F462)),LOOKUP(F462,WKNrListe,Übersicht!E$7:E$77),0)","v":0},""]
[null,null,null,null,null,null,{"$f":"IF(ISERROR(MATCH(F463,WKNrListe_Einzel,0)),\"\",LOOKUP(F463,WKNrListe_Einzel,Übersicht!$B$7:$B$62))","v":""},null,{"$f":"IF(ISBLANK(H463),\" \",IF(LOOKUP(H463,MannschaftsNrListe,Mannschaften!B$4:B$53)<>0,LOOKUP(H463,MannschaftsNrListe,Mannschaften!B$4:B$53),\"\"))","v":" "},null,null,null,null,null,null,null,null,null,null,null,null,null,null,null,null,null,null,null,null,null,0,{"$f":"IF(NOT(ISBLANK(F463)),LOOKUP(F463,WKNrListe,Übersicht!E$7:E$77),0)","v":0},""]
[null,null,null,null,null,null,{"$f":"IF(ISERROR(MATCH(F464,WKNrListe_Einzel,0)),\"\",LOOKUP(F464,WKNrListe_Einzel,Übersicht!$B$7:$B$62))","v":""},null,{"$f":"IF(ISBLANK(H464),\" \",IF(LOOKUP(H464,MannschaftsNrListe,Mannschaften!B$4:B$53)<>0,LOOKUP(H464,MannschaftsNrListe,Mannschaften!B$4:B$53),\"\"))","v":" "},null,null,null,null,null,null,null,null,null,null,null,null,null,null,null,null,null,null,null,null,null,0,{"$f":"IF(NOT(ISBLANK(F464)),LOOKUP(F464,WKNrListe,Übersicht!E$7:E$77),0)","v":0},""]
[null,null,null,null,null,null,{"$f":"IF(ISERROR(MATCH(F465,WKNrListe_Einzel,0)),\"\",LOOKUP(F465,WKNrListe_Einzel,Übersicht!$B$7:$B$62))","v":""},null,{"$f":"IF(ISBLANK(H465),\" \",IF(LOOKUP(H465,MannschaftsNrListe,Mannschaften!B$4:B$53)<>0,LOOKUP(H465,MannschaftsNrListe,Mannschaften!B$4:B$53),\"\"))","v":" "},null,null,null,null,null,null,null,null,null,null,null,null,null,null,null,null,null,null,null,null,null,0,{"$f":"IF(NOT(ISBLANK(F465)),LOOKUP(F465,WKNrListe,Übersicht!E$7:E$77),0)","v":0},""]
[null,null,null,null,null,null,{"$f":"IF(ISERROR(MATCH(F466,WKNrListe_Einzel,0)),\"\",LOOKUP(F466,WKNrListe_Einzel,Übersicht!$B$7:$B$62))","v":""},null,{"$f":"IF(ISBLANK(H466),\" \",IF(LOOKUP(H466,MannschaftsNrListe,Mannschaften!B$4:B$53)<>0,LOOKUP(H466,MannschaftsNrListe,Mannschaften!B$4:B$53),\"\"))","v":" "},null,null,null,null,null,null,null,null,null,null,null,null,null,null,null,null,null,null,null,null,null,0,{"$f":"IF(NOT(ISBLANK(F466)),LOOKUP(F466,WKNrListe,Übersicht!E$7:E$77),0)","v":0},""]
[null,null,null,null,null,null,{"$f":"IF(ISERROR(MATCH(F467,WKNrListe_Einzel,0)),\"\",LOOKUP(F467,WKNrListe_Einzel,Übersicht!$B$7:$B$62))","v":""},null,{"$f":"IF(ISBLANK(H467),\" \",IF(LOOKUP(H467,MannschaftsNrListe,Mannschaften!B$4:B$53)<>0,LOOKUP(H467,MannschaftsNrListe,Mannschaften!B$4:B$53),\"\"))","v":" "},null,null,null,null,null,null,null,null,null,null,null,null,null,null,null,null,null,null,null,null,null,0,{"$f":"IF(NOT(ISBLANK(F467)),LOOKUP(F467,WKNrListe,Übersicht!E$7:E$77),0)","v":0},""]
[null,null,null,null,null,null,{"$f":"IF(ISERROR(MATCH(F468,WKNrListe_Einzel,0)),\"\",LOOKUP(F468,WKNrListe_Einzel,Übersicht!$B$7:$B$62))","v":""},null,{"$f":"IF(ISBLANK(H468),\" \",IF(LOOKUP(H468,MannschaftsNrListe,Mannschaften!B$4:B$53)<>0,LOOKUP(H468,MannschaftsNrListe,Mannschaften!B$4:B$53),\"\"))","v":" "},null,null,null,null,null,null,null,null,null,null,null,null,null,null,null,null,null,null,null,null,null,0,{"$f":"IF(NOT(ISBLANK(F468)),LOOKUP(F468,WKNrListe,Übersicht!E$7:E$77),0)","v":0},""]
[null,null,null,null,null,null,{"$f":"IF(ISERROR(MATCH(F469,WKNrListe_Einzel,0)),\"\",LOOKUP(F469,WKNrListe_Einzel,Übersicht!$B$7:$B$62))","v":""},null,{"$f":"IF(ISBLANK(H469),\" \",IF(LOOKUP(H469,MannschaftsNrListe,Mannschaften!B$4:B$53)<>0,LOOKUP(H469,MannschaftsNrListe,Mannschaften!B$4:B$53),\"\"))","v":" "},null,null,null,null,null,null,null,null,null,null,null,null,null,null,null,null,null,null,null,null,null,0,{"$f":"IF(NOT(ISBLANK(F469)),LOOKUP(F469,WKNrListe,Übersicht!E$7:E$77),0)","v":0},""]
[null,null,null,null,null,null,{"$f":"IF(ISERROR(MATCH(F470,WKNrListe_Einzel,0)),\"\",LOOKUP(F470,WKNrListe_Einzel,Übersicht!$B$7:$B$62))","v":""},null,{"$f":"IF(ISBLANK(H470),\" \",IF(LOOKUP(H470,MannschaftsNrListe,Mannschaften!B$4:B$53)<>0,LOOKUP(H470,MannschaftsNrListe,Mannschaften!B$4:B$53),\"\"))","v":" "},null,null,null,null,null,null,null,null,null,null,null,null,null,null,null,null,null,null,null,null,null,0,{"$f":"IF(NOT(ISBLANK(F470)),LOOKUP(F470,WKNrListe,Übersicht!E$7:E$77),0)","v":0},""]
[null,null,null,null,null,null,{"$f":"IF(ISERROR(MATCH(F471,WKNrListe_Einzel,0)),\"\",LOOKUP(F471,WKNrListe_Einzel,Übersicht!$B$7:$B$62))","v":""},null,{"$f":"IF(ISBLANK(H471),\" \",IF(LOOKUP(H471,MannschaftsNrListe,Mannschaften!B$4:B$53)<>0,LOOKUP(H471,MannschaftsNrListe,Mannschaften!B$4:B$53),\"\"))","v":" "},null,null,null,null,null,null,null,null,null,null,null,null,null,null,null,null,null,null,null,null,null,0,{"$f":"IF(NOT(ISBLANK(F471)),LOOKUP(F471,WKNrListe,Übersicht!E$7:E$77),0)","v":0},""]
[null,null,null,null,null,null,{"$f":"IF(ISERROR(MATCH(F472,WKNrListe_Einzel,0)),\"\",LOOKUP(F472,WKNrListe_Einzel,Übersicht!$B$7:$B$62))","v":""},null,{"$f":"IF(ISBLANK(H472),\" \",IF(LOOKUP(H472,MannschaftsNrListe,Mannschaften!B$4:B$53)<>0,LOOKUP(H472,MannschaftsNrListe,Mannschaften!B$4:B$53),\"\"))","v":" "},null,null,null,null,null,null,null,null,null,null,null,null,null,null,null,null,null,null,null,null,null,0,{"$f":"IF(NOT(ISBLANK(F472)),LOOKUP(F472,WKNrListe,Übersicht!E$7:E$77),0)","v":0},""]
[null,null,null,null,null,null,{"$f":"IF(ISERROR(MATCH(F473,WKNrListe_Einzel,0)),\"\",LOOKUP(F473,WKNrListe_Einzel,Übersicht!$B$7:$B$62))","v":""},null,{"$f":"IF(ISBLANK(H473),\" \",IF(LOOKUP(H473,MannschaftsNrListe,Mannschaften!B$4:B$53)<>0,LOOKUP(H473,MannschaftsNrListe,Mannschaften!B$4:B$53),\"\"))","v":" "},null,null,null,null,null,null,null,null,null,null,null,null,null,null,null,null,null,null,null,null,null,0,{"$f":"IF(NOT(ISBLANK(F473)),LOOKUP(F473,WKNrListe,Übersicht!E$7:E$77),0)","v":0},""]
[null,null,null,null,null,null,{"$f":"IF(ISERROR(MATCH(F474,WKNrListe_Einzel,0)),\"\",LOOKUP(F474,WKNrListe_Einzel,Übersicht!$B$7:$B$62))","v":""},null,{"$f":"IF(ISBLANK(H474),\" \",IF(LOOKUP(H474,MannschaftsNrListe,Mannschaften!B$4:B$53)<>0,LOOKUP(H474,MannschaftsNrListe,Mannschaften!B$4:B$53),\"\"))","v":" "},null,null,null,null,null,null,null,null,null,null,null,null,null,null,null,null,null,null,null,null,null,0,{"$f":"IF(NOT(ISBLANK(F474)),LOOKUP(F474,WKNrListe,Übersicht!E$7:E$77),0)","v":0},""]
[null,null,null,null,null,null,{"$f":"IF(ISERROR(MATCH(F475,WKNrListe_Einzel,0)),\"\",LOOKUP(F475,WKNrListe_Einzel,Übersicht!$B$7:$B$62))","v":""},null,{"$f":"IF(ISBLANK(H475),\" \",IF(LOOKUP(H475,MannschaftsNrListe,Mannschaften!B$4:B$53)<>0,LOOKUP(H475,MannschaftsNrListe,Mannschaften!B$4:B$53),\"\"))","v":" "},null,null,null,null,null,null,null,null,null,null,null,null,null,null,null,null,null,null,null,null,null,0,{"$f":"IF(NOT(ISBLANK(F475)),LOOKUP(F475,WKNrListe,Übersicht!E$7:E$77),0)","v":0},""]
[null,null,null,null,null,null,{"$f":"IF(ISERROR(MATCH(F476,WKNrListe_Einzel,0)),\"\",LOOKUP(F476,WKNrListe_Einzel,Übersicht!$B$7:$B$62))","v":""},null,{"$f":"IF(ISBLANK(H476),\" \",IF(LOOKUP(H476,MannschaftsNrListe,Mannschaften!B$4:B$53)<>0,LOOKUP(H476,MannschaftsNrListe,Mannschaften!B$4:B$53),\"\"))","v":" "},null,null,null,null,null,null,null,null,null,null,null,null,null,null,null,null,null,null,null,null,null,0,{"$f":"IF(NOT(ISBLANK(F476)),LOOKUP(F476,WKNrListe,Übersicht!E$7:E$77),0)","v":0},""]
[null,null,null,null,null,null,{"$f":"IF(ISERROR(MATCH(F477,WKNrListe_Einzel,0)),\"\",LOOKUP(F477,WKNrListe_Einzel,Übersicht!$B$7:$B$62))","v":""},null,{"$f":"IF(ISBLANK(H477),\" \",IF(LOOKUP(H477,MannschaftsNrListe,Mannschaften!B$4:B$53)<>0,LOOKUP(H477,MannschaftsNrListe,Mannschaften!B$4:B$53),\"\"))","v":" "},null,null,null,null,null,null,null,null,null,null,null,null,null,null,null,null,null,null,null,null,null,0,{"$f":"IF(NOT(ISBLANK(F477)),LOOKUP(F477,WKNrListe,Übersicht!E$7:E$77),0)","v":0},""]
[null,null,null,null,null,null,{"$f":"IF(ISERROR(MATCH(F478,WKNrListe_Einzel,0)),\"\",LOOKUP(F478,WKNrListe_Einzel,Übersicht!$B$7:$B$62))","v":""},null,{"$f":"IF(ISBLANK(H478),\" \",IF(LOOKUP(H478,MannschaftsNrListe,Mannschaften!B$4:B$53)<>0,LOOKUP(H478,MannschaftsNrListe,Mannschaften!B$4:B$53),\"\"))","v":" "},null,null,null,null,null,null,null,null,null,null,null,null,null,null,null,null,null,null,null,null,null,0,{"$f":"IF(NOT(ISBLANK(F478)),LOOKUP(F478,WKNrListe,Übersicht!E$7:E$77),0)","v":0},""]
[null,null,null,null,null,null,{"$f":"IF(ISERROR(MATCH(F479,WKNrListe_Einzel,0)),\"\",LOOKUP(F479,WKNrListe_Einzel,Übersicht!$B$7:$B$62))","v":""},null,{"$f":"IF(ISBLANK(H479),\" \",IF(LOOKUP(H479,MannschaftsNrListe,Mannschaften!B$4:B$53)<>0,LOOKUP(H479,MannschaftsNrListe,Mannschaften!B$4:B$53),\"\"))","v":" "},null,null,null,null,null,null,null,null,null,null,null,null,null,null,null,null,null,null,null,null,null,0,{"$f":"IF(NOT(ISBLANK(F479)),LOOKUP(F479,WKNrListe,Übersicht!E$7:E$77),0)","v":0},""]
[null,null,null,null,null,null,{"$f":"IF(ISERROR(MATCH(F480,WKNrListe_Einzel,0)),\"\",LOOKUP(F480,WKNrListe_Einzel,Übersicht!$B$7:$B$62))","v":""},null,{"$f":"IF(ISBLANK(H480),\" \",IF(LOOKUP(H480,MannschaftsNrListe,Mannschaften!B$4:B$53)<>0,LOOKUP(H480,MannschaftsNrListe,Mannschaften!B$4:B$53),\"\"))","v":" "},null,null,null,null,null,null,null,null,null,null,null,null,null,null,null,null,null,null,null,null,null,0,{"$f":"IF(NOT(ISBLANK(F480)),LOOKUP(F480,WKNrListe,Übersicht!E$7:E$77),0)","v":0},""]
[null,null,null,null,null,null,{"$f":"IF(ISERROR(MATCH(F481,WKNrListe_Einzel,0)),\"\",LOOKUP(F481,WKNrListe_Einzel,Übersicht!$B$7:$B$62))","v":""},null,{"$f":"IF(ISBLANK(H481),\" \",IF(LOOKUP(H481,MannschaftsNrListe,Mannschaften!B$4:B$53)<>0,LOOKUP(H481,MannschaftsNrListe,Mannschaften!B$4:B$53),\"\"))","v":" "},null,null,null,null,null,null,null,null,null,null,null,null,null,null,null,null,null,null,null,null,null,0,{"$f":"IF(NOT(ISBLANK(F481)),LOOKUP(F481,WKNrListe,Übersicht!E$7:E$77),0)","v":0},""]
[null,null,null,null,null,null,{"$f":"IF(ISERROR(MATCH(F482,WKNrListe_Einzel,0)),\"\",LOOKUP(F482,WKNrListe_Einzel,Übersicht!$B$7:$B$62))","v":""},null,{"$f":"IF(ISBLANK(H482),\" \",IF(LOOKUP(H482,MannschaftsNrListe,Mannschaften!B$4:B$53)<>0,LOOKUP(H482,MannschaftsNrListe,Mannschaften!B$4:B$53),\"\"))","v":" "},null,null,null,null,null,null,null,null,null,null,null,null,null,null,null,null,null,null,null,null,null,0,{"$f":"IF(NOT(ISBLANK(F482)),LOOKUP(F482,WKNrListe,Übersicht!E$7:E$77),0)","v":0},""]
[null,null,null,null,null,null,{"$f":"IF(ISERROR(MATCH(F483,WKNrListe_Einzel,0)),\"\",LOOKUP(F483,WKNrListe_Einzel,Übersicht!$B$7:$B$62))","v":""},null,{"$f":"IF(ISBLANK(H483),\" \",IF(LOOKUP(H483,MannschaftsNrListe,Mannschaften!B$4:B$53)<>0,LOOKUP(H483,MannschaftsNrListe,Mannschaften!B$4:B$53),\"\"))","v":" "},null,null,null,null,null,null,null,null,null,null,null,null,null,null,null,null,null,null,null,null,null,0,{"$f":"IF(NOT(ISBLANK(F483)),LOOKUP(F483,WKNrListe,Übersicht!E$7:E$77),0)","v":0},""]
[null,null,null,null,null,null,{"$f":"IF(ISERROR(MATCH(F484,WKNrListe_Einzel,0)),\"\",LOOKUP(F484,WKNrListe_Einzel,Übersicht!$B$7:$B$62))","v":""},null,{"$f":"IF(ISBLANK(H484),\" \",IF(LOOKUP(H484,MannschaftsNrListe,Mannschaften!B$4:B$53)<>0,LOOKUP(H484,MannschaftsNrListe,Mannschaften!B$4:B$53),\"\"))","v":" "},null,null,null,null,null,null,null,null,null,null,null,null,null,null,null,null,null,null,null,null,null,0,{"$f":"IF(NOT(ISBLANK(F484)),LOOKUP(F484,WKNrListe,Übersicht!E$7:E$77),0)","v":0},""]
[null,null,null,null,null,null,{"$f":"IF(ISERROR(MATCH(F485,WKNrListe_Einzel,0)),\"\",LOOKUP(F485,WKNrListe_Einzel,Übersicht!$B$7:$B$62))","v":""},null,{"$f":"IF(ISBLANK(H485),\" \",IF(LOOKUP(H485,MannschaftsNrListe,Mannschaften!B$4:B$53)<>0,LOOKUP(H485,MannschaftsNrListe,Mannschaften!B$4:B$53),\"\"))","v":" "},null,null,null,null,null,null,null,null,null,null,null,null,null,null,null,null,null,null,null,null,null,0,{"$f":"IF(NOT(ISBLANK(F485)),LOOKUP(F485,WKNrListe,Übersicht!E$7:E$77),0)","v":0},""]
[null,null,null,null,null,null,{"$f":"IF(ISERROR(MATCH(F486,WKNrListe_Einzel,0)),\"\",LOOKUP(F486,WKNrListe_Einzel,Übersicht!$B$7:$B$62))","v":""},null,{"$f":"IF(ISBLANK(H486),\" \",IF(LOOKUP(H486,MannschaftsNrListe,Mannschaften!B$4:B$53)<>0,LOOKUP(H486,MannschaftsNrListe,Mannschaften!B$4:B$53),\"\"))","v":" "},null,null,null,null,null,null,null,null,null,null,null,null,null,null,null,null,null,null,null,null,null,0,{"$f":"IF(NOT(ISBLANK(F486)),LOOKUP(F486,WKNrListe,Übersicht!E$7:E$77),0)","v":0},""]
[null,null,null,null,null,null,{"$f":"IF(ISERROR(MATCH(F487,WKNrListe_Einzel,0)),\"\",LOOKUP(F487,WKNrListe_Einzel,Übersicht!$B$7:$B$62))","v":""},null,{"$f":"IF(ISBLANK(H487),\" \",IF(LOOKUP(H487,MannschaftsNrListe,Mannschaften!B$4:B$53)<>0,LOOKUP(H487,MannschaftsNrListe,Mannschaften!B$4:B$53),\"\"))","v":" "},null,null,null,null,null,null,null,null,null,null,null,null,null,null,null,null,null,null,null,null,null,0,{"$f":"IF(NOT(ISBLANK(F487)),LOOKUP(F487,WKNrListe,Übersicht!E$7:E$77),0)","v":0},""]
[null,null,null,null,null,null,{"$f":"IF(ISERROR(MATCH(F488,WKNrListe_Einzel,0)),\"\",LOOKUP(F488,WKNrListe_Einzel,Übersicht!$B$7:$B$62))","v":""},null,{"$f":"IF(ISBLANK(H488),\" \",IF(LOOKUP(H488,MannschaftsNrListe,Mannschaften!B$4:B$53)<>0,LOOKUP(H488,MannschaftsNrListe,Mannschaften!B$4:B$53),\"\"))","v":" "},null,null,null,null,null,null,null,null,null,null,null,null,null,null,null,null,null,null,null,null,null,0,{"$f":"IF(NOT(ISBLANK(F488)),LOOKUP(F488,WKNrListe,Übersicht!E$7:E$77),0)","v":0},""]
[null,null,null,null,null,null,{"$f":"IF(ISERROR(MATCH(F489,WKNrListe_Einzel,0)),\"\",LOOKUP(F489,WKNrListe_Einzel,Übersicht!$B$7:$B$62))","v":""},null,{"$f":"IF(ISBLANK(H489),\" \",IF(LOOKUP(H489,MannschaftsNrListe,Mannschaften!B$4:B$53)<>0,LOOKUP(H489,MannschaftsNrListe,Mannschaften!B$4:B$53),\"\"))","v":" "},null,null,null,null,null,null,null,null,null,null,null,null,null,null,null,null,null,null,null,null,null,0,{"$f":"IF(NOT(ISBLANK(F489)),LOOKUP(F489,WKNrListe,Übersicht!E$7:E$77),0)","v":0},""]
[null,null,null,null,null,null,{"$f":"IF(ISERROR(MATCH(F490,WKNrListe_Einzel,0)),\"\",LOOKUP(F490,WKNrListe_Einzel,Übersicht!$B$7:$B$62))","v":""},null,{"$f":"IF(ISBLANK(H490),\" \",IF(LOOKUP(H490,MannschaftsNrListe,Mannschaften!B$4:B$53)<>0,LOOKUP(H490,MannschaftsNrListe,Mannschaften!B$4:B$53),\"\"))","v":" "},null,null,null,null,null,null,null,null,null,null,null,null,null,null,null,null,null,null,null,null,null,0,{"$f":"IF(NOT(ISBLANK(F490)),LOOKUP(F490,WKNrListe,Übersicht!E$7:E$77),0)","v":0},""]
[null,null,null,null,null,null,{"$f":"IF(ISERROR(MATCH(F491,WKNrListe_Einzel,0)),\"\",LOOKUP(F491,WKNrListe_Einzel,Übersicht!$B$7:$B$62))","v":""},null,{"$f":"IF(ISBLANK(H491),\" \",IF(LOOKUP(H491,MannschaftsNrListe,Mannschaften!B$4:B$53)<>0,LOOKUP(H491,MannschaftsNrListe,Mannschaften!B$4:B$53),\"\"))","v":" "},null,null,null,null,null,null,null,null,null,null,null,null,null,null,null,null,null,null,null,null,null,0,{"$f":"IF(NOT(ISBLANK(F491)),LOOKUP(F491,WKNrListe,Übersicht!E$7:E$77),0)","v":0},""]
[null,null,null,null,null,null,{"$f":"IF(ISERROR(MATCH(F492,WKNrListe_Einzel,0)),\"\",LOOKUP(F492,WKNrListe_Einzel,Übersicht!$B$7:$B$62))","v":""},null,{"$f":"IF(ISBLANK(H492),\" \",IF(LOOKUP(H492,MannschaftsNrListe,Mannschaften!B$4:B$53)<>0,LOOKUP(H492,MannschaftsNrListe,Mannschaften!B$4:B$53),\"\"))","v":" "},null,null,null,null,null,null,null,null,null,null,null,null,null,null,null,null,null,null,null,null,null,0,{"$f":"IF(NOT(ISBLANK(F492)),LOOKUP(F492,WKNrListe,Übersicht!E$7:E$77),0)","v":0},""]
[null,null,null,null,null,null,{"$f":"IF(ISERROR(MATCH(F493,WKNrListe_Einzel,0)),\"\",LOOKUP(F493,WKNrListe_Einzel,Übersicht!$B$7:$B$62))","v":""},null,{"$f":"IF(ISBLANK(H493),\" \",IF(LOOKUP(H493,MannschaftsNrListe,Mannschaften!B$4:B$53)<>0,LOOKUP(H493,MannschaftsNrListe,Mannschaften!B$4:B$53),\"\"))","v":" "},null,null,null,null,null,null,null,null,null,null,null,null,null,null,null,null,null,null,null,null,null,0,{"$f":"IF(NOT(ISBLANK(F493)),LOOKUP(F493,WKNrListe,Übersicht!E$7:E$77),0)","v":0},""]
[null,null,null,null,null,null,{"$f":"IF(ISERROR(MATCH(F494,WKNrListe_Einzel,0)),\"\",LOOKUP(F494,WKNrListe_Einzel,Übersicht!$B$7:$B$62))","v":""},null,{"$f":"IF(ISBLANK(H494),\" \",IF(LOOKUP(H494,MannschaftsNrListe,Mannschaften!B$4:B$53)<>0,LOOKUP(H494,MannschaftsNrListe,Mannschaften!B$4:B$53),\"\"))","v":" "},null,null,null,null,null,null,null,null,null,null,null,null,null,null,null,null,null,null,null,null,null,0,{"$f":"IF(NOT(ISBLANK(F494)),LOOKUP(F494,WKNrListe,Übersicht!E$7:E$77),0)","v":0},""]
[null,null,null,null,null,null,{"$f":"IF(ISERROR(MATCH(F495,WKNrListe_Einzel,0)),\"\",LOOKUP(F495,WKNrListe_Einzel,Übersicht!$B$7:$B$62))","v":""},null,{"$f":"IF(ISBLANK(H495),\" \",IF(LOOKUP(H495,MannschaftsNrListe,Mannschaften!B$4:B$53)<>0,LOOKUP(H495,MannschaftsNrListe,Mannschaften!B$4:B$53),\"\"))","v":" "},null,null,null,null,null,null,null,null,null,null,null,null,null,null,null,null,null,null,null,null,null,0,{"$f":"IF(NOT(ISBLANK(F495)),LOOKUP(F495,WKNrListe,Übersicht!E$7:E$77),0)","v":0},""]
[null,null,null,null,null,null,{"$f":"IF(ISERROR(MATCH(F496,WKNrListe_Einzel,0)),\"\",LOOKUP(F496,WKNrListe_Einzel,Übersicht!$B$7:$B$62))","v":""},null,{"$f":"IF(ISBLANK(H496),\" \",IF(LOOKUP(H496,MannschaftsNrListe,Mannschaften!B$4:B$53)<>0,LOOKUP(H496,MannschaftsNrListe,Mannschaften!B$4:B$53),\"\"))","v":" "},null,null,null,null,null,null,null,null,null,null,null,null,null,null,null,null,null,null,null,null,null,0,{"$f":"IF(NOT(ISBLANK(F496)),LOOKUP(F496,WKNrListe,Übersicht!E$7:E$77),0)","v":0},""]
[null,null,null,null,null,null,{"$f":"IF(ISERROR(MATCH(F497,WKNrListe_Einzel,0)),\"\",LOOKUP(F497,WKNrListe_Einzel,Übersicht!$B$7:$B$62))","v":""},null,{"$f":"IF(ISBLANK(H497),\" \",IF(LOOKUP(H497,MannschaftsNrListe,Mannschaften!B$4:B$53)<>0,LOOKUP(H497,MannschaftsNrListe,Mannschaften!B$4:B$53),\"\"))","v":" "},null,null,null,null,null,null,null,null,null,null,null,null,null,null,null,null,null,null,null,null,null,0,{"$f":"IF(NOT(ISBLANK(F497)),LOOKUP(F497,WKNrListe,Übersicht!E$7:E$77),0)","v":0},""]
[null,null,null,null,null,null,{"$f":"IF(ISERROR(MATCH(F498,WKNrListe_Einzel,0)),\"\",LOOKUP(F498,WKNrListe_Einzel,Übersicht!$B$7:$B$62))","v":""},null,{"$f":"IF(ISBLANK(H498),\" \",IF(LOOKUP(H498,MannschaftsNrListe,Mannschaften!B$4:B$53)<>0,LOOKUP(H498,MannschaftsNrListe,Mannschaften!B$4:B$53),\"\"))","v":" "},null,null,null,null,null,null,null,null,null,null,null,null,null,null,null,null,null,null,null,null,null,0,{"$f":"IF(NOT(ISBLANK(F498)),LOOKUP(F498,WKNrListe,Übersicht!E$7:E$77),0)","v":0},""]
[null,null,null,null,null,null,{"$f":"IF(ISERROR(MATCH(F499,WKNrListe_Einzel,0)),\"\",LOOKUP(F499,WKNrListe_Einzel,Übersicht!$B$7:$B$62))","v":""},null,{"$f":"IF(ISBLANK(H499),\" \",IF(LOOKUP(H499,MannschaftsNrListe,Mannschaften!B$4:B$53)<>0,LOOKUP(H499,MannschaftsNrListe,Mannschaften!B$4:B$53),\"\"))","v":" "},null,null,null,null,null,null,null,null,null,null,null,null,null,null,null,null,null,null,null,null,null,0,{"$f":"IF(NOT(ISBLANK(F499)),LOOKUP(F499,WKNrListe,Übersicht!E$7:E$77),0)","v":0},""]
[null,null,null,null,null,null,{"$f":"IF(ISERROR(MATCH(F500,WKNrListe_Einzel,0)),\"\",LOOKUP(F500,WKNrListe_Einzel,Übersicht!$B$7:$B$62))","v":""},null,{"$f":"IF(ISBLANK(H500),\" \",IF(LOOKUP(H500,MannschaftsNrListe,Mannschaften!B$4:B$53)<>0,LOOKUP(H500,MannschaftsNrListe,Mannschaften!B$4:B$53),\"\"))","v":" "},null,null,null,null,null,null,null,null,null,null,null,null,null,null,null,null,null,null,null,null,null,0,{"$f":"IF(NOT(ISBLANK(F500)),LOOKUP(F500,WKNrListe,Übersicht!E$7:E$77),0)","v":0},""]
[null,null,null,null,null,null,{"$f":"IF(ISERROR(MATCH(F501,WKNrListe_Einzel,0)),\"\",LOOKUP(F501,WKNrListe_Einzel,Übersicht!$B$7:$B$62))","v":""},null,{"$f":"IF(ISBLANK(H501),\" \",IF(LOOKUP(H501,MannschaftsNrListe,Mannschaften!B$4:B$53)<>0,LOOKUP(H501,MannschaftsNrListe,Mannschaften!B$4:B$53),\"\"))","v":" "},null,null,null,null,null,null,null,null,null,null,null,null,null,null,null,null,null,null,null,null,null,0,{"$f":"IF(NOT(ISBLANK(F501)),LOOKUP(F501,WKNrListe,Übersicht!E$7:E$77),0)","v":0},""]
[null,null,null,null,null,null,{"$f":"IF(ISERROR(MATCH(F502,WKNrListe_Einzel,0)),\"\",LOOKUP(F502,WKNrListe_Einzel,Übersicht!$B$7:$B$62))","v":""},null,{"$f":"IF(ISBLANK(H502),\" \",IF(LOOKUP(H502,MannschaftsNrListe,Mannschaften!B$4:B$53)<>0,LOOKUP(H502,MannschaftsNrListe,Mannschaften!B$4:B$53),\"\"))","v":" "},null,null,null,null,null,null,null,null,null,null,null,null,null,null,null,null,null,null,null,null,null,0,{"$f":"IF(NOT(ISBLANK(F502)),LOOKUP(F502,WKNrListe,Übersicht!E$7:E$77),0)","v":0},""]
[null,null,null,null,null,null,{"$f":"IF(ISERROR(MATCH(F503,WKNrListe_Einzel,0)),\"\",LOOKUP(F503,WKNrListe_Einzel,Übersicht!$B$7:$B$62))","v":""},null,{"$f":"IF(ISBLANK(H503),\" \",IF(LOOKUP(H503,MannschaftsNrListe,Mannschaften!B$4:B$53)<>0,LOOKUP(H503,MannschaftsNrListe,Mannschaften!B$4:B$53),\"\"))","v":" "},null,null,null,null,null,null,null,null,null,null,null,null,null,null,null,null,null,null,null,null,null,0,{"$f":"IF(NOT(ISBLANK(F503)),LOOKUP(F503,WKNrListe,Übersicht!E$7:E$77),0)","v":0},""]
[null,null,null,null,null,null,{"$f":"IF(ISERROR(MATCH(F504,WKNrListe_Einzel,0)),\"\",LOOKUP(F504,WKNrListe_Einzel,Übersicht!$B$7:$B$62))","v":""},null,{"$f":"IF(ISBLANK(H504),\" \",IF(LOOKUP(H504,MannschaftsNrListe,Mannschaften!B$4:B$53)<>0,LOOKUP(H504,MannschaftsNrListe,Mannschaften!B$4:B$53),\"\"))","v":" "},null,null,null,null,null,null,null,null,null,null,null,null,null,null,null,null,null,null,null,null,null,0,{"$f":"IF(NOT(ISBLANK(F504)),LOOKUP(F504,WKNrListe,Übersicht!E$7:E$77),0)","v":0},""]
[null,null,null,null,null,null,{"$f":"IF(ISERROR(MATCH(F505,WKNrListe_Einzel,0)),\"\",LOOKUP(F505,WKNrListe_Einzel,Übersicht!$B$7:$B$62))","v":""},null,{"$f":"IF(ISBLANK(H505),\" \",IF(LOOKUP(H505,MannschaftsNrListe,Mannschaften!B$4:B$53)<>0,LOOKUP(H505,MannschaftsNrListe,Mannschaften!B$4:B$53),\"\"))","v":" "},null,null,null,null,null,null,null,null,null,null,null,null,null,null,null,null,null,null,null,null,null,0,{"$f":"IF(NOT(ISBLANK(F505)),LOOKUP(F505,WKNrListe,Übersicht!E$7:E$77),0)","v":0},""]
[null,null,null,null,null,null,{"$f":"IF(ISERROR(MATCH(F506,WKNrListe_Einzel,0)),\"\",LOOKUP(F506,WKNrListe_Einzel,Übersicht!$B$7:$B$62))","v":""},null,{"$f":"IF(ISBLANK(H506),\" \",IF(LOOKUP(H506,MannschaftsNrListe,Mannschaften!B$4:B$53)<>0,LOOKUP(H506,MannschaftsNrListe,Mannschaften!B$4:B$53),\"\"))","v":" "},null,null,null,null,null,null,null,null,null,null,null,null,null,null,null,null,null,null,null,null,null,0,{"$f":"IF(NOT(ISBLANK(F506)),LOOKUP(F506,WKNrListe,Übersicht!E$7:E$77),0)","v":0},""]
[null,null,null,null,null,null,{"$f":"IF(ISERROR(MATCH(F507,WKNrListe_Einzel,0)),\"\",LOOKUP(F507,WKNrListe_Einzel,Übersicht!$B$7:$B$62))","v":""},null,{"$f":"IF(ISBLANK(H507),\" \",IF(LOOKUP(H507,MannschaftsNrListe,Mannschaften!B$4:B$53)<>0,LOOKUP(H507,MannschaftsNrListe,Mannschaften!B$4:B$53),\"\"))","v":" "},null,null,null,null,null,null,null,null,null,null,null,null,null,null,null,null,null,null,null,null,null,0,{"$f":"IF(NOT(ISBLANK(F507)),LOOKUP(F507,WKNrListe,Übersicht!E$7:E$77),0)","v":0},""]
[null,null,null,null,null,null,{"$f":"IF(ISERROR(MATCH(F508,WKNrListe_Einzel,0)),\"\",LOOKUP(F508,WKNrListe_Einzel,Übersicht!$B$7:$B$62))","v":""},null,{"$f":"IF(ISBLANK(H508),\" \",IF(LOOKUP(H508,MannschaftsNrListe,Mannschaften!B$4:B$53)<>0,LOOKUP(H508,MannschaftsNrListe,Mannschaften!B$4:B$53),\"\"))","v":" "},null,null,null,null,null,null,null,null,null,null,null,null,null,null,null,null,null,null,null,null,null,0,{"$f":"IF(NOT(ISBLANK(F508)),LOOKUP(F508,WKNrListe,Übersicht!E$7:E$77),0)","v":0},""]
[null,null,null,null,null,null,{"$f":"IF(ISERROR(MATCH(F509,WKNrListe_Einzel,0)),\"\",LOOKUP(F509,WKNrListe_Einzel,Übersicht!$B$7:$B$62))","v":""},null,{"$f":"IF(ISBLANK(H509),\" \",IF(LOOKUP(H509,MannschaftsNrListe,Mannschaften!B$4:B$53)<>0,LOOKUP(H509,MannschaftsNrListe,Mannschaften!B$4:B$53),\"\"))","v":" "},null,null,null,null,null,null,null,null,null,null,null,null,null,null,null,null,null,null,null,null,null,0,{"$f":"IF(NOT(ISBLANK(F509)),LOOKUP(F509,WKNrListe,Übersicht!E$7:E$77),0)","v":0},""]
[null,null,null,null,null,null,{"$f":"IF(ISERROR(MATCH(F510,WKNrListe_Einzel,0)),\"\",LOOKUP(F510,WKNrListe_Einzel,Übersicht!$B$7:$B$62))","v":""},null,{"$f":"IF(ISBLANK(H510),\" \",IF(LOOKUP(H510,MannschaftsNrListe,Mannschaften!B$4:B$53)<>0,LOOKUP(H510,MannschaftsNrListe,Mannschaften!B$4:B$53),\"\"))","v":" "},null,null,null,null,null,null,null,null,null,null,null,null,null,null,null,null,null,null,null,null,null,0,{"$f":"IF(NOT(ISBLANK(F510)),LOOKUP(F510,WKNrListe,Übersicht!E$7:E$77),0)","v":0},""]
[null,null,null,null,null,null,{"$f":"IF(ISERROR(MATCH(F511,WKNrListe_Einzel,0)),\"\",LOOKUP(F511,WKNrListe_Einzel,Übersicht!$B$7:$B$62))","v":""},null,{"$f":"IF(ISBLANK(H511),\" \",IF(LOOKUP(H511,MannschaftsNrListe,Mannschaften!B$4:B$53)<>0,LOOKUP(H511,MannschaftsNrListe,Mannschaften!B$4:B$53),\"\"))","v":" "},null,null,null,null,null,null,null,null,null,null,null,null,null,null,null,null,null,null,null,null,null,0,{"$f":"IF(NOT(ISBLANK(F511)),LOOKUP(F511,WKNrListe,Übersicht!E$7:E$77),0)","v":0},""]
[null,null,null,null,null,null,{"$f":"IF(ISERROR(MATCH(F512,WKNrListe_Einzel,0)),\"\",LOOKUP(F512,WKNrListe_Einzel,Übersicht!$B$7:$B$62))","v":""},null,{"$f":"IF(ISBLANK(H512),\" \",IF(LOOKUP(H512,MannschaftsNrListe,Mannschaften!B$4:B$53)<>0,LOOKUP(H512,MannschaftsNrListe,Mannschaften!B$4:B$53),\"\"))","v":" "},null,null,null,null,null,null,null,null,null,null,null,null,null,null,null,null,null,null,null,null,null,0,{"$f":"IF(NOT(ISBLANK(F512)),LOOKUP(F512,WKNrListe,Übersicht!E$7:E$77),0)","v":0},""]
[null,null,null,null,null,null,{"$f":"IF(ISERROR(MATCH(F513,WKNrListe_Einzel,0)),\"\",LOOKUP(F513,WKNrListe_Einzel,Übersicht!$B$7:$B$62))","v":""},null,{"$f":"IF(ISBLANK(H513),\" \",IF(LOOKUP(H513,MannschaftsNrListe,Mannschaften!B$4:B$53)<>0,LOOKUP(H513,MannschaftsNrListe,Mannschaften!B$4:B$53),\"\"))","v":" "},null,null,null,null,null,null,null,null,null,null,null,null,null,null,null,null,null,null,null,null,null,0,{"$f":"IF(NOT(ISBLANK(F513)),LOOKUP(F513,WKNrListe,Übersicht!E$7:E$77),0)","v":0},""]
[null,null,null,null,null,null,{"$f":"IF(ISERROR(MATCH(F514,WKNrListe_Einzel,0)),\"\",LOOKUP(F514,WKNrListe_Einzel,Übersicht!$B$7:$B$62))","v":""},null,{"$f":"IF(ISBLANK(H514),\" \",IF(LOOKUP(H514,MannschaftsNrListe,Mannschaften!B$4:B$53)<>0,LOOKUP(H514,MannschaftsNrListe,Mannschaften!B$4:B$53),\"\"))","v":" "},null,null,null,null,null,null,null,null,null,null,null,null,null,null,null,null,null,null,null,null,null,0,{"$f":"IF(NOT(ISBLANK(F514)),LOOKUP(F514,WKNrListe,Übersicht!E$7:E$77),0)","v":0},""]
[null,null,null,null,null,null,{"$f":"IF(ISERROR(MATCH(F515,WKNrListe_Einzel,0)),\"\",LOOKUP(F515,WKNrListe_Einzel,Übersicht!$B$7:$B$62))","v":""},null,{"$f":"IF(ISBLANK(H515),\" \",IF(LOOKUP(H515,MannschaftsNrListe,Mannschaften!B$4:B$53)<>0,LOOKUP(H515,MannschaftsNrListe,Mannschaften!B$4:B$53),\"\"))","v":" "},null,null,null,null,null,null,null,null,null,null,null,null,null,null,null,null,null,null,null,null,null,0,{"$f":"IF(NOT(ISBLANK(F515)),LOOKUP(F515,WKNrListe,Übersicht!E$7:E$77),0)","v":0},""]
[null,null,null,null,null,null,{"$f":"IF(ISERROR(MATCH(F516,WKNrListe_Einzel,0)),\"\",LOOKUP(F516,WKNrListe_Einzel,Übersicht!$B$7:$B$62))","v":""},null,{"$f":"IF(ISBLANK(H516),\" \",IF(LOOKUP(H516,MannschaftsNrListe,Mannschaften!B$4:B$53)<>0,LOOKUP(H516,MannschaftsNrListe,Mannschaften!B$4:B$53),\"\"))","v":" "},null,null,null,null,null,null,null,null,null,null,null,null,null,null,null,null,null,null,null,null,null,0,{"$f":"IF(NOT(ISBLANK(F516)),LOOKUP(F516,WKNrListe,Übersicht!E$7:E$77),0)","v":0},""]
[null,null,null,null,null,null,{"$f":"IF(ISERROR(MATCH(F517,WKNrListe_Einzel,0)),\"\",LOOKUP(F517,WKNrListe_Einzel,Übersicht!$B$7:$B$62))","v":""},null,{"$f":"IF(ISBLANK(H517),\" \",IF(LOOKUP(H517,MannschaftsNrListe,Mannschaften!B$4:B$53)<>0,LOOKUP(H517,MannschaftsNrListe,Mannschaften!B$4:B$53),\"\"))","v":" "},null,null,null,null,null,null,null,null,null,null,null,null,null,null,null,null,null,null,null,null,null,0,{"$f":"IF(NOT(ISBLANK(F517)),LOOKUP(F517,WKNrListe,Übersicht!E$7:E$77),0)","v":0},{"$f":"IF(\n AND(\n  OR(ISTEXT(A517), ISTEXT(B517), NOT(ISBLANK(E517)), NOT(ISBLANK(F517)), NOT(ISBLANK(H517))),\n  OR(ISBLANK(A517),ISBLANK(B517),AND(ISBLANK(E517),ISBLANK(F517),ISBLANK(H517)))\n ),\n \"unvollständig\",\n IF(\n  AND(\n   NOT(\n    ISBLANK(H517)\n    ),\n   NOT(ISNUMBER(I517))\n  ),\n  \"Seite Mannschaften ausfüllen!\",\n  IF(AF517>AE517,\"zu wenig Disziplinen gewählt\",IF(AE517>AF517,\"zu viele Disziplinen gewählt\",\"\"))\n )\n)","v":""}]
[null,null,null,null,null,null,{"$f":"IF(ISERROR(MATCH(F518,WKNrListe_Einzel,0)),\"\",LOOKUP(F518,WKNrListe_Einzel,Übersicht!$B$7:$B$62))","v":""},null,{"$f":"IF(ISBLANK(H518),\" \",IF(LOOKUP(H518,MannschaftsNrListe,Mannschaften!B$4:B$53)<>0,LOOKUP(H518,MannschaftsNrListe,Mannschaften!B$4:B$53),\"\"))","v":" "},null,null,null,null,null,null,null,null,null,null,null,null,null,null,null,null,null,null,null,null,null,{"$f":"COUNTIF(J518:AD518,\">''\")","v":0},{"$f":"IF(NOT(ISBLANK(F518)),LOOKUP(F518,WKNrListe,Übersicht!E$7:E$77),0)","v":0},""]
[null,null,null,null,null,null,{"$f":"IF(ISERROR(MATCH(F519,WKNrListe_Einzel,0)),\"\",LOOKUP(F519,WKNrListe_Einzel,Übersicht!$B$7:$B$62))","v":""},null,{"$f":"IF(ISBLANK(H519),\" \",IF(LOOKUP(H519,MannschaftsNrListe,Mannschaften!B$4:B$53)<>0,LOOKUP(H519,MannschaftsNrListe,Mannschaften!B$4:B$53),\"\"))","v":" "},null,null,null,null,null,null,null,null,null,null,null,null,null,null,null,null,null,null,null,null,null,0,{"$f":"IF(NOT(ISBLANK(F519)),LOOKUP(F519,WKNrListe,Übersicht!E$7:E$77),0)","v":0},""]
[null,null,null,null,null,null,{"$f":"IF(ISERROR(MATCH(F520,WKNrListe_Einzel,0)),\"\",LOOKUP(F520,WKNrListe_Einzel,Übersicht!$B$7:$B$62))","v":""},null,{"$f":"IF(ISBLANK(H520),\" \",IF(LOOKUP(H520,MannschaftsNrListe,Mannschaften!B$4:B$53)<>0,LOOKUP(H520,MannschaftsNrListe,Mannschaften!B$4:B$53),\"\"))","v":" "},null,null,null,null,null,null,null,null,null,null,null,null,null,null,null,null,null,null,null,null,null,0,{"$f":"IF(NOT(ISBLANK(F520)),LOOKUP(F520,WKNrListe,Übersicht!E$7:E$77),0)","v":0},""]
[null,null,null,null,null,null,{"$f":"IF(ISERROR(MATCH(F521,WKNrListe_Einzel,0)),\"\",LOOKUP(F521,WKNrListe_Einzel,Übersicht!$B$7:$B$62))","v":""},null,{"$f":"IF(ISBLANK(H521),\" \",IF(LOOKUP(H521,MannschaftsNrListe,Mannschaften!B$4:B$53)<>0,LOOKUP(H521,MannschaftsNrListe,Mannschaften!B$4:B$53),\"\"))","v":" "},null,null,null,null,null,null,null,null,null,null,null,null,null,null,null,null,null,null,null,null,null,0,{"$f":"IF(NOT(ISBLANK(F521)),LOOKUP(F521,WKNrListe,Übersicht!E$7:E$77),0)","v":0},""]
[null,null,null,null,null,null,{"$f":"IF(ISERROR(MATCH(F522,WKNrListe_Einzel,0)),\"\",LOOKUP(F522,WKNrListe_Einzel,Übersicht!$B$7:$B$62))","v":""},null,{"$f":"IF(ISBLANK(H522),\" \",IF(LOOKUP(H522,MannschaftsNrListe,Mannschaften!B$4:B$53)<>0,LOOKUP(H522,MannschaftsNrListe,Mannschaften!B$4:B$53),\"\"))","v":" "},null,null,null,null,null,null,null,null,null,null,null,null,null,null,null,null,null,null,null,null,null,0,{"$f":"IF(NOT(ISBLANK(F522)),LOOKUP(F522,WKNrListe,Übersicht!E$7:E$77),0)","v":0},""]
[null,null,null,null,null,null,{"$f":"IF(ISERROR(MATCH(F523,WKNrListe_Einzel,0)),\"\",LOOKUP(F523,WKNrListe_Einzel,Übersicht!$B$7:$B$62))","v":""},null,{"$f":"IF(ISBLANK(H523),\" \",IF(LOOKUP(H523,MannschaftsNrListe,Mannschaften!B$4:B$53)<>0,LOOKUP(H523,MannschaftsNrListe,Mannschaften!B$4:B$53),\"\"))","v":" "},null,null,null,null,null,null,null,null,null,null,null,null,null,null,null,null,null,null,null,null,null,0,{"$f":"IF(NOT(ISBLANK(F523)),LOOKUP(F523,WKNrListe,Übersicht!E$7:E$77),0)","v":0},""]
[null,null,null,null,null,null,{"$f":"IF(ISERROR(MATCH(F524,WKNrListe_Einzel,0)),\"\",LOOKUP(F524,WKNrListe_Einzel,Übersicht!$B$7:$B$62))","v":""},null,{"$f":"IF(ISBLANK(H524),\" \",IF(LOOKUP(H524,MannschaftsNrListe,Mannschaften!B$4:B$53)<>0,LOOKUP(H524,MannschaftsNrListe,Mannschaften!B$4:B$53),\"\"))","v":" "},null,null,null,null,null,null,null,null,null,null,null,null,null,null,null,null,null,null,null,null,null,0,{"$f":"IF(NOT(ISBLANK(F524)),LOOKUP(F524,WKNrListe,Übersicht!E$7:E$77),0)","v":0},""]
[null,null,null,null,null,null,{"$f":"IF(ISERROR(MATCH(F525,WKNrListe_Einzel,0)),\"\",LOOKUP(F525,WKNrListe_Einzel,Übersicht!$B$7:$B$62))","v":""},null,{"$f":"IF(ISBLANK(H525),\" \",IF(LOOKUP(H525,MannschaftsNrListe,Mannschaften!B$4:B$53)<>0,LOOKUP(H525,MannschaftsNrListe,Mannschaften!B$4:B$53),\"\"))","v":" "},null,null,null,null,null,null,null,null,null,null,null,null,null,null,null,null,null,null,null,null,null,0,{"$f":"IF(NOT(ISBLANK(F525)),LOOKUP(F525,WKNrListe,Übersicht!E$7:E$77),0)","v":0},""]
[null,null,null,null,null,null,{"$f":"IF(ISERROR(MATCH(F526,WKNrListe_Einzel,0)),\"\",LOOKUP(F526,WKNrListe_Einzel,Übersicht!$B$7:$B$62))","v":""},null,{"$f":"IF(ISBLANK(H526),\" \",IF(LOOKUP(H526,MannschaftsNrListe,Mannschaften!B$4:B$53)<>0,LOOKUP(H526,MannschaftsNrListe,Mannschaften!B$4:B$53),\"\"))","v":" "},null,null,null,null,null,null,null,null,null,null,null,null,null,null,null,null,null,null,null,null,null,0,{"$f":"IF(NOT(ISBLANK(F526)),LOOKUP(F526,WKNrListe,Übersicht!E$7:E$77),0)","v":0},""]
[null,null,null,null,null,null,{"$f":"IF(ISERROR(MATCH(F527,WKNrListe_Einzel,0)),\"\",LOOKUP(F527,WKNrListe_Einzel,Übersicht!$B$7:$B$62))","v":""},null,{"$f":"IF(ISBLANK(H527),\" \",IF(LOOKUP(H527,MannschaftsNrListe,Mannschaften!B$4:B$53)<>0,LOOKUP(H527,MannschaftsNrListe,Mannschaften!B$4:B$53),\"\"))","v":" "},null,null,null,null,null,null,null,null,null,null,null,null,null,null,null,null,null,null,null,null,null,0,{"$f":"IF(NOT(ISBLANK(F527)),LOOKUP(F527,WKNrListe,Übersicht!E$7:E$77),0)","v":0},""]
[null,null,null,null,null,null,{"$f":"IF(ISERROR(MATCH(F528,WKNrListe_Einzel,0)),\"\",LOOKUP(F528,WKNrListe_Einzel,Übersicht!$B$7:$B$62))","v":""},null,{"$f":"IF(ISBLANK(H528),\" \",IF(LOOKUP(H528,MannschaftsNrListe,Mannschaften!B$4:B$53)<>0,LOOKUP(H528,MannschaftsNrListe,Mannschaften!B$4:B$53),\"\"))","v":" "},null,null,null,null,null,null,null,null,null,null,null,null,null,null,null,null,null,null,null,null,null,0,{"$f":"IF(NOT(ISBLANK(F528)),LOOKUP(F528,WKNrListe,Übersicht!E$7:E$77),0)","v":0},""]
[null,null,null,null,null,null,{"$f":"IF(ISERROR(MATCH(F529,WKNrListe_Einzel,0)),\"\",LOOKUP(F529,WKNrListe_Einzel,Übersicht!$B$7:$B$62))","v":""},null,{"$f":"IF(ISBLANK(H529),\" \",IF(LOOKUP(H529,MannschaftsNrListe,Mannschaften!B$4:B$53)<>0,LOOKUP(H529,MannschaftsNrListe,Mannschaften!B$4:B$53),\"\"))","v":" "},null,null,null,null,null,null,null,null,null,null,null,null,null,null,null,null,null,null,null,null,null,0,{"$f":"IF(NOT(ISBLANK(F529)),LOOKUP(F529,WKNrListe,Übersicht!E$7:E$77),0)","v":0},""]
[null,null,null,null,null,null,{"$f":"IF(ISERROR(MATCH(F530,WKNrListe_Einzel,0)),\"\",LOOKUP(F530,WKNrListe_Einzel,Übersicht!$B$7:$B$62))","v":""},null,{"$f":"IF(ISBLANK(H530),\" \",IF(LOOKUP(H530,MannschaftsNrListe,Mannschaften!B$4:B$53)<>0,LOOKUP(H530,MannschaftsNrListe,Mannschaften!B$4:B$53),\"\"))","v":" "},null,null,null,null,null,null,null,null,null,null,null,null,null,null,null,null,null,null,null,null,null,0,{"$f":"IF(NOT(ISBLANK(F530)),LOOKUP(F530,WKNrListe,Übersicht!E$7:E$77),0)","v":0},""]
[null,null,null,null,null,null,{"$f":"IF(ISERROR(MATCH(F531,WKNrListe_Einzel,0)),\"\",LOOKUP(F531,WKNrListe_Einzel,Übersicht!$B$7:$B$62))","v":""},null,{"$f":"IF(ISBLANK(H531),\" \",IF(LOOKUP(H531,MannschaftsNrListe,Mannschaften!B$4:B$53)<>0,LOOKUP(H531,MannschaftsNrListe,Mannschaften!B$4:B$53),\"\"))","v":" "},null,null,null,null,null,null,null,null,null,null,null,null,null,null,null,null,null,null,null,null,null,0,{"$f":"IF(NOT(ISBLANK(F531)),LOOKUP(F531,WKNrListe,Übersicht!E$7:E$77),0)","v":0},""]
[null,null,null,null,null,null,{"$f":"IF(ISERROR(MATCH(F532,WKNrListe_Einzel,0)),\"\",LOOKUP(F532,WKNrListe_Einzel,Übersicht!$B$7:$B$62))","v":""},null,{"$f":"IF(ISBLANK(H532),\" \",IF(LOOKUP(H532,MannschaftsNrListe,Mannschaften!B$4:B$53)<>0,LOOKUP(H532,MannschaftsNrListe,Mannschaften!B$4:B$53),\"\"))","v":" "},null,null,null,null,null,null,null,null,null,null,null,null,null,null,null,null,null,null,null,null,null,0,{"$f":"IF(NOT(ISBLANK(F532)),LOOKUP(F532,WKNrListe,Übersicht!E$7:E$77),0)","v":0},""]
[null,null,null,null,null,null,{"$f":"IF(ISERROR(MATCH(F533,WKNrListe_Einzel,0)),\"\",LOOKUP(F533,WKNrListe_Einzel,Übersicht!$B$7:$B$62))","v":""},null,{"$f":"IF(ISBLANK(H533),\" \",IF(LOOKUP(H533,MannschaftsNrListe,Mannschaften!B$4:B$53)<>0,LOOKUP(H533,MannschaftsNrListe,Mannschaften!B$4:B$53),\"\"))","v":" "},null,null,null,null,null,null,null,null,null,null,null,null,null,null,null,null,null,null,null,null,null,0,{"$f":"IF(NOT(ISBLANK(F533)),LOOKUP(F533,WKNrListe,Übersicht!E$7:E$77),0)","v":0},""]
[null,null,null,null,null,null,{"$f":"IF(ISERROR(MATCH(F534,WKNrListe_Einzel,0)),\"\",LOOKUP(F534,WKNrListe_Einzel,Übersicht!$B$7:$B$62))","v":""},null,{"$f":"IF(ISBLANK(H534),\" \",IF(LOOKUP(H534,MannschaftsNrListe,Mannschaften!B$4:B$53)<>0,LOOKUP(H534,MannschaftsNrListe,Mannschaften!B$4:B$53),\"\"))","v":" "},null,null,null,null,null,null,null,null,null,null,null,null,null,null,null,null,null,null,null,null,null,0,{"$f":"IF(NOT(ISBLANK(F534)),LOOKUP(F534,WKNrListe,Übersicht!E$7:E$77),0)","v":0},""]
[null,null,null,null,null,null,{"$f":"IF(ISERROR(MATCH(F535,WKNrListe_Einzel,0)),\"\",LOOKUP(F535,WKNrListe_Einzel,Übersicht!$B$7:$B$62))","v":""},null,{"$f":"IF(ISBLANK(H535),\" \",IF(LOOKUP(H535,MannschaftsNrListe,Mannschaften!B$4:B$53)<>0,LOOKUP(H535,MannschaftsNrListe,Mannschaften!B$4:B$53),\"\"))","v":" "},null,null,null,null,null,null,null,null,null,null,null,null,null,null,null,null,null,null,null,null,null,0,{"$f":"IF(NOT(ISBLANK(F535)),LOOKUP(F535,WKNrListe,Übersicht!E$7:E$77),0)","v":0},""]
[null,null,null,null,null,null,{"$f":"IF(ISERROR(MATCH(F536,WKNrListe_Einzel,0)),\"\",LOOKUP(F536,WKNrListe_Einzel,Übersicht!$B$7:$B$62))","v":""},null,{"$f":"IF(ISBLANK(H536),\" \",IF(LOOKUP(H536,MannschaftsNrListe,Mannschaften!B$4:B$53)<>0,LOOKUP(H536,MannschaftsNrListe,Mannschaften!B$4:B$53),\"\"))","v":" "},null,null,null,null,null,null,null,null,null,null,null,null,null,null,null,null,null,null,null,null,null,0,{"$f":"IF(NOT(ISBLANK(F536)),LOOKUP(F536,WKNrListe,Übersicht!E$7:E$77),0)","v":0},""]
[null,null,null,null,null,null,{"$f":"IF(ISERROR(MATCH(F537,WKNrListe_Einzel,0)),\"\",LOOKUP(F537,WKNrListe_Einzel,Übersicht!$B$7:$B$62))","v":""},null,{"$f":"IF(ISBLANK(H537),\" \",IF(LOOKUP(H537,MannschaftsNrListe,Mannschaften!B$4:B$53)<>0,LOOKUP(H537,MannschaftsNrListe,Mannschaften!B$4:B$53),\"\"))","v":" "},null,null,null,null,null,null,null,null,null,null,null,null,null,null,null,null,null,null,null,null,null,0,{"$f":"IF(NOT(ISBLANK(F537)),LOOKUP(F537,WKNrListe,Übersicht!E$7:E$77),0)","v":0},""]
[null,null,null,null,null,null,{"$f":"IF(ISERROR(MATCH(F538,WKNrListe_Einzel,0)),\"\",LOOKUP(F538,WKNrListe_Einzel,Übersicht!$B$7:$B$62))","v":""},null,{"$f":"IF(ISBLANK(H538),\" \",IF(LOOKUP(H538,MannschaftsNrListe,Mannschaften!B$4:B$53)<>0,LOOKUP(H538,MannschaftsNrListe,Mannschaften!B$4:B$53),\"\"))","v":" "},null,null,null,null,null,null,null,null,null,null,null,null,null,null,null,null,null,null,null,null,null,0,{"$f":"IF(NOT(ISBLANK(F538)),LOOKUP(F538,WKNrListe,Übersicht!E$7:E$77),0)","v":0},""]
[null,null,null,null,null,null,{"$f":"IF(ISERROR(MATCH(F539,WKNrListe_Einzel,0)),\"\",LOOKUP(F539,WKNrListe_Einzel,Übersicht!$B$7:$B$62))","v":""},null,{"$f":"IF(ISBLANK(H539),\" \",IF(LOOKUP(H539,MannschaftsNrListe,Mannschaften!B$4:B$53)<>0,LOOKUP(H539,MannschaftsNrListe,Mannschaften!B$4:B$53),\"\"))","v":" "},null,null,null,null,null,null,null,null,null,null,null,null,null,null,null,null,null,null,null,null,null,0,{"$f":"IF(NOT(ISBLANK(F539)),LOOKUP(F539,WKNrListe,Übersicht!E$7:E$77),0)","v":0},""]
[null,null,null,null,null,null,{"$f":"IF(ISERROR(MATCH(F540,WKNrListe_Einzel,0)),\"\",LOOKUP(F540,WKNrListe_Einzel,Übersicht!$B$7:$B$62))","v":""},null,{"$f":"IF(ISBLANK(H540),\" \",IF(LOOKUP(H540,MannschaftsNrListe,Mannschaften!B$4:B$53)<>0,LOOKUP(H540,MannschaftsNrListe,Mannschaften!B$4:B$53),\"\"))","v":" "},null,null,null,null,null,null,null,null,null,null,null,null,null,null,null,null,null,null,null,null,null,0,{"$f":"IF(NOT(ISBLANK(F540)),LOOKUP(F540,WKNrListe,Übersicht!E$7:E$77),0)","v":0},""]
[null,null,null,null,null,null,{"$f":"IF(ISERROR(MATCH(F541,WKNrListe_Einzel,0)),\"\",LOOKUP(F541,WKNrListe_Einzel,Übersicht!$B$7:$B$62))","v":""},null,{"$f":"IF(ISBLANK(H541),\" \",IF(LOOKUP(H541,MannschaftsNrListe,Mannschaften!B$4:B$53)<>0,LOOKUP(H541,MannschaftsNrListe,Mannschaften!B$4:B$53),\"\"))","v":" "},null,null,null,null,null,null,null,null,null,null,null,null,null,null,null,null,null,null,null,null,null,0,{"$f":"IF(NOT(ISBLANK(F541)),LOOKUP(F541,WKNrListe,Übersicht!E$7:E$77),0)","v":0},""]
[null,null,null,null,null,null,{"$f":"IF(ISERROR(MATCH(F542,WKNrListe_Einzel,0)),\"\",LOOKUP(F542,WKNrListe_Einzel,Übersicht!$B$7:$B$62))","v":""},null,{"$f":"IF(ISBLANK(H542),\" \",IF(LOOKUP(H542,MannschaftsNrListe,Mannschaften!B$4:B$53)<>0,LOOKUP(H542,MannschaftsNrListe,Mannschaften!B$4:B$53),\"\"))","v":" "},null,null,null,null,null,null,null,null,null,null,null,null,null,null,null,null,null,null,null,null,null,0,{"$f":"IF(NOT(ISBLANK(F542)),LOOKUP(F542,WKNrListe,Übersicht!E$7:E$77),0)","v":0},""]
[null,null,null,null,null,null,{"$f":"IF(ISERROR(MATCH(F543,WKNrListe_Einzel,0)),\"\",LOOKUP(F543,WKNrListe_Einzel,Übersicht!$B$7:$B$62))","v":""},null,{"$f":"IF(ISBLANK(H543),\" \",IF(LOOKUP(H543,MannschaftsNrListe,Mannschaften!B$4:B$53)<>0,LOOKUP(H543,MannschaftsNrListe,Mannschaften!B$4:B$53),\"\"))","v":" "},null,null,null,null,null,null,null,null,null,null,null,null,null,null,null,null,null,null,null,null,null,0,{"$f":"IF(NOT(ISBLANK(F543)),LOOKUP(F543,WKNrListe,Übersicht!E$7:E$77),0)","v":0},""]
[null,null,null,null,null,null,{"$f":"IF(ISERROR(MATCH(F544,WKNrListe_Einzel,0)),\"\",LOOKUP(F544,WKNrListe_Einzel,Übersicht!$B$7:$B$62))","v":""},null,{"$f":"IF(ISBLANK(H544),\" \",IF(LOOKUP(H544,MannschaftsNrListe,Mannschaften!B$4:B$53)<>0,LOOKUP(H544,MannschaftsNrListe,Mannschaften!B$4:B$53),\"\"))","v":" "},null,null,null,null,null,null,null,null,null,null,null,null,null,null,null,null,null,null,null,null,null,0,{"$f":"IF(NOT(ISBLANK(F544)),LOOKUP(F544,WKNrListe,Übersicht!E$7:E$77),0)","v":0},""]
[null,null,null,null,null,null,{"$f":"IF(ISERROR(MATCH(F545,WKNrListe_Einzel,0)),\"\",LOOKUP(F545,WKNrListe_Einzel,Übersicht!$B$7:$B$62))","v":""},null,{"$f":"IF(ISBLANK(H545),\" \",IF(LOOKUP(H545,MannschaftsNrListe,Mannschaften!B$4:B$53)<>0,LOOKUP(H545,MannschaftsNrListe,Mannschaften!B$4:B$53),\"\"))","v":" "},null,null,null,null,null,null,null,null,null,null,null,null,null,null,null,null,null,null,null,null,null,0,{"$f":"IF(NOT(ISBLANK(F545)),LOOKUP(F545,WKNrListe,Übersicht!E$7:E$77),0)","v":0},""]
[null,null,null,null,null,null,{"$f":"IF(ISERROR(MATCH(F546,WKNrListe_Einzel,0)),\"\",LOOKUP(F546,WKNrListe_Einzel,Übersicht!$B$7:$B$62))","v":""},null,{"$f":"IF(ISBLANK(H546),\" \",IF(LOOKUP(H546,MannschaftsNrListe,Mannschaften!B$4:B$53)<>0,LOOKUP(H546,MannschaftsNrListe,Mannschaften!B$4:B$53),\"\"))","v":" "},null,null,null,null,null,null,null,null,null,null,null,null,null,null,null,null,null,null,null,null,null,0,{"$f":"IF(NOT(ISBLANK(F546)),LOOKUP(F546,WKNrListe,Übersicht!E$7:E$77),0)","v":0},""]
[null,null,null,null,null,null,{"$f":"IF(ISERROR(MATCH(F547,WKNrListe_Einzel,0)),\"\",LOOKUP(F547,WKNrListe_Einzel,Übersicht!$B$7:$B$62))","v":""},null,{"$f":"IF(ISBLANK(H547),\" \",IF(LOOKUP(H547,MannschaftsNrListe,Mannschaften!B$4:B$53)<>0,LOOKUP(H547,MannschaftsNrListe,Mannschaften!B$4:B$53),\"\"))","v":" "},null,null,null,null,null,null,null,null,null,null,null,null,null,null,null,null,null,null,null,null,null,0,{"$f":"IF(NOT(ISBLANK(F547)),LOOKUP(F547,WKNrListe,Übersicht!E$7:E$77),0)","v":0},""]
[null,null,null,null,null,null,{"$f":"IF(ISERROR(MATCH(F548,WKNrListe_Einzel,0)),\"\",LOOKUP(F548,WKNrListe_Einzel,Übersicht!$B$7:$B$62))","v":""},null,{"$f":"IF(ISBLANK(H548),\" \",IF(LOOKUP(H548,MannschaftsNrListe,Mannschaften!B$4:B$53)<>0,LOOKUP(H548,MannschaftsNrListe,Mannschaften!B$4:B$53),\"\"))","v":" "},null,null,null,null,null,null,null,null,null,null,null,null,null,null,null,null,null,null,null,null,null,0,{"$f":"IF(NOT(ISBLANK(F548)),LOOKUP(F548,WKNrListe,Übersicht!E$7:E$77),0)","v":0},""]
[null,null,null,null,null,null,{"$f":"IF(ISERROR(MATCH(F549,WKNrListe_Einzel,0)),\"\",LOOKUP(F549,WKNrListe_Einzel,Übersicht!$B$7:$B$62))","v":""},null,{"$f":"IF(ISBLANK(H549),\" \",IF(LOOKUP(H549,MannschaftsNrListe,Mannschaften!B$4:B$53)<>0,LOOKUP(H549,MannschaftsNrListe,Mannschaften!B$4:B$53),\"\"))","v":" "},null,null,null,null,null,null,null,null,null,null,null,null,null,null,null,null,null,null,null,null,null,0,{"$f":"IF(NOT(ISBLANK(F549)),LOOKUP(F549,WKNrListe,Übersicht!E$7:E$77),0)","v":0},""]
[null,null,null,null,null,null,{"$f":"IF(ISERROR(MATCH(F550,WKNrListe_Einzel,0)),\"\",LOOKUP(F550,WKNrListe_Einzel,Übersicht!$B$7:$B$62))","v":""},null,{"$f":"IF(ISBLANK(H550),\" \",IF(LOOKUP(H550,MannschaftsNrListe,Mannschaften!B$4:B$53)<>0,LOOKUP(H550,MannschaftsNrListe,Mannschaften!B$4:B$53),\"\"))","v":" "},null,null,null,null,null,null,null,null,null,null,null,null,null,null,null,null,null,null,null,null,null,0,{"$f":"IF(NOT(ISBLANK(F550)),LOOKUP(F550,WKNrListe,Übersicht!E$7:E$77),0)","v":0},""]
[null,null,null,null,null,null,{"$f":"IF(ISERROR(MATCH(F551,WKNrListe_Einzel,0)),\"\",LOOKUP(F551,WKNrListe_Einzel,Übersicht!$B$7:$B$62))","v":""},null,{"$f":"IF(ISBLANK(H551),\" \",IF(LOOKUP(H551,MannschaftsNrListe,Mannschaften!B$4:B$53)<>0,LOOKUP(H551,MannschaftsNrListe,Mannschaften!B$4:B$53),\"\"))","v":" "},null,null,null,null,null,null,null,null,null,null,null,null,null,null,null,null,null,null,null,null,null,0,{"$f":"IF(NOT(ISBLANK(F551)),LOOKUP(F551,WKNrListe,Übersicht!E$7:E$77),0)","v":0},""]
[null,null,null,null,null,null,{"$f":"IF(ISERROR(MATCH(F552,WKNrListe_Einzel,0)),\"\",LOOKUP(F552,WKNrListe_Einzel,Übersicht!$B$7:$B$62))","v":""},null,{"$f":"IF(ISBLANK(H552),\" \",IF(LOOKUP(H552,MannschaftsNrListe,Mannschaften!B$4:B$53)<>0,LOOKUP(H552,MannschaftsNrListe,Mannschaften!B$4:B$53),\"\"))","v":" "},null,null,null,null,null,null,null,null,null,null,null,null,null,null,null,null,null,null,null,null,null,0,{"$f":"IF(NOT(ISBLANK(F552)),LOOKUP(F552,WKNrListe,Übersicht!E$7:E$77),0)","v":0},""]
[null,null,null,null,null,null,{"$f":"IF(ISERROR(MATCH(F553,WKNrListe_Einzel,0)),\"\",LOOKUP(F553,WKNrListe_Einzel,Übersicht!$B$7:$B$62))","v":""},null,{"$f":"IF(ISBLANK(H553),\" \",IF(LOOKUP(H553,MannschaftsNrListe,Mannschaften!B$4:B$53)<>0,LOOKUP(H553,MannschaftsNrListe,Mannschaften!B$4:B$53),\"\"))","v":" "},null,null,null,null,null,null,null,null,null,null,null,null,null,null,null,null,null,null,null,null,null,0,{"$f":"IF(NOT(ISBLANK(F553)),LOOKUP(F553,WKNrListe,Übersicht!E$7:E$77),0)","v":0},""]
[null,null,null,null,null,null,{"$f":"IF(ISERROR(MATCH(F554,WKNrListe_Einzel,0)),\"\",LOOKUP(F554,WKNrListe_Einzel,Übersicht!$B$7:$B$62))","v":""},null,{"$f":"IF(ISBLANK(H554),\" \",IF(LOOKUP(H554,MannschaftsNrListe,Mannschaften!B$4:B$53)<>0,LOOKUP(H554,MannschaftsNrListe,Mannschaften!B$4:B$53),\"\"))","v":" "},null,null,null,null,null,null,null,null,null,null,null,null,null,null,null,null,null,null,null,null,null,0,{"$f":"IF(NOT(ISBLANK(F554)),LOOKUP(F554,WKNrListe,Übersicht!E$7:E$77),0)","v":0},""]
[null,null,null,null,null,null,{"$f":"IF(ISERROR(MATCH(F555,WKNrListe_Einzel,0)),\"\",LOOKUP(F555,WKNrListe_Einzel,Übersicht!$B$7:$B$62))","v":""},null,{"$f":"IF(ISBLANK(H555),\" \",IF(LOOKUP(H555,MannschaftsNrListe,Mannschaften!B$4:B$53)<>0,LOOKUP(H555,MannschaftsNrListe,Mannschaften!B$4:B$53),\"\"))","v":" "},null,null,null,null,null,null,null,null,null,null,null,null,null,null,null,null,null,null,null,null,null,0,{"$f":"IF(NOT(ISBLANK(F555)),LOOKUP(F555,WKNrListe,Übersicht!E$7:E$77),0)","v":0},""]
[null,null,null,null,null,null,{"$f":"IF(ISERROR(MATCH(F556,WKNrListe_Einzel,0)),\"\",LOOKUP(F556,WKNrListe_Einzel,Übersicht!$B$7:$B$62))","v":""},null,{"$f":"IF(ISBLANK(H556),\" \",IF(LOOKUP(H556,MannschaftsNrListe,Mannschaften!B$4:B$53)<>0,LOOKUP(H556,MannschaftsNrListe,Mannschaften!B$4:B$53),\"\"))","v":" "},null,null,null,null,null,null,null,null,null,null,null,null,null,null,null,null,null,null,null,null,null,0,{"$f":"IF(NOT(ISBLANK(F556)),LOOKUP(F556,WKNrListe,Übersicht!E$7:E$77),0)","v":0},""]
[null,null,null,null,null,null,{"$f":"IF(ISERROR(MATCH(F557,WKNrListe_Einzel,0)),\"\",LOOKUP(F557,WKNrListe_Einzel,Übersicht!$B$7:$B$62))","v":""},null,{"$f":"IF(ISBLANK(H557),\" \",IF(LOOKUP(H557,MannschaftsNrListe,Mannschaften!B$4:B$53)<>0,LOOKUP(H557,MannschaftsNrListe,Mannschaften!B$4:B$53),\"\"))","v":" "},null,null,null,null,null,null,null,null,null,null,null,null,null,null,null,null,null,null,null,null,null,0,{"$f":"IF(NOT(ISBLANK(F557)),LOOKUP(F557,WKNrListe,Übersicht!E$7:E$77),0)","v":0},""]
[null,null,null,null,null,null,{"$f":"IF(ISERROR(MATCH(F558,WKNrListe_Einzel,0)),\"\",LOOKUP(F558,WKNrListe_Einzel,Übersicht!$B$7:$B$62))","v":""},null,{"$f":"IF(ISBLANK(H558),\" \",IF(LOOKUP(H558,MannschaftsNrListe,Mannschaften!B$4:B$53)<>0,LOOKUP(H558,MannschaftsNrListe,Mannschaften!B$4:B$53),\"\"))","v":" "},null,null,null,null,null,null,null,null,null,null,null,null,null,null,null,null,null,null,null,null,null,0,{"$f":"IF(NOT(ISBLANK(F558)),LOOKUP(F558,WKNrListe,Übersicht!E$7:E$77),0)","v":0},""]
[null,null,null,null,null,null,{"$f":"IF(ISERROR(MATCH(F559,WKNrListe_Einzel,0)),\"\",LOOKUP(F559,WKNrListe_Einzel,Übersicht!$B$7:$B$62))","v":""},null,{"$f":"IF(ISBLANK(H559),\" \",IF(LOOKUP(H559,MannschaftsNrListe,Mannschaften!B$4:B$53)<>0,LOOKUP(H559,MannschaftsNrListe,Mannschaften!B$4:B$53),\"\"))","v":" "},null,null,null,null,null,null,null,null,null,null,null,null,null,null,null,null,null,null,null,null,null,0,{"$f":"IF(NOT(ISBLANK(F559)),LOOKUP(F559,WKNrListe,Übersicht!E$7:E$77),0)","v":0},""]
[null,null,null,null,null,null,{"$f":"IF(ISERROR(MATCH(F560,WKNrListe_Einzel,0)),\"\",LOOKUP(F560,WKNrListe_Einzel,Übersicht!$B$7:$B$62))","v":""},null,{"$f":"IF(ISBLANK(H560),\" \",IF(LOOKUP(H560,MannschaftsNrListe,Mannschaften!B$4:B$53)<>0,LOOKUP(H560,MannschaftsNrListe,Mannschaften!B$4:B$53),\"\"))","v":" "},null,null,null,null,null,null,null,null,null,null,null,null,null,null,null,null,null,null,null,null,null,0,{"$f":"IF(NOT(ISBLANK(F560)),LOOKUP(F560,WKNrListe,Übersicht!E$7:E$77),0)","v":0},""]
[null,null,null,null,null,null,{"$f":"IF(ISERROR(MATCH(F561,WKNrListe_Einzel,0)),\"\",LOOKUP(F561,WKNrListe_Einzel,Übersicht!$B$7:$B$62))","v":""},null,{"$f":"IF(ISBLANK(H561),\" \",IF(LOOKUP(H561,MannschaftsNrListe,Mannschaften!B$4:B$53)<>0,LOOKUP(H561,MannschaftsNrListe,Mannschaften!B$4:B$53),\"\"))","v":" "},null,null,null,null,null,null,null,null,null,null,null,null,null,null,null,null,null,null,null,null,null,0,{"$f":"IF(NOT(ISBLANK(F561)),LOOKUP(F561,WKNrListe,Übersicht!E$7:E$77),0)","v":0},""]
[null,null,null,null,null,null,{"$f":"IF(ISERROR(MATCH(F562,WKNrListe_Einzel,0)),\"\",LOOKUP(F562,WKNrListe_Einzel,Übersicht!$B$7:$B$62))","v":""},null,{"$f":"IF(ISBLANK(H562),\" \",IF(LOOKUP(H562,MannschaftsNrListe,Mannschaften!B$4:B$53)<>0,LOOKUP(H562,MannschaftsNrListe,Mannschaften!B$4:B$53),\"\"))","v":" "},null,null,null,null,null,null,null,null,null,null,null,null,null,null,null,null,null,null,null,null,null,0,{"$f":"IF(NOT(ISBLANK(F562)),LOOKUP(F562,WKNrListe,Übersicht!E$7:E$77),0)","v":0},""]
[null,null,null,null,null,null,{"$f":"IF(ISERROR(MATCH(F563,WKNrListe_Einzel,0)),\"\",LOOKUP(F563,WKNrListe_Einzel,Übersicht!$B$7:$B$62))","v":""},null,{"$f":"IF(ISBLANK(H563),\" \",IF(LOOKUP(H563,MannschaftsNrListe,Mannschaften!B$4:B$53)<>0,LOOKUP(H563,MannschaftsNrListe,Mannschaften!B$4:B$53),\"\"))","v":" "},null,null,null,null,null,null,null,null,null,null,null,null,null,null,null,null,null,null,null,null,null,0,{"$f":"IF(NOT(ISBLANK(F563)),LOOKUP(F563,WKNrListe,Übersicht!E$7:E$77),0)","v":0},""]
[null,null,null,null,null,null,{"$f":"IF(ISERROR(MATCH(F564,WKNrListe_Einzel,0)),\"\",LOOKUP(F564,WKNrListe_Einzel,Übersicht!$B$7:$B$62))","v":""},null,{"$f":"IF(ISBLANK(H564),\" \",IF(LOOKUP(H564,MannschaftsNrListe,Mannschaften!B$4:B$53)<>0,LOOKUP(H564,MannschaftsNrListe,Mannschaften!B$4:B$53),\"\"))","v":" "},null,null,null,null,null,null,null,null,null,null,null,null,null,null,null,null,null,null,null,null,null,0,{"$f":"IF(NOT(ISBLANK(F564)),LOOKUP(F564,WKNrListe,Übersicht!E$7:E$77),0)","v":0},""]
[null,null,null,null,null,null,{"$f":"IF(ISERROR(MATCH(F565,WKNrListe_Einzel,0)),\"\",LOOKUP(F565,WKNrListe_Einzel,Übersicht!$B$7:$B$62))","v":""},null,{"$f":"IF(ISBLANK(H565),\" \",IF(LOOKUP(H565,MannschaftsNrListe,Mannschaften!B$4:B$53)<>0,LOOKUP(H565,MannschaftsNrListe,Mannschaften!B$4:B$53),\"\"))","v":" "},null,null,null,null,null,null,null,null,null,null,null,null,null,null,null,null,null,null,null,null,null,0,{"$f":"IF(NOT(ISBLANK(F565)),LOOKUP(F565,WKNrListe,Übersicht!E$7:E$77),0)","v":0},""]
[null,null,null,null,null,null,{"$f":"IF(ISERROR(MATCH(F566,WKNrListe_Einzel,0)),\"\",LOOKUP(F566,WKNrListe_Einzel,Übersicht!$B$7:$B$62))","v":""},null,{"$f":"IF(ISBLANK(H566),\" \",IF(LOOKUP(H566,MannschaftsNrListe,Mannschaften!B$4:B$53)<>0,LOOKUP(H566,MannschaftsNrListe,Mannschaften!B$4:B$53),\"\"))","v":" "},null,null,null,null,null,null,null,null,null,null,null,null,null,null,null,null,null,null,null,null,null,0,{"$f":"IF(NOT(ISBLANK(F566)),LOOKUP(F566,WKNrListe,Übersicht!E$7:E$77),0)","v":0},""]
[null,null,null,null,null,null,{"$f":"IF(ISERROR(MATCH(F567,WKNrListe_Einzel,0)),\"\",LOOKUP(F567,WKNrListe_Einzel,Übersicht!$B$7:$B$62))","v":""},null,{"$f":"IF(ISBLANK(H567),\" \",IF(LOOKUP(H567,MannschaftsNrListe,Mannschaften!B$4:B$53)<>0,LOOKUP(H567,MannschaftsNrListe,Mannschaften!B$4:B$53),\"\"))","v":" "},null,null,null,null,null,null,null,null,null,null,null,null,null,null,null,null,null,null,null,null,null,0,{"$f":"IF(NOT(ISBLANK(F567)),LOOKUP(F567,WKNrListe,Übersicht!E$7:E$77),0)","v":0},""]
[null,null,null,null,null,null,{"$f":"IF(ISERROR(MATCH(F568,WKNrListe_Einzel,0)),\"\",LOOKUP(F568,WKNrListe_Einzel,Übersicht!$B$7:$B$62))","v":""},null,{"$f":"IF(ISBLANK(H568),\" \",IF(LOOKUP(H568,MannschaftsNrListe,Mannschaften!B$4:B$53)<>0,LOOKUP(H568,MannschaftsNrListe,Mannschaften!B$4:B$53),\"\"))","v":" "},null,null,null,null,null,null,null,null,null,null,null,null,null,null,null,null,null,null,null,null,null,0,{"$f":"IF(NOT(ISBLANK(F568)),LOOKUP(F568,WKNrListe,Übersicht!E$7:E$77),0)","v":0},""]
[null,null,null,null,null,null,{"$f":"IF(ISERROR(MATCH(F569,WKNrListe_Einzel,0)),\"\",LOOKUP(F569,WKNrListe_Einzel,Übersicht!$B$7:$B$62))","v":""},null,{"$f":"IF(ISBLANK(H569),\" \",IF(LOOKUP(H569,MannschaftsNrListe,Mannschaften!B$4:B$53)<>0,LOOKUP(H569,MannschaftsNrListe,Mannschaften!B$4:B$53),\"\"))","v":" "},null,null,null,null,null,null,null,null,null,null,null,null,null,null,null,null,null,null,null,null,null,0,{"$f":"IF(NOT(ISBLANK(F569)),LOOKUP(F569,WKNrListe,Übersicht!E$7:E$77),0)","v":0},""]
[null,null,null,null,null,null,{"$f":"IF(ISERROR(MATCH(F570,WKNrListe_Einzel,0)),\"\",LOOKUP(F570,WKNrListe_Einzel,Übersicht!$B$7:$B$62))","v":""},null,{"$f":"IF(ISBLANK(H570),\" \",IF(LOOKUP(H570,MannschaftsNrListe,Mannschaften!B$4:B$53)<>0,LOOKUP(H570,MannschaftsNrListe,Mannschaften!B$4:B$53),\"\"))","v":" "},null,null,null,null,null,null,null,null,null,null,null,null,null,null,null,null,null,null,null,null,null,0,{"$f":"IF(NOT(ISBLANK(F570)),LOOKUP(F570,WKNrListe,Übersicht!E$7:E$77),0)","v":0},""]
[null,null,null,null,null,null,{"$f":"IF(ISERROR(MATCH(F571,WKNrListe_Einzel,0)),\"\",LOOKUP(F571,WKNrListe_Einzel,Übersicht!$B$7:$B$62))","v":""},null,{"$f":"IF(ISBLANK(H571),\" \",IF(LOOKUP(H571,MannschaftsNrListe,Mannschaften!B$4:B$53)<>0,LOOKUP(H571,MannschaftsNrListe,Mannschaften!B$4:B$53),\"\"))","v":" "},null,null,null,null,null,null,null,null,null,null,null,null,null,null,null,null,null,null,null,null,null,0,{"$f":"IF(NOT(ISBLANK(F571)),LOOKUP(F571,WKNrListe,Übersicht!E$7:E$77),0)","v":0},""]
[null,null,null,null,null,null,{"$f":"IF(ISERROR(MATCH(F572,WKNrListe_Einzel,0)),\"\",LOOKUP(F572,WKNrListe_Einzel,Übersicht!$B$7:$B$62))","v":""},null,{"$f":"IF(ISBLANK(H572),\" \",IF(LOOKUP(H572,MannschaftsNrListe,Mannschaften!B$4:B$53)<>0,LOOKUP(H572,MannschaftsNrListe,Mannschaften!B$4:B$53),\"\"))","v":" "},null,null,null,null,null,null,null,null,null,null,null,null,null,null,null,null,null,null,null,null,null,0,{"$f":"IF(NOT(ISBLANK(F572)),LOOKUP(F572,WKNrListe,Übersicht!E$7:E$77),0)","v":0},""]
[null,null,null,null,null,null,{"$f":"IF(ISERROR(MATCH(F573,WKNrListe_Einzel,0)),\"\",LOOKUP(F573,WKNrListe_Einzel,Übersicht!$B$7:$B$62))","v":""},null,{"$f":"IF(ISBLANK(H573),\" \",IF(LOOKUP(H573,MannschaftsNrListe,Mannschaften!B$4:B$53)<>0,LOOKUP(H573,MannschaftsNrListe,Mannschaften!B$4:B$53),\"\"))","v":" "},null,null,null,null,null,null,null,null,null,null,null,null,null,null,null,null,null,null,null,null,null,0,{"$f":"IF(NOT(ISBLANK(F573)),LOOKUP(F573,WKNrListe,Übersicht!E$7:E$77),0)","v":0},""]
[null,null,null,null,null,null,{"$f":"IF(ISERROR(MATCH(F574,WKNrListe_Einzel,0)),\"\",LOOKUP(F574,WKNrListe_Einzel,Übersicht!$B$7:$B$62))","v":""},null,{"$f":"IF(ISBLANK(H574),\" \",IF(LOOKUP(H574,MannschaftsNrListe,Mannschaften!B$4:B$53)<>0,LOOKUP(H574,MannschaftsNrListe,Mannschaften!B$4:B$53),\"\"))","v":" "},null,null,null,null,null,null,null,null,null,null,null,null,null,null,null,null,null,null,null,null,null,0,{"$f":"IF(NOT(ISBLANK(F574)),LOOKUP(F574,WKNrListe,Übersicht!E$7:E$77),0)","v":0},""]
[null,null,null,null,null,null,{"$f":"IF(ISERROR(MATCH(F575,WKNrListe_Einzel,0)),\"\",LOOKUP(F575,WKNrListe_Einzel,Übersicht!$B$7:$B$62))","v":""},null,{"$f":"IF(ISBLANK(H575),\" \",IF(LOOKUP(H575,MannschaftsNrListe,Mannschaften!B$4:B$53)<>0,LOOKUP(H575,MannschaftsNrListe,Mannschaften!B$4:B$53),\"\"))","v":" "},null,null,null,null,null,null,null,null,null,null,null,null,null,null,null,null,null,null,null,null,null,0,{"$f":"IF(NOT(ISBLANK(F575)),LOOKUP(F575,WKNrListe,Übersicht!E$7:E$77),0)","v":0},""]
[null,null,null,null,null,null,{"$f":"IF(ISERROR(MATCH(F576,WKNrListe_Einzel,0)),\"\",LOOKUP(F576,WKNrListe_Einzel,Übersicht!$B$7:$B$62))","v":""},null,{"$f":"IF(ISBLANK(H576),\" \",IF(LOOKUP(H576,MannschaftsNrListe,Mannschaften!B$4:B$53)<>0,LOOKUP(H576,MannschaftsNrListe,Mannschaften!B$4:B$53),\"\"))","v":" "},null,null,null,null,null,null,null,null,null,null,null,null,null,null,null,null,null,null,null,null,null,0,{"$f":"IF(NOT(ISBLANK(F576)),LOOKUP(F576,WKNrListe,Übersicht!E$7:E$77),0)","v":0},""]
[null,null,null,null,null,null,{"$f":"IF(ISERROR(MATCH(F577,WKNrListe_Einzel,0)),\"\",LOOKUP(F577,WKNrListe_Einzel,Übersicht!$B$7:$B$62))","v":""},null,{"$f":"IF(ISBLANK(H577),\" \",IF(LOOKUP(H577,MannschaftsNrListe,Mannschaften!B$4:B$53)<>0,LOOKUP(H577,MannschaftsNrListe,Mannschaften!B$4:B$53),\"\"))","v":" "},null,null,null,null,null,null,null,null,null,null,null,null,null,null,null,null,null,null,null,null,null,0,{"$f":"IF(NOT(ISBLANK(F577)),LOOKUP(F577,WKNrListe,Übersicht!E$7:E$77),0)","v":0},""]
[null,null,null,null,null,null,{"$f":"IF(ISERROR(MATCH(F578,WKNrListe_Einzel,0)),\"\",LOOKUP(F578,WKNrListe_Einzel,Übersicht!$B$7:$B$62))","v":""},null,{"$f":"IF(ISBLANK(H578),\" \",IF(LOOKUP(H578,MannschaftsNrListe,Mannschaften!B$4:B$53)<>0,LOOKUP(H578,MannschaftsNrListe,Mannschaften!B$4:B$53),\"\"))","v":" "},null,null,null,null,null,null,null,null,null,null,null,null,null,null,null,null,null,null,null,null,null,0,{"$f":"IF(NOT(ISBLANK(F578)),LOOKUP(F578,WKNrListe,Übersicht!E$7:E$77),0)","v":0},""]
[null,null,null,null,null,null,{"$f":"IF(ISERROR(MATCH(F579,WKNrListe_Einzel,0)),\"\",LOOKUP(F579,WKNrListe_Einzel,Übersicht!$B$7:$B$62))","v":""},null,{"$f":"IF(ISBLANK(H579),\" \",IF(LOOKUP(H579,MannschaftsNrListe,Mannschaften!B$4:B$53)<>0,LOOKUP(H579,MannschaftsNrListe,Mannschaften!B$4:B$53),\"\"))","v":" "},null,null,null,null,null,null,null,null,null,null,null,null,null,null,null,null,null,null,null,null,null,0,{"$f":"IF(NOT(ISBLANK(F579)),LOOKUP(F579,WKNrListe,Übersicht!E$7:E$77),0)","v":0},""]
[null,null,null,null,null,null,{"$f":"IF(ISERROR(MATCH(F580,WKNrListe_Einzel,0)),\"\",LOOKUP(F580,WKNrListe_Einzel,Übersicht!$B$7:$B$62))","v":""},null,{"$f":"IF(ISBLANK(H580),\" \",IF(LOOKUP(H580,MannschaftsNrListe,Mannschaften!B$4:B$53)<>0,LOOKUP(H580,MannschaftsNrListe,Mannschaften!B$4:B$53),\"\"))","v":" "},null,null,null,null,null,null,null,null,null,null,null,null,null,null,null,null,null,null,null,null,null,0,{"$f":"IF(NOT(ISBLANK(F580)),LOOKUP(F580,WKNrListe,Übersicht!E$7:E$77),0)","v":0},""]
[null,null,null,null,null,null,{"$f":"IF(ISERROR(MATCH(F581,WKNrListe_Einzel,0)),\"\",LOOKUP(F581,WKNrListe_Einzel,Übersicht!$B$7:$B$62))","v":""},null,{"$f":"IF(ISBLANK(H581),\" \",IF(LOOKUP(H581,MannschaftsNrListe,Mannschaften!B$4:B$53)<>0,LOOKUP(H581,MannschaftsNrListe,Mannschaften!B$4:B$53),\"\"))","v":" "},null,null,null,null,null,null,null,null,null,null,null,null,null,null,null,null,null,null,null,null,null,0,{"$f":"IF(NOT(ISBLANK(F581)),LOOKUP(F581,WKNrListe,Übersicht!E$7:E$77),0)","v":0},{"$f":"IF(\n AND(\n  OR(ISTEXT(A581), ISTEXT(B581), NOT(ISBLANK(E581)), NOT(ISBLANK(F581)), NOT(ISBLANK(H581))),\n  OR(ISBLANK(A581),ISBLANK(B581),AND(ISBLANK(E581),ISBLANK(F581),ISBLANK(H581)))\n ),\n \"unvollständig\",\n IF(\n  AND(\n   NOT(\n    ISBLANK(H581)\n    ),\n   NOT(ISNUMBER(I581))\n  ),\n  \"Seite Mannschaften ausfüllen!\",\n  IF(AF581>AE581,\"zu wenig Disziplinen gewählt\",IF(AE581>AF581,\"zu viele Disziplinen gewählt\",\"\"))\n )\n)","v":""}]
[null,null,null,null,null,null,{"$f":"IF(ISERROR(MATCH(F582,WKNrListe_Einzel,0)),\"\",LOOKUP(F582,WKNrListe_Einzel,Übersicht!$B$7:$B$62))","v":""},null,{"$f":"IF(ISBLANK(H582),\" \",IF(LOOKUP(H582,MannschaftsNrListe,Mannschaften!B$4:B$53)<>0,LOOKUP(H582,MannschaftsNrListe,Mannschaften!B$4:B$53),\"\"))","v":" "},null,null,null,null,null,null,null,null,null,null,null,null,null,null,null,null,null,null,null,null,null,{"$f":"COUNTIF(J582:AD582,\">''\")","v":0},{"$f":"IF(NOT(ISBLANK(F582)),LOOKUP(F582,WKNrListe,Übersicht!E$7:E$77),0)","v":0},""]
[null,null,null,null,null,null,{"$f":"IF(ISERROR(MATCH(F583,WKNrListe_Einzel,0)),\"\",LOOKUP(F583,WKNrListe_Einzel,Übersicht!$B$7:$B$62))","v":""},null,{"$f":"IF(ISBLANK(H583),\" \",IF(LOOKUP(H583,MannschaftsNrListe,Mannschaften!B$4:B$53)<>0,LOOKUP(H583,MannschaftsNrListe,Mannschaften!B$4:B$53),\"\"))","v":" "},null,null,null,null,null,null,null,null,null,null,null,null,null,null,null,null,null,null,null,null,null,0,{"$f":"IF(NOT(ISBLANK(F583)),LOOKUP(F583,WKNrListe,Übersicht!E$7:E$77),0)","v":0},""]
[null,null,null,null,null,null,{"$f":"IF(ISERROR(MATCH(F584,WKNrListe_Einzel,0)),\"\",LOOKUP(F584,WKNrListe_Einzel,Übersicht!$B$7:$B$62))","v":""},null,{"$f":"IF(ISBLANK(H584),\" \",IF(LOOKUP(H584,MannschaftsNrListe,Mannschaften!B$4:B$53)<>0,LOOKUP(H584,MannschaftsNrListe,Mannschaften!B$4:B$53),\"\"))","v":" "},null,null,null,null,null,null,null,null,null,null,null,null,null,null,null,null,null,null,null,null,null,0,{"$f":"IF(NOT(ISBLANK(F584)),LOOKUP(F584,WKNrListe,Übersicht!E$7:E$77),0)","v":0},""]
[null,null,null,null,null,null,{"$f":"IF(ISERROR(MATCH(F585,WKNrListe_Einzel,0)),\"\",LOOKUP(F585,WKNrListe_Einzel,Übersicht!$B$7:$B$62))","v":""},null,{"$f":"IF(ISBLANK(H585),\" \",IF(LOOKUP(H585,MannschaftsNrListe,Mannschaften!B$4:B$53)<>0,LOOKUP(H585,MannschaftsNrListe,Mannschaften!B$4:B$53),\"\"))","v":" "},null,null,null,null,null,null,null,null,null,null,null,null,null,null,null,null,null,null,null,null,null,0,{"$f":"IF(NOT(ISBLANK(F585)),LOOKUP(F585,WKNrListe,Übersicht!E$7:E$77),0)","v":0},""]
[null,null,null,null,null,null,{"$f":"IF(ISERROR(MATCH(F586,WKNrListe_Einzel,0)),\"\",LOOKUP(F586,WKNrListe_Einzel,Übersicht!$B$7:$B$62))","v":""},null,{"$f":"IF(ISBLANK(H586),\" \",IF(LOOKUP(H586,MannschaftsNrListe,Mannschaften!B$4:B$53)<>0,LOOKUP(H586,MannschaftsNrListe,Mannschaften!B$4:B$53),\"\"))","v":" "},null,null,null,null,null,null,null,null,null,null,null,null,null,null,null,null,null,null,null,null,null,0,{"$f":"IF(NOT(ISBLANK(F586)),LOOKUP(F586,WKNrListe,Übersicht!E$7:E$77),0)","v":0},""]
[null,null,null,null,null,null,{"$f":"IF(ISERROR(MATCH(F587,WKNrListe_Einzel,0)),\"\",LOOKUP(F587,WKNrListe_Einzel,Übersicht!$B$7:$B$62))","v":""},null,{"$f":"IF(ISBLANK(H587),\" \",IF(LOOKUP(H587,MannschaftsNrListe,Mannschaften!B$4:B$53)<>0,LOOKUP(H587,MannschaftsNrListe,Mannschaften!B$4:B$53),\"\"))","v":" "},null,null,null,null,null,null,null,null,null,null,null,null,null,null,null,null,null,null,null,null,null,0,{"$f":"IF(NOT(ISBLANK(F587)),LOOKUP(F587,WKNrListe,Übersicht!E$7:E$77),0)","v":0},""]
[null,null,null,null,null,null,{"$f":"IF(ISERROR(MATCH(F588,WKNrListe_Einzel,0)),\"\",LOOKUP(F588,WKNrListe_Einzel,Übersicht!$B$7:$B$62))","v":""},null,{"$f":"IF(ISBLANK(H588),\" \",IF(LOOKUP(H588,MannschaftsNrListe,Mannschaften!B$4:B$53)<>0,LOOKUP(H588,MannschaftsNrListe,Mannschaften!B$4:B$53),\"\"))","v":" "},null,null,null,null,null,null,null,null,null,null,null,null,null,null,null,null,null,null,null,null,null,0,{"$f":"IF(NOT(ISBLANK(F588)),LOOKUP(F588,WKNrListe,Übersicht!E$7:E$77),0)","v":0},""]
[null,null,null,null,null,null,{"$f":"IF(ISERROR(MATCH(F589,WKNrListe_Einzel,0)),\"\",LOOKUP(F589,WKNrListe_Einzel,Übersicht!$B$7:$B$62))","v":""},null,{"$f":"IF(ISBLANK(H589),\" \",IF(LOOKUP(H589,MannschaftsNrListe,Mannschaften!B$4:B$53)<>0,LOOKUP(H589,MannschaftsNrListe,Mannschaften!B$4:B$53),\"\"))","v":" "},null,null,null,null,null,null,null,null,null,null,null,null,null,null,null,null,null,null,null,null,null,0,{"$f":"IF(NOT(ISBLANK(F589)),LOOKUP(F589,WKNrListe,Übersicht!E$7:E$77),0)","v":0},""]
[null,null,null,null,null,null,{"$f":"IF(ISERROR(MATCH(F590,WKNrListe_Einzel,0)),\"\",LOOKUP(F590,WKNrListe_Einzel,Übersicht!$B$7:$B$62))","v":""},null,{"$f":"IF(ISBLANK(H590),\" \",IF(LOOKUP(H590,MannschaftsNrListe,Mannschaften!B$4:B$53)<>0,LOOKUP(H590,MannschaftsNrListe,Mannschaften!B$4:B$53),\"\"))","v":" "},null,null,null,null,null,null,null,null,null,null,null,null,null,null,null,null,null,null,null,null,null,0,{"$f":"IF(NOT(ISBLANK(F590)),LOOKUP(F590,WKNrListe,Übersicht!E$7:E$77),0)","v":0},""]
[null,null,null,null,null,null,{"$f":"IF(ISERROR(MATCH(F591,WKNrListe_Einzel,0)),\"\",LOOKUP(F591,WKNrListe_Einzel,Übersicht!$B$7:$B$62))","v":""},null,{"$f":"IF(ISBLANK(H591),\" \",IF(LOOKUP(H591,MannschaftsNrListe,Mannschaften!B$4:B$53)<>0,LOOKUP(H591,MannschaftsNrListe,Mannschaften!B$4:B$53),\"\"))","v":" "},null,null,null,null,null,null,null,null,null,null,null,null,null,null,null,null,null,null,null,null,null,0,{"$f":"IF(NOT(ISBLANK(F591)),LOOKUP(F591,WKNrListe,Übersicht!E$7:E$77),0)","v":0},""]
[null,null,null,null,null,null,{"$f":"IF(ISERROR(MATCH(F592,WKNrListe_Einzel,0)),\"\",LOOKUP(F592,WKNrListe_Einzel,Übersicht!$B$7:$B$62))","v":""},null,{"$f":"IF(ISBLANK(H592),\" \",IF(LOOKUP(H592,MannschaftsNrListe,Mannschaften!B$4:B$53)<>0,LOOKUP(H592,MannschaftsNrListe,Mannschaften!B$4:B$53),\"\"))","v":" "},null,null,null,null,null,null,null,null,null,null,null,null,null,null,null,null,null,null,null,null,null,0,{"$f":"IF(NOT(ISBLANK(F592)),LOOKUP(F592,WKNrListe,Übersicht!E$7:E$77),0)","v":0},""]
[null,null,null,null,null,null,{"$f":"IF(ISERROR(MATCH(F593,WKNrListe_Einzel,0)),\"\",LOOKUP(F593,WKNrListe_Einzel,Übersicht!$B$7:$B$62))","v":""},null,{"$f":"IF(ISBLANK(H593),\" \",IF(LOOKUP(H593,MannschaftsNrListe,Mannschaften!B$4:B$53)<>0,LOOKUP(H593,MannschaftsNrListe,Mannschaften!B$4:B$53),\"\"))","v":" "},null,null,null,null,null,null,null,null,null,null,null,null,null,null,null,null,null,null,null,null,null,0,{"$f":"IF(NOT(ISBLANK(F593)),LOOKUP(F593,WKNrListe,Übersicht!E$7:E$77),0)","v":0},""]
[null,null,null,null,null,null,{"$f":"IF(ISERROR(MATCH(F594,WKNrListe_Einzel,0)),\"\",LOOKUP(F594,WKNrListe_Einzel,Übersicht!$B$7:$B$62))","v":""},null,{"$f":"IF(ISBLANK(H594),\" \",IF(LOOKUP(H594,MannschaftsNrListe,Mannschaften!B$4:B$53)<>0,LOOKUP(H594,MannschaftsNrListe,Mannschaften!B$4:B$53),\"\"))","v":" "},null,null,null,null,null,null,null,null,null,null,null,null,null,null,null,null,null,null,null,null,null,0,{"$f":"IF(NOT(ISBLANK(F594)),LOOKUP(F594,WKNrListe,Übersicht!E$7:E$77),0)","v":0},""]
[null,null,null,null,null,null,{"$f":"IF(ISERROR(MATCH(F595,WKNrListe_Einzel,0)),\"\",LOOKUP(F595,WKNrListe_Einzel,Übersicht!$B$7:$B$62))","v":""},null,{"$f":"IF(ISBLANK(H595),\" \",IF(LOOKUP(H595,MannschaftsNrListe,Mannschaften!B$4:B$53)<>0,LOOKUP(H595,MannschaftsNrListe,Mannschaften!B$4:B$53),\"\"))","v":" "},null,null,null,null,null,null,null,null,null,null,null,null,null,null,null,null,null,null,null,null,null,0,{"$f":"IF(NOT(ISBLANK(F595)),LOOKUP(F595,WKNrListe,Übersicht!E$7:E$77),0)","v":0},""]
[null,null,null,null,null,null,{"$f":"IF(ISERROR(MATCH(F596,WKNrListe_Einzel,0)),\"\",LOOKUP(F596,WKNrListe_Einzel,Übersicht!$B$7:$B$62))","v":""},null,{"$f":"IF(ISBLANK(H596),\" \",IF(LOOKUP(H596,MannschaftsNrListe,Mannschaften!B$4:B$53)<>0,LOOKUP(H596,MannschaftsNrListe,Mannschaften!B$4:B$53),\"\"))","v":" "},null,null,null,null,null,null,null,null,null,null,null,null,null,null,null,null,null,null,null,null,null,0,{"$f":"IF(NOT(ISBLANK(F596)),LOOKUP(F596,WKNrListe,Übersicht!E$7:E$77),0)","v":0},""]
[null,null,null,null,null,null,{"$f":"IF(ISERROR(MATCH(F597,WKNrListe_Einzel,0)),\"\",LOOKUP(F597,WKNrListe_Einzel,Übersicht!$B$7:$B$62))","v":""},null,{"$f":"IF(ISBLANK(H597),\" \",IF(LOOKUP(H597,MannschaftsNrListe,Mannschaften!B$4:B$53)<>0,LOOKUP(H597,MannschaftsNrListe,Mannschaften!B$4:B$53),\"\"))","v":" "},null,null,null,null,null,null,null,null,null,null,null,null,null,null,null,null,null,null,null,null,null,0,{"$f":"IF(NOT(ISBLANK(F597)),LOOKUP(F597,WKNrListe,Übersicht!E$7:E$77),0)","v":0},""]
[null,null,null,null,null,null,{"$f":"IF(ISERROR(MATCH(F598,WKNrListe_Einzel,0)),\"\",LOOKUP(F598,WKNrListe_Einzel,Übersicht!$B$7:$B$62))","v":""},null,{"$f":"IF(ISBLANK(H598),\" \",IF(LOOKUP(H598,MannschaftsNrListe,Mannschaften!B$4:B$53)<>0,LOOKUP(H598,MannschaftsNrListe,Mannschaften!B$4:B$53),\"\"))","v":" "},null,null,null,null,null,null,null,null,null,null,null,null,null,null,null,null,null,null,null,null,null,0,{"$f":"IF(NOT(ISBLANK(F598)),LOOKUP(F598,WKNrListe,Übersicht!E$7:E$77),0)","v":0},""]
[null,null,null,null,null,null,{"$f":"IF(ISERROR(MATCH(F599,WKNrListe_Einzel,0)),\"\",LOOKUP(F599,WKNrListe_Einzel,Übersicht!$B$7:$B$62))","v":""},null,{"$f":"IF(ISBLANK(H599),\" \",IF(LOOKUP(H599,MannschaftsNrListe,Mannschaften!B$4:B$53)<>0,LOOKUP(H599,MannschaftsNrListe,Mannschaften!B$4:B$53),\"\"))","v":" "},null,null,null,null,null,null,null,null,null,null,null,null,null,null,null,null,null,null,null,null,null,0,{"$f":"IF(NOT(ISBLANK(F599)),LOOKUP(F599,WKNrListe,Übersicht!E$7:E$77),0)","v":0},""]
[null,null,null,null,null,null,{"$f":"IF(ISERROR(MATCH(F600,WKNrListe_Einzel,0)),\"\",LOOKUP(F600,WKNrListe_Einzel,Übersicht!$B$7:$B$62))","v":""},null,{"$f":"IF(ISBLANK(H600),\" \",IF(LOOKUP(H600,MannschaftsNrListe,Mannschaften!B$4:B$53)<>0,LOOKUP(H600,MannschaftsNrListe,Mannschaften!B$4:B$53),\"\"))","v":" "},null,null,null,null,null,null,null,null,null,null,null,null,null,null,null,null,null,null,null,null,null,0,{"$f":"IF(NOT(ISBLANK(F600)),LOOKUP(F600,WKNrListe,Übersicht!E$7:E$77),0)","v":0},""]
[null,null,null,null,null,null,{"$f":"IF(ISERROR(MATCH(F601,WKNrListe_Einzel,0)),\"\",LOOKUP(F601,WKNrListe_Einzel,Übersicht!$B$7:$B$62))","v":""},null,{"$f":"IF(ISBLANK(H601),\" \",IF(LOOKUP(H601,MannschaftsNrListe,Mannschaften!B$4:B$53)<>0,LOOKUP(H601,MannschaftsNrListe,Mannschaften!B$4:B$53),\"\"))","v":" "},null,null,null,null,null,null,null,null,null,null,null,null,null,null,null,null,null,null,null,null,null,0,{"$f":"IF(NOT(ISBLANK(F601)),LOOKUP(F601,WKNrListe,Übersicht!E$7:E$77),0)","v":0},""]
[null,null,null,null,null,null,{"$f":"IF(ISERROR(MATCH(F602,WKNrListe_Einzel,0)),\"\",LOOKUP(F602,WKNrListe_Einzel,Übersicht!$B$7:$B$62))","v":""},null,{"$f":"IF(ISBLANK(H602),\" \",IF(LOOKUP(H602,MannschaftsNrListe,Mannschaften!B$4:B$53)<>0,LOOKUP(H602,MannschaftsNrListe,Mannschaften!B$4:B$53),\"\"))","v":" "},null,null,null,null,null,null,null,null,null,null,null,null,null,null,null,null,null,null,null,null,null,0,{"$f":"IF(NOT(ISBLANK(F602)),LOOKUP(F602,WKNrListe,Übersicht!E$7:E$77),0)","v":0},""]
[null,null,null,null,null,null,{"$f":"IF(ISERROR(MATCH(F603,WKNrListe_Einzel,0)),\"\",LOOKUP(F603,WKNrListe_Einzel,Übersicht!$B$7:$B$62))","v":""},null,{"$f":"IF(ISBLANK(H603),\" \",IF(LOOKUP(H603,MannschaftsNrListe,Mannschaften!B$4:B$53)<>0,LOOKUP(H603,MannschaftsNrListe,Mannschaften!B$4:B$53),\"\"))","v":" "},null,null,null,null,null,null,null,null,null,null,null,null,null,null,null,null,null,null,null,null,null,0,{"$f":"IF(NOT(ISBLANK(F603)),LOOKUP(F603,WKNrListe,Übersicht!E$7:E$77),0)","v":0},""]
[null,null,null,null,null,null,{"$f":"IF(ISERROR(MATCH(F604,WKNrListe_Einzel,0)),\"\",LOOKUP(F604,WKNrListe_Einzel,Übersicht!$B$7:$B$62))","v":""},null,{"$f":"IF(ISBLANK(H604),\" \",IF(LOOKUP(H604,MannschaftsNrListe,Mannschaften!B$4:B$53)<>0,LOOKUP(H604,MannschaftsNrListe,Mannschaften!B$4:B$53),\"\"))","v":" "},null,null,null,null,null,null,null,null,null,null,null,null,null,null,null,null,null,null,null,null,null,0,{"$f":"IF(NOT(ISBLANK(F604)),LOOKUP(F604,WKNrListe,Übersicht!E$7:E$77),0)","v":0},""]
[null,null,null,null,null,null,{"$f":"IF(ISERROR(MATCH(F605,WKNrListe_Einzel,0)),\"\",LOOKUP(F605,WKNrListe_Einzel,Übersicht!$B$7:$B$62))","v":""},null,{"$f":"IF(ISBLANK(H605),\" \",IF(LOOKUP(H605,MannschaftsNrListe,Mannschaften!B$4:B$53)<>0,LOOKUP(H605,MannschaftsNrListe,Mannschaften!B$4:B$53),\"\"))","v":" "},null,null,null,null,null,null,null,null,null,null,null,null,null,null,null,null,null,null,null,null,null,0,{"$f":"IF(NOT(ISBLANK(F605)),LOOKUP(F605,WKNrListe,Übersicht!E$7:E$77),0)","v":0},""]
[null,null,null,null,null,null,{"$f":"IF(ISERROR(MATCH(F606,WKNrListe_Einzel,0)),\"\",LOOKUP(F606,WKNrListe_Einzel,Übersicht!$B$7:$B$62))","v":""},null,{"$f":"IF(ISBLANK(H606),\" \",IF(LOOKUP(H606,MannschaftsNrListe,Mannschaften!B$4:B$53)<>0,LOOKUP(H606,MannschaftsNrListe,Mannschaften!B$4:B$53),\"\"))","v":" "},null,null,null,null,null,null,null,null,null,null,null,null,null,null,null,null,null,null,null,null,null,0,{"$f":"IF(NOT(ISBLANK(F606)),LOOKUP(F606,WKNrListe,Übersicht!E$7:E$77),0)","v":0},""]
[null,null,null,null,null,null,{"$f":"IF(ISERROR(MATCH(F607,WKNrListe_Einzel,0)),\"\",LOOKUP(F607,WKNrListe_Einzel,Übersicht!$B$7:$B$62))","v":""},null,{"$f":"IF(ISBLANK(H607),\" \",IF(LOOKUP(H607,MannschaftsNrListe,Mannschaften!B$4:B$53)<>0,LOOKUP(H607,MannschaftsNrListe,Mannschaften!B$4:B$53),\"\"))","v":" "},null,null,null,null,null,null,null,null,null,null,null,null,null,null,null,null,null,null,null,null,null,0,{"$f":"IF(NOT(ISBLANK(F607)),LOOKUP(F607,WKNrListe,Übersicht!E$7:E$77),0)","v":0},""]
[null,null,null,null,null,null,{"$f":"IF(ISERROR(MATCH(F608,WKNrListe_Einzel,0)),\"\",LOOKUP(F608,WKNrListe_Einzel,Übersicht!$B$7:$B$62))","v":""},null,{"$f":"IF(ISBLANK(H608),\" \",IF(LOOKUP(H608,MannschaftsNrListe,Mannschaften!B$4:B$53)<>0,LOOKUP(H608,MannschaftsNrListe,Mannschaften!B$4:B$53),\"\"))","v":" "},null,null,null,null,null,null,null,null,null,null,null,null,null,null,null,null,null,null,null,null,null,0,{"$f":"IF(NOT(ISBLANK(F608)),LOOKUP(F608,WKNrListe,Übersicht!E$7:E$77),0)","v":0},""]
[null,null,null,null,null,null,{"$f":"IF(ISERROR(MATCH(F609,WKNrListe_Einzel,0)),\"\",LOOKUP(F609,WKNrListe_Einzel,Übersicht!$B$7:$B$62))","v":""},null,{"$f":"IF(ISBLANK(H609),\" \",IF(LOOKUP(H609,MannschaftsNrListe,Mannschaften!B$4:B$53)<>0,LOOKUP(H609,MannschaftsNrListe,Mannschaften!B$4:B$53),\"\"))","v":" "},null,null,null,null,null,null,null,null,null,null,null,null,null,null,null,null,null,null,null,null,null,0,{"$f":"IF(NOT(ISBLANK(F609)),LOOKUP(F609,WKNrListe,Übersicht!E$7:E$77),0)","v":0},""]
[null,null,null,null,null,null,{"$f":"IF(ISERROR(MATCH(F610,WKNrListe_Einzel,0)),\"\",LOOKUP(F610,WKNrListe_Einzel,Übersicht!$B$7:$B$62))","v":""},null,{"$f":"IF(ISBLANK(H610),\" \",IF(LOOKUP(H610,MannschaftsNrListe,Mannschaften!B$4:B$53)<>0,LOOKUP(H610,MannschaftsNrListe,Mannschaften!B$4:B$53),\"\"))","v":" "},null,null,null,null,null,null,null,null,null,null,null,null,null,null,null,null,null,null,null,null,null,0,{"$f":"IF(NOT(ISBLANK(F610)),LOOKUP(F610,WKNrListe,Übersicht!E$7:E$77),0)","v":0},""]
[null,null,null,null,null,null,{"$f":"IF(ISERROR(MATCH(F611,WKNrListe_Einzel,0)),\"\",LOOKUP(F611,WKNrListe_Einzel,Übersicht!$B$7:$B$62))","v":""},null,{"$f":"IF(ISBLANK(H611),\" \",IF(LOOKUP(H611,MannschaftsNrListe,Mannschaften!B$4:B$53)<>0,LOOKUP(H611,MannschaftsNrListe,Mannschaften!B$4:B$53),\"\"))","v":" "},null,null,null,null,null,null,null,null,null,null,null,null,null,null,null,null,null,null,null,null,null,0,{"$f":"IF(NOT(ISBLANK(F611)),LOOKUP(F611,WKNrListe,Übersicht!E$7:E$77),0)","v":0},""]
[null,null,null,null,null,null,{"$f":"IF(ISERROR(MATCH(F612,WKNrListe_Einzel,0)),\"\",LOOKUP(F612,WKNrListe_Einzel,Übersicht!$B$7:$B$62))","v":""},null,{"$f":"IF(ISBLANK(H612),\" \",IF(LOOKUP(H612,MannschaftsNrListe,Mannschaften!B$4:B$53)<>0,LOOKUP(H612,MannschaftsNrListe,Mannschaften!B$4:B$53),\"\"))","v":" "},null,null,null,null,null,null,null,null,null,null,null,null,null,null,null,null,null,null,null,null,null,0,{"$f":"IF(NOT(ISBLANK(F612)),LOOKUP(F612,WKNrListe,Übersicht!E$7:E$77),0)","v":0},""]
[null,null,null,null,null,null,{"$f":"IF(ISERROR(MATCH(F613,WKNrListe_Einzel,0)),\"\",LOOKUP(F613,WKNrListe_Einzel,Übersicht!$B$7:$B$62))","v":""},null,{"$f":"IF(ISBLANK(H613),\" \",IF(LOOKUP(H613,MannschaftsNrListe,Mannschaften!B$4:B$53)<>0,LOOKUP(H613,MannschaftsNrListe,Mannschaften!B$4:B$53),\"\"))","v":" "},null,null,null,null,null,null,null,null,null,null,null,null,null,null,null,null,null,null,null,null,null,0,{"$f":"IF(NOT(ISBLANK(F613)),LOOKUP(F613,WKNrListe,Übersicht!E$7:E$77),0)","v":0},""]
[null,null,null,null,null,null,{"$f":"IF(ISERROR(MATCH(F614,WKNrListe_Einzel,0)),\"\",LOOKUP(F614,WKNrListe_Einzel,Übersicht!$B$7:$B$62))","v":""},null,{"$f":"IF(ISBLANK(H614),\" \",IF(LOOKUP(H614,MannschaftsNrListe,Mannschaften!B$4:B$53)<>0,LOOKUP(H614,MannschaftsNrListe,Mannschaften!B$4:B$53),\"\"))","v":" "},null,null,null,null,null,null,null,null,null,null,null,null,null,null,null,null,null,null,null,null,null,0,{"$f":"IF(NOT(ISBLANK(F614)),LOOKUP(F614,WKNrListe,Übersicht!E$7:E$77),0)","v":0},""]
[null,null,null,null,null,null,{"$f":"IF(ISERROR(MATCH(F615,WKNrListe_Einzel,0)),\"\",LOOKUP(F615,WKNrListe_Einzel,Übersicht!$B$7:$B$62))","v":""},null,{"$f":"IF(ISBLANK(H615),\" \",IF(LOOKUP(H615,MannschaftsNrListe,Mannschaften!B$4:B$53)<>0,LOOKUP(H615,MannschaftsNrListe,Mannschaften!B$4:B$53),\"\"))","v":" "},null,null,null,null,null,null,null,null,null,null,null,null,null,null,null,null,null,null,null,null,null,0,{"$f":"IF(NOT(ISBLANK(F615)),LOOKUP(F615,WKNrListe,Übersicht!E$7:E$77),0)","v":0},""]
[null,null,null,null,null,null,{"$f":"IF(ISERROR(MATCH(F616,WKNrListe_Einzel,0)),\"\",LOOKUP(F616,WKNrListe_Einzel,Übersicht!$B$7:$B$62))","v":""},null,{"$f":"IF(ISBLANK(H616),\" \",IF(LOOKUP(H616,MannschaftsNrListe,Mannschaften!B$4:B$53)<>0,LOOKUP(H616,MannschaftsNrListe,Mannschaften!B$4:B$53),\"\"))","v":" "},null,null,null,null,null,null,null,null,null,null,null,null,null,null,null,null,null,null,null,null,null,0,{"$f":"IF(NOT(ISBLANK(F616)),LOOKUP(F616,WKNrListe,Übersicht!E$7:E$77),0)","v":0},""]
[null,null,null,null,null,null,{"$f":"IF(ISERROR(MATCH(F617,WKNrListe_Einzel,0)),\"\",LOOKUP(F617,WKNrListe_Einzel,Übersicht!$B$7:$B$62))","v":""},null,{"$f":"IF(ISBLANK(H617),\" \",IF(LOOKUP(H617,MannschaftsNrListe,Mannschaften!B$4:B$53)<>0,LOOKUP(H617,MannschaftsNrListe,Mannschaften!B$4:B$53),\"\"))","v":" "},null,null,null,null,null,null,null,null,null,null,null,null,null,null,null,null,null,null,null,null,null,0,{"$f":"IF(NOT(ISBLANK(F617)),LOOKUP(F617,WKNrListe,Übersicht!E$7:E$77),0)","v":0},""]
[null,null,null,null,null,null,{"$f":"IF(ISERROR(MATCH(F618,WKNrListe_Einzel,0)),\"\",LOOKUP(F618,WKNrListe_Einzel,Übersicht!$B$7:$B$62))","v":""},null,{"$f":"IF(ISBLANK(H618),\" \",IF(LOOKUP(H618,MannschaftsNrListe,Mannschaften!B$4:B$53)<>0,LOOKUP(H618,MannschaftsNrListe,Mannschaften!B$4:B$53),\"\"))","v":" "},null,null,null,null,null,null,null,null,null,null,null,null,null,null,null,null,null,null,null,null,null,0,{"$f":"IF(NOT(ISBLANK(F618)),LOOKUP(F618,WKNrListe,Übersicht!E$7:E$77),0)","v":0},""]
[null,null,null,null,null,null,{"$f":"IF(ISERROR(MATCH(F619,WKNrListe_Einzel,0)),\"\",LOOKUP(F619,WKNrListe_Einzel,Übersicht!$B$7:$B$62))","v":""},null,{"$f":"IF(ISBLANK(H619),\" \",IF(LOOKUP(H619,MannschaftsNrListe,Mannschaften!B$4:B$53)<>0,LOOKUP(H619,MannschaftsNrListe,Mannschaften!B$4:B$53),\"\"))","v":" "},null,null,null,null,null,null,null,null,null,null,null,null,null,null,null,null,null,null,null,null,null,0,{"$f":"IF(NOT(ISBLANK(F619)),LOOKUP(F619,WKNrListe,Übersicht!E$7:E$77),0)","v":0},""]
[null,null,null,null,null,null,{"$f":"IF(ISERROR(MATCH(F620,WKNrListe_Einzel,0)),\"\",LOOKUP(F620,WKNrListe_Einzel,Übersicht!$B$7:$B$62))","v":""},null,{"$f":"IF(ISBLANK(H620),\" \",IF(LOOKUP(H620,MannschaftsNrListe,Mannschaften!B$4:B$53)<>0,LOOKUP(H620,MannschaftsNrListe,Mannschaften!B$4:B$53),\"\"))","v":" "},null,null,null,null,null,null,null,null,null,null,null,null,null,null,null,null,null,null,null,null,null,0,{"$f":"IF(NOT(ISBLANK(F620)),LOOKUP(F620,WKNrListe,Übersicht!E$7:E$77),0)","v":0},""]
[null,null,null,null,null,null,{"$f":"IF(ISERROR(MATCH(F621,WKNrListe_Einzel,0)),\"\",LOOKUP(F621,WKNrListe_Einzel,Übersicht!$B$7:$B$62))","v":""},null,{"$f":"IF(ISBLANK(H621),\" \",IF(LOOKUP(H621,MannschaftsNrListe,Mannschaften!B$4:B$53)<>0,LOOKUP(H621,MannschaftsNrListe,Mannschaften!B$4:B$53),\"\"))","v":" "},null,null,null,null,null,null,null,null,null,null,null,null,null,null,null,null,null,null,null,null,null,0,{"$f":"IF(NOT(ISBLANK(F621)),LOOKUP(F621,WKNrListe,Übersicht!E$7:E$77),0)","v":0},""]
[null,null,null,null,null,null,{"$f":"IF(ISERROR(MATCH(F622,WKNrListe_Einzel,0)),\"\",LOOKUP(F622,WKNrListe_Einzel,Übersicht!$B$7:$B$62))","v":""},null,{"$f":"IF(ISBLANK(H622),\" \",IF(LOOKUP(H622,MannschaftsNrListe,Mannschaften!B$4:B$53)<>0,LOOKUP(H622,MannschaftsNrListe,Mannschaften!B$4:B$53),\"\"))","v":" "},null,null,null,null,null,null,null,null,null,null,null,null,null,null,null,null,null,null,null,null,null,0,{"$f":"IF(NOT(ISBLANK(F622)),LOOKUP(F622,WKNrListe,Übersicht!E$7:E$77),0)","v":0},""]
[null,null,null,null,null,null,{"$f":"IF(ISERROR(MATCH(F623,WKNrListe_Einzel,0)),\"\",LOOKUP(F623,WKNrListe_Einzel,Übersicht!$B$7:$B$62))","v":""},null,{"$f":"IF(ISBLANK(H623),\" \",IF(LOOKUP(H623,MannschaftsNrListe,Mannschaften!B$4:B$53)<>0,LOOKUP(H623,MannschaftsNrListe,Mannschaften!B$4:B$53),\"\"))","v":" "},null,null,null,null,null,null,null,null,null,null,null,null,null,null,null,null,null,null,null,null,null,0,{"$f":"IF(NOT(ISBLANK(F623)),LOOKUP(F623,WKNrListe,Übersicht!E$7:E$77),0)","v":0},""]
[null,null,null,null,null,null,{"$f":"IF(ISERROR(MATCH(F624,WKNrListe_Einzel,0)),\"\",LOOKUP(F624,WKNrListe_Einzel,Übersicht!$B$7:$B$62))","v":""},null,{"$f":"IF(ISBLANK(H624),\" \",IF(LOOKUP(H624,MannschaftsNrListe,Mannschaften!B$4:B$53)<>0,LOOKUP(H624,MannschaftsNrListe,Mannschaften!B$4:B$53),\"\"))","v":" "},null,null,null,null,null,null,null,null,null,null,null,null,null,null,null,null,null,null,null,null,null,{"$f":"COUNTIF(J624:AD624,\">''\")","v":0},{"$f":"IF(NOT(ISBLANK(F624)),LOOKUP(F624,WKNrListe,Übersicht!E$7:E$77),0)","v":0},""]
[null,null,null,null,null,null,{"$f":"IF(ISERROR(MATCH(F625,WKNrListe_Einzel,0)),\"\",LOOKUP(F625,WKNrListe_Einzel,Übersicht!$B$7:$B$62))","v":""},null,{"$f":"IF(ISBLANK(H625),\" \",IF(LOOKUP(H625,MannschaftsNrListe,Mannschaften!B$4:B$53)<>0,LOOKUP(H625,MannschaftsNrListe,Mannschaften!B$4:B$53),\"\"))","v":" "},null,null,null,null,null,null,null,null,null,null,null,null,null,null,null,null,null,null,null,null,null,{"$f":"COUNTIF(J625:AD625,\">''\")","v":0},{"$f":"IF(NOT(ISBLANK(F625)),LOOKUP(F625,WKNrListe,Übersicht!E$7:E$77),0)","v":0},""]
[null,null,null,null,null,null,{"$f":"IF(ISERROR(MATCH(F626,WKNrListe_Einzel,0)),\"\",LOOKUP(F626,WKNrListe_Einzel,Übersicht!$B$7:$B$62))","v":""},null,{"$f":"IF(ISBLANK(H626),\" \",IF(LOOKUP(H626,MannschaftsNrListe,Mannschaften!B$4:B$53)<>0,LOOKUP(H626,MannschaftsNrListe,Mannschaften!B$4:B$53),\"\"))","v":" "},null,null,null,null,null,null,null,null,null,null,null,null,null,null,null,null,null,null,null,null,null,0,{"$f":"IF(NOT(ISBLANK(F626)),LOOKUP(F626,WKNrListe,Übersicht!E$7:E$77),0)","v":0},""]
[null,null,null,null,null,null,{"$f":"IF(ISERROR(MATCH(F627,WKNrListe_Einzel,0)),\"\",LOOKUP(F627,WKNrListe_Einzel,Übersicht!$B$7:$B$62))","v":""},null,{"$f":"IF(ISBLANK(H627),\" \",IF(LOOKUP(H627,MannschaftsNrListe,Mannschaften!B$4:B$53)<>0,LOOKUP(H627,MannschaftsNrListe,Mannschaften!B$4:B$53),\"\"))","v":" "},null,null,null,null,null,null,null,null,null,null,null,null,null,null,null,null,null,null,null,null,null,0,{"$f":"IF(NOT(ISBLANK(F627)),LOOKUP(F627,WKNrListe,Übersicht!E$7:E$77),0)","v":0},""]
[null,null,null,null,null,null,{"$f":"IF(ISERROR(MATCH(F628,WKNrListe_Einzel,0)),\"\",LOOKUP(F628,WKNrListe_Einzel,Übersicht!$B$7:$B$62))","v":""},null,{"$f":"IF(ISBLANK(H628),\" \",IF(LOOKUP(H628,MannschaftsNrListe,Mannschaften!B$4:B$53)<>0,LOOKUP(H628,MannschaftsNrListe,Mannschaften!B$4:B$53),\"\"))","v":" "},null,null,null,null,null,null,null,null,null,null,null,null,null,null,null,null,null,null,null,null,null,0,{"$f":"IF(NOT(ISBLANK(F628)),LOOKUP(F628,WKNrListe,Übersicht!E$7:E$77),0)","v":0},""]
[null,null,null,null,null,null,{"$f":"IF(ISERROR(MATCH(F629,WKNrListe_Einzel,0)),\"\",LOOKUP(F629,WKNrListe_Einzel,Übersicht!$B$7:$B$62))","v":""},null,{"$f":"IF(ISBLANK(H629),\" \",IF(LOOKUP(H629,MannschaftsNrListe,Mannschaften!B$4:B$53)<>0,LOOKUP(H629,MannschaftsNrListe,Mannschaften!B$4:B$53),\"\"))","v":" "},null,null,null,null,null,null,null,null,null,null,null,null,null,null,null,null,null,null,null,null,null,0,{"$f":"IF(NOT(ISBLANK(F629)),LOOKUP(F629,WKNrListe,Übersicht!E$7:E$77),0)","v":0},""]
[null,null,null,null,null,null,{"$f":"IF(ISERROR(MATCH(F630,WKNrListe_Einzel,0)),\"\",LOOKUP(F630,WKNrListe_Einzel,Übersicht!$B$7:$B$62))","v":""},null,{"$f":"IF(ISBLANK(H630),\" \",IF(LOOKUP(H630,MannschaftsNrListe,Mannschaften!B$4:B$53)<>0,LOOKUP(H630,MannschaftsNrListe,Mannschaften!B$4:B$53),\"\"))","v":" "},null,null,null,null,null,null,null,null,null,null,null,null,null,null,null,null,null,null,null,null,null,0,{"$f":"IF(NOT(ISBLANK(F630)),LOOKUP(F630,WKNrListe,Übersicht!E$7:E$77),0)","v":0},""]
[null,null,null,null,null,null,{"$f":"IF(ISERROR(MATCH(F631,WKNrListe_Einzel,0)),\"\",LOOKUP(F631,WKNrListe_Einzel,Übersicht!$B$7:$B$62))","v":""},null,{"$f":"IF(ISBLANK(H631),\" \",IF(LOOKUP(H631,MannschaftsNrListe,Mannschaften!B$4:B$53)<>0,LOOKUP(H631,MannschaftsNrListe,Mannschaften!B$4:B$53),\"\"))","v":" "},null,null,null,null,null,null,null,null,null,null,null,null,null,null,null,null,null,null,null,null,null,0,{"$f":"IF(NOT(ISBLANK(F631)),LOOKUP(F631,WKNrListe,Übersicht!E$7:E$77),0)","v":0},""]
[null,null,null,null,null,null,{"$f":"IF(ISERROR(MATCH(F632,WKNrListe_Einzel,0)),\"\",LOOKUP(F632,WKNrListe_Einzel,Übersicht!$B$7:$B$62))","v":""},null,{"$f":"IF(ISBLANK(H632),\" \",IF(LOOKUP(H632,MannschaftsNrListe,Mannschaften!B$4:B$53)<>0,LOOKUP(H632,MannschaftsNrListe,Mannschaften!B$4:B$53),\"\"))","v":" "},null,null,null,null,null,null,null,null,null,null,null,null,null,null,null,null,null,null,null,null,null,0,{"$f":"IF(NOT(ISBLANK(F632)),LOOKUP(F632,WKNrListe,Übersicht!E$7:E$77),0)","v":0},""]
[null,null,null,null,null,null,{"$f":"IF(ISERROR(MATCH(F633,WKNrListe_Einzel,0)),\"\",LOOKUP(F633,WKNrListe_Einzel,Übersicht!$B$7:$B$62))","v":""},null,{"$f":"IF(ISBLANK(H633),\" \",IF(LOOKUP(H633,MannschaftsNrListe,Mannschaften!B$4:B$53)<>0,LOOKUP(H633,MannschaftsNrListe,Mannschaften!B$4:B$53),\"\"))","v":" "},null,null,null,null,null,null,null,null,null,null,null,null,null,null,null,null,null,null,null,null,null,0,{"$f":"IF(NOT(ISBLANK(F633)),LOOKUP(F633,WKNrListe,Übersicht!E$7:E$77),0)","v":0},""]
[null,null,null,null,null,null,{"$f":"IF(ISERROR(MATCH(F634,WKNrListe_Einzel,0)),\"\",LOOKUP(F634,WKNrListe_Einzel,Übersicht!$B$7:$B$62))","v":""},null,{"$f":"IF(ISBLANK(H634),\" \",IF(LOOKUP(H634,MannschaftsNrListe,Mannschaften!B$4:B$53)<>0,LOOKUP(H634,MannschaftsNrListe,Mannschaften!B$4:B$53),\"\"))","v":" "},null,null,null,null,null,null,null,null,null,null,null,null,null,null,null,null,null,null,null,null,null,0,{"$f":"IF(NOT(ISBLANK(F634)),LOOKUP(F634,WKNrListe,Übersicht!E$7:E$77),0)","v":0},""]
[null,null,null,null,null,null,{"$f":"IF(ISERROR(MATCH(F635,WKNrListe_Einzel,0)),\"\",LOOKUP(F635,WKNrListe_Einzel,Übersicht!$B$7:$B$62))","v":""},null,{"$f":"IF(ISBLANK(H635),\" \",IF(LOOKUP(H635,MannschaftsNrListe,Mannschaften!B$4:B$53)<>0,LOOKUP(H635,MannschaftsNrListe,Mannschaften!B$4:B$53),\"\"))","v":" "},null,null,null,null,null,null,null,null,null,null,null,null,null,null,null,null,null,null,null,null,null,0,{"$f":"IF(NOT(ISBLANK(F635)),LOOKUP(F635,WKNrListe,Übersicht!E$7:E$77),0)","v":0},""]
[null,null,null,null,null,null,{"$f":"IF(ISERROR(MATCH(F636,WKNrListe_Einzel,0)),\"\",LOOKUP(F636,WKNrListe_Einzel,Übersicht!$B$7:$B$62))","v":""},null,{"$f":"IF(ISBLANK(H636),\" \",IF(LOOKUP(H636,MannschaftsNrListe,Mannschaften!B$4:B$53)<>0,LOOKUP(H636,MannschaftsNrListe,Mannschaften!B$4:B$53),\"\"))","v":" "},null,null,null,null,null,null,null,null,null,null,null,null,null,null,null,null,null,null,null,null,null,0,{"$f":"IF(NOT(ISBLANK(F636)),LOOKUP(F636,WKNrListe,Übersicht!E$7:E$77),0)","v":0},""]
[null,null,null,null,null,null,{"$f":"IF(ISERROR(MATCH(F637,WKNrListe_Einzel,0)),\"\",LOOKUP(F637,WKNrListe_Einzel,Übersicht!$B$7:$B$62))","v":""},null,{"$f":"IF(ISBLANK(H637),\" \",IF(LOOKUP(H637,MannschaftsNrListe,Mannschaften!B$4:B$53)<>0,LOOKUP(H637,MannschaftsNrListe,Mannschaften!B$4:B$53),\"\"))","v":" "},null,null,null,null,null,null,null,null,null,null,null,null,null,null,null,null,null,null,null,null,null,0,{"$f":"IF(NOT(ISBLANK(F637)),LOOKUP(F637,WKNrListe,Übersicht!E$7:E$77),0)","v":0},""]
[null,null,null,null,null,null,{"$f":"IF(ISERROR(MATCH(F638,WKNrListe_Einzel,0)),\"\",LOOKUP(F638,WKNrListe_Einzel,Übersicht!$B$7:$B$62))","v":""},null,{"$f":"IF(ISBLANK(H638),\" \",IF(LOOKUP(H638,MannschaftsNrListe,Mannschaften!B$4:B$53)<>0,LOOKUP(H638,MannschaftsNrListe,Mannschaften!B$4:B$53),\"\"))","v":" "},null,null,null,null,null,null,null,null,null,null,null,null,null,null,null,null,null,null,null,null,null,0,{"$f":"IF(NOT(ISBLANK(F638)),LOOKUP(F638,WKNrListe,Übersicht!E$7:E$77),0)","v":0},""]
[null,null,null,null,null,null,{"$f":"IF(ISERROR(MATCH(F639,WKNrListe_Einzel,0)),\"\",LOOKUP(F639,WKNrListe_Einzel,Übersicht!$B$7:$B$62))","v":""},null,{"$f":"IF(ISBLANK(H639),\" \",IF(LOOKUP(H639,MannschaftsNrListe,Mannschaften!B$4:B$53)<>0,LOOKUP(H639,MannschaftsNrListe,Mannschaften!B$4:B$53),\"\"))","v":" "},null,null,null,null,null,null,null,null,null,null,null,null,null,null,null,null,null,null,null,null,null,0,{"$f":"IF(NOT(ISBLANK(F639)),LOOKUP(F639,WKNrListe,Übersicht!E$7:E$77),0)","v":0},""]
[null,null,null,null,null,null,{"$f":"IF(ISERROR(MATCH(F640,WKNrListe_Einzel,0)),\"\",LOOKUP(F640,WKNrListe_Einzel,Übersicht!$B$7:$B$62))","v":""},null,{"$f":"IF(ISBLANK(H640),\" \",IF(LOOKUP(H640,MannschaftsNrListe,Mannschaften!B$4:B$53)<>0,LOOKUP(H640,MannschaftsNrListe,Mannschaften!B$4:B$53),\"\"))","v":" "},null,null,null,null,null,null,null,null,null,null,null,null,null,null,null,null,null,null,null,null,null,0,{"$f":"IF(NOT(ISBLANK(F640)),LOOKUP(F640,WKNrListe,Übersicht!E$7:E$77),0)","v":0},""]
[null,null,null,null,null,null,{"$f":"IF(ISERROR(MATCH(F641,WKNrListe_Einzel,0)),\"\",LOOKUP(F641,WKNrListe_Einzel,Übersicht!$B$7:$B$62))","v":""},null,{"$f":"IF(ISBLANK(H641),\" \",IF(LOOKUP(H641,MannschaftsNrListe,Mannschaften!B$4:B$53)<>0,LOOKUP(H641,MannschaftsNrListe,Mannschaften!B$4:B$53),\"\"))","v":" "},null,null,null,null,null,null,null,null,null,null,null,null,null,null,null,null,null,null,null,null,null,0,{"$f":"IF(NOT(ISBLANK(F641)),LOOKUP(F641,WKNrListe,Übersicht!E$7:E$77),0)","v":0},""]
[null,null,null,null,null,null,{"$f":"IF(ISERROR(MATCH(F642,WKNrListe_Einzel,0)),\"\",LOOKUP(F642,WKNrListe_Einzel,Übersicht!$B$7:$B$62))","v":""},null,{"$f":"IF(ISBLANK(H642),\" \",IF(LOOKUP(H642,MannschaftsNrListe,Mannschaften!B$4:B$53)<>0,LOOKUP(H642,MannschaftsNrListe,Mannschaften!B$4:B$53),\"\"))","v":" "},null,null,null,null,null,null,null,null,null,null,null,null,null,null,null,null,null,null,null,null,null,0,{"$f":"IF(NOT(ISBLANK(F642)),LOOKUP(F642,WKNrListe,Übersicht!E$7:E$77),0)","v":0},""]
[null,null,null,null,null,null,{"$f":"IF(ISERROR(MATCH(F643,WKNrListe_Einzel,0)),\"\",LOOKUP(F643,WKNrListe_Einzel,Übersicht!$B$7:$B$62))","v":""},null,{"$f":"IF(ISBLANK(H643),\" \",IF(LOOKUP(H643,MannschaftsNrListe,Mannschaften!B$4:B$53)<>0,LOOKUP(H643,MannschaftsNrListe,Mannschaften!B$4:B$53),\"\"))","v":" "},null,null,null,null,null,null,null,null,null,null,null,null,null,null,null,null,null,null,null,null,null,0,{"$f":"IF(NOT(ISBLANK(F643)),LOOKUP(F643,WKNrListe,Übersicht!E$7:E$77),0)","v":0},""]
[null,null,null,null,null,null,{"$f":"IF(ISERROR(MATCH(F644,WKNrListe_Einzel,0)),\"\",LOOKUP(F644,WKNrListe_Einzel,Übersicht!$B$7:$B$62))","v":""},null,{"$f":"IF(ISBLANK(H644),\" \",IF(LOOKUP(H644,MannschaftsNrListe,Mannschaften!B$4:B$53)<>0,LOOKUP(H644,MannschaftsNrListe,Mannschaften!B$4:B$53),\"\"))","v":" "},null,null,null,null,null,null,null,null,null,null,null,null,null,null,null,null,null,null,null,null,null,0,{"$f":"IF(NOT(ISBLANK(F644)),LOOKUP(F644,WKNrListe,Übersicht!E$7:E$77),0)","v":0},""]
[null,null,null,null,null,null,{"$f":"IF(ISERROR(MATCH(F645,WKNrListe_Einzel,0)),\"\",LOOKUP(F645,WKNrListe_Einzel,Übersicht!$B$7:$B$62))","v":""},null,{"$f":"IF(ISBLANK(H645),\" \",IF(LOOKUP(H645,MannschaftsNrListe,Mannschaften!B$4:B$53)<>0,LOOKUP(H645,MannschaftsNrListe,Mannschaften!B$4:B$53),\"\"))","v":" "},null,null,null,null,null,null,null,null,null,null,null,null,null,null,null,null,null,null,null,null,null,0,{"$f":"IF(NOT(ISBLANK(F645)),LOOKUP(F645,WKNrListe,Übersicht!E$7:E$77),0)","v":0},{"$f":"IF(\n AND(\n  OR(ISTEXT(A645), ISTEXT(B645), NOT(ISBLANK(E645)), NOT(ISBLANK(F645)), NOT(ISBLANK(H645))),\n  OR(ISBLANK(A645),ISBLANK(B645),AND(ISBLANK(E645),ISBLANK(F645),ISBLANK(H645)))\n ),\n \"unvollständig\",\n IF(\n  AND(\n   NOT(\n    ISBLANK(H645)\n    ),\n   NOT(ISNUMBER(I645))\n  ),\n  \"Seite Mannschaften ausfüllen!\",\n  IF(AF645>AE645,\"zu wenig Disziplinen gewählt\",IF(AE645>AF645,\"zu viele Disziplinen gewählt\",\"\"))\n )\n)","v":""}]
[null,null,null,null,null,null,{"$f":"IF(ISERROR(MATCH(F646,WKNrListe_Einzel,0)),\"\",LOOKUP(F646,WKNrListe_Einzel,Übersicht!$B$7:$B$62))","v":""},null,{"$f":"IF(ISBLANK(H646),\" \",IF(LOOKUP(H646,MannschaftsNrListe,Mannschaften!B$4:B$53)<>0,LOOKUP(H646,MannschaftsNrListe,Mannschaften!B$4:B$53),\"\"))","v":" "},null,null,null,null,null,null,null,null,null,null,null,null,null,null,null,null,null,null,null,null,null,0,{"$f":"IF(NOT(ISBLANK(F646)),LOOKUP(F646,WKNrListe,Übersicht!E$7:E$77),0)","v":0},""]
[null,null,null,null,null,null,{"$f":"IF(ISERROR(MATCH(F647,WKNrListe_Einzel,0)),\"\",LOOKUP(F647,WKNrListe_Einzel,Übersicht!$B$7:$B$62))","v":""},null,{"$f":"IF(ISBLANK(H647),\" \",IF(LOOKUP(H647,MannschaftsNrListe,Mannschaften!B$4:B$53)<>0,LOOKUP(H647,MannschaftsNrListe,Mannschaften!B$4:B$53),\"\"))","v":" "},null,null,null,null,null,null,null,null,null,null,null,null,null,null,null,null,null,null,null,null,null,0,{"$f":"IF(NOT(ISBLANK(F647)),LOOKUP(F647,WKNrListe,Übersicht!E$7:E$77),0)","v":0},""]
[null,null,null,null,null,null,{"$f":"IF(ISERROR(MATCH(F648,WKNrListe_Einzel,0)),\"\",LOOKUP(F648,WKNrListe_Einzel,Übersicht!$B$7:$B$62))","v":""},null,{"$f":"IF(ISBLANK(H648),\" \",IF(LOOKUP(H648,MannschaftsNrListe,Mannschaften!B$4:B$53)<>0,LOOKUP(H648,MannschaftsNrListe,Mannschaften!B$4:B$53),\"\"))","v":" "},null,null,null,null,null,null,null,null,null,null,null,null,null,null,null,null,null,null,null,null,null,0,{"$f":"IF(NOT(ISBLANK(F648)),LOOKUP(F648,WKNrListe,Übersicht!E$7:E$77),0)","v":0},""]
[null,null,null,null,null,null,{"$f":"IF(ISERROR(MATCH(F649,WKNrListe_Einzel,0)),\"\",LOOKUP(F649,WKNrListe_Einzel,Übersicht!$B$7:$B$62))","v":""},null,{"$f":"IF(ISBLANK(H649),\" \",IF(LOOKUP(H649,MannschaftsNrListe,Mannschaften!B$4:B$53)<>0,LOOKUP(H649,MannschaftsNrListe,Mannschaften!B$4:B$53),\"\"))","v":" "},null,null,null,null,null,null,null,null,null,null,null,null,null,null,null,null,null,null,null,null,null,0,{"$f":"IF(NOT(ISBLANK(F649)),LOOKUP(F649,WKNrListe,Übersicht!E$7:E$77),0)","v":0},""]
[null,null,null,null,null,null,{"$f":"IF(ISERROR(MATCH(F650,WKNrListe_Einzel,0)),\"\",LOOKUP(F650,WKNrListe_Einzel,Übersicht!$B$7:$B$62))","v":""},null,{"$f":"IF(ISBLANK(H650),\" \",IF(LOOKUP(H650,MannschaftsNrListe,Mannschaften!B$4:B$53)<>0,LOOKUP(H650,MannschaftsNrListe,Mannschaften!B$4:B$53),\"\"))","v":" "},null,null,null,null,null,null,null,null,null,null,null,null,null,null,null,null,null,null,null,null,null,0,{"$f":"IF(NOT(ISBLANK(F650)),LOOKUP(F650,WKNrListe,Übersicht!E$7:E$77),0)","v":0},""]
[null,null,null,null,null,null,{"$f":"IF(ISERROR(MATCH(F651,WKNrListe_Einzel,0)),\"\",LOOKUP(F651,WKNrListe_Einzel,Übersicht!$B$7:$B$62))","v":""},null,{"$f":"IF(ISBLANK(H651),\" \",IF(LOOKUP(H651,MannschaftsNrListe,Mannschaften!B$4:B$53)<>0,LOOKUP(H651,MannschaftsNrListe,Mannschaften!B$4:B$53),\"\"))","v":" "},null,null,null,null,null,null,null,null,null,null,null,null,null,null,null,null,null,null,null,null,null,0,{"$f":"IF(NOT(ISBLANK(F651)),LOOKUP(F651,WKNrListe,Übersicht!E$7:E$77),0)","v":0},""]
[null,null,null,null,null,null,{"$f":"IF(ISERROR(MATCH(F652,WKNrListe_Einzel,0)),\"\",LOOKUP(F652,WKNrListe_Einzel,Übersicht!$B$7:$B$62))","v":""},null,{"$f":"IF(ISBLANK(H652),\" \",IF(LOOKUP(H652,MannschaftsNrListe,Mannschaften!B$4:B$53)<>0,LOOKUP(H652,MannschaftsNrListe,Mannschaften!B$4:B$53),\"\"))","v":" "},null,null,null,null,null,null,null,null,null,null,null,null,null,null,null,null,null,null,null,null,null,0,{"$f":"IF(NOT(ISBLANK(F652)),LOOKUP(F652,WKNrListe,Übersicht!E$7:E$77),0)","v":0},""]
[null,null,null,null,null,null,{"$f":"IF(ISERROR(MATCH(F653,WKNrListe_Einzel,0)),\"\",LOOKUP(F653,WKNrListe_Einzel,Übersicht!$B$7:$B$62))","v":""},null,{"$f":"IF(ISBLANK(H653),\" \",IF(LOOKUP(H653,MannschaftsNrListe,Mannschaften!B$4:B$53)<>0,LOOKUP(H653,MannschaftsNrListe,Mannschaften!B$4:B$53),\"\"))","v":" "},null,null,null,null,null,null,null,null,null,null,null,null,null,null,null,null,null,null,null,null,null,0,{"$f":"IF(NOT(ISBLANK(F653)),LOOKUP(F653,WKNrListe,Übersicht!E$7:E$77),0)","v":0},""]
[null,null,null,null,null,null,{"$f":"IF(ISERROR(MATCH(F654,WKNrListe_Einzel,0)),\"\",LOOKUP(F654,WKNrListe_Einzel,Übersicht!$B$7:$B$62))","v":""},null,{"$f":"IF(ISBLANK(H654),\" \",IF(LOOKUP(H654,MannschaftsNrListe,Mannschaften!B$4:B$53)<>0,LOOKUP(H654,MannschaftsNrListe,Mannschaften!B$4:B$53),\"\"))","v":" "},null,null,null,null,null,null,null,null,null,null,null,null,null,null,null,null,null,null,null,null,null,0,{"$f":"IF(NOT(ISBLANK(F654)),LOOKUP(F654,WKNrListe,Übersicht!E$7:E$77),0)","v":0},""]
[null,null,null,null,null,null,{"$f":"IF(ISERROR(MATCH(F655,WKNrListe_Einzel,0)),\"\",LOOKUP(F655,WKNrListe_Einzel,Übersicht!$B$7:$B$62))","v":""},null,{"$f":"IF(ISBLANK(H655),\" \",IF(LOOKUP(H655,MannschaftsNrListe,Mannschaften!B$4:B$53)<>0,LOOKUP(H655,MannschaftsNrListe,Mannschaften!B$4:B$53),\"\"))","v":" "},null,null,null,null,null,null,null,null,null,null,null,null,null,null,null,null,null,null,null,null,null,0,{"$f":"IF(NOT(ISBLANK(F655)),LOOKUP(F655,WKNrListe,Übersicht!E$7:E$77),0)","v":0},""]
[null,null,null,null,null,null,{"$f":"IF(ISERROR(MATCH(F656,WKNrListe_Einzel,0)),\"\",LOOKUP(F656,WKNrListe_Einzel,Übersicht!$B$7:$B$62))","v":""},null,{"$f":"IF(ISBLANK(H656),\" \",IF(LOOKUP(H656,MannschaftsNrListe,Mannschaften!B$4:B$53)<>0,LOOKUP(H656,MannschaftsNrListe,Mannschaften!B$4:B$53),\"\"))","v":" "},null,null,null,null,null,null,null,null,null,null,null,null,null,null,null,null,null,null,null,null,null,0,{"$f":"IF(NOT(ISBLANK(F656)),LOOKUP(F656,WKNrListe,Übersicht!E$7:E$77),0)","v":0},""]
[null,null,null,null,null,null,{"$f":"IF(ISERROR(MATCH(F657,WKNrListe_Einzel,0)),\"\",LOOKUP(F657,WKNrListe_Einzel,Übersicht!$B$7:$B$62))","v":""},null,{"$f":"IF(ISBLANK(H657),\" \",IF(LOOKUP(H657,MannschaftsNrListe,Mannschaften!B$4:B$53)<>0,LOOKUP(H657,MannschaftsNrListe,Mannschaften!B$4:B$53),\"\"))","v":" "},null,null,null,null,null,null,null,null,null,null,null,null,null,null,null,null,null,null,null,null,null,0,{"$f":"IF(NOT(ISBLANK(F657)),LOOKUP(F657,WKNrListe,Übersicht!E$7:E$77),0)","v":0},""]
[null,null,null,null,null,null,{"$f":"IF(ISERROR(MATCH(F658,WKNrListe_Einzel,0)),\"\",LOOKUP(F658,WKNrListe_Einzel,Übersicht!$B$7:$B$62))","v":""},null,{"$f":"IF(ISBLANK(H658),\" \",IF(LOOKUP(H658,MannschaftsNrListe,Mannschaften!B$4:B$53)<>0,LOOKUP(H658,MannschaftsNrListe,Mannschaften!B$4:B$53),\"\"))","v":" "},null,null,null,null,null,null,null,null,null,null,null,null,null,null,null,null,null,null,null,null,null,0,{"$f":"IF(NOT(ISBLANK(F658)),LOOKUP(F658,WKNrListe,Übersicht!E$7:E$77),0)","v":0},""]
[null,null,null,null,null,null,{"$f":"IF(ISERROR(MATCH(F659,WKNrListe_Einzel,0)),\"\",LOOKUP(F659,WKNrListe_Einzel,Übersicht!$B$7:$B$62))","v":""},null,{"$f":"IF(ISBLANK(H659),\" \",IF(LOOKUP(H659,MannschaftsNrListe,Mannschaften!B$4:B$53)<>0,LOOKUP(H659,MannschaftsNrListe,Mannschaften!B$4:B$53),\"\"))","v":" "},null,null,null,null,null,null,null,null,null,null,null,null,null,null,null,null,null,null,null,null,null,0,{"$f":"IF(NOT(ISBLANK(F659)),LOOKUP(F659,WKNrListe,Übersicht!E$7:E$77),0)","v":0},""]
[null,null,null,null,null,null,{"$f":"IF(ISERROR(MATCH(F660,WKNrListe_Einzel,0)),\"\",LOOKUP(F660,WKNrListe_Einzel,Übersicht!$B$7:$B$62))","v":""},null,{"$f":"IF(ISBLANK(H660),\" \",IF(LOOKUP(H660,MannschaftsNrListe,Mannschaften!B$4:B$53)<>0,LOOKUP(H660,MannschaftsNrListe,Mannschaften!B$4:B$53),\"\"))","v":" "},null,null,null,null,null,null,null,null,null,null,null,null,null,null,null,null,null,null,null,null,null,0,{"$f":"IF(NOT(ISBLANK(F660)),LOOKUP(F660,WKNrListe,Übersicht!E$7:E$77),0)","v":0},""]
[null,null,null,null,null,null,{"$f":"IF(ISERROR(MATCH(F661,WKNrListe_Einzel,0)),\"\",LOOKUP(F661,WKNrListe_Einzel,Übersicht!$B$7:$B$62))","v":""},null,{"$f":"IF(ISBLANK(H661),\" \",IF(LOOKUP(H661,MannschaftsNrListe,Mannschaften!B$4:B$53)<>0,LOOKUP(H661,MannschaftsNrListe,Mannschaften!B$4:B$53),\"\"))","v":" "},null,null,null,null,null,null,null,null,null,null,null,null,null,null,null,null,null,null,null,null,null,0,{"$f":"IF(NOT(ISBLANK(F661)),LOOKUP(F661,WKNrListe,Übersicht!E$7:E$77),0)","v":0},""]
[null,null,null,null,null,null,{"$f":"IF(ISERROR(MATCH(F662,WKNrListe_Einzel,0)),\"\",LOOKUP(F662,WKNrListe_Einzel,Übersicht!$B$7:$B$62))","v":""},null,{"$f":"IF(ISBLANK(H662),\" \",IF(LOOKUP(H662,MannschaftsNrListe,Mannschaften!B$4:B$53)<>0,LOOKUP(H662,MannschaftsNrListe,Mannschaften!B$4:B$53),\"\"))","v":" "},null,null,null,null,null,null,null,null,null,null,null,null,null,null,null,null,null,null,null,null,null,0,{"$f":"IF(NOT(ISBLANK(F662)),LOOKUP(F662,WKNrListe,Übersicht!E$7:E$77),0)","v":0},""]
[null,null,null,null,null,null,{"$f":"IF(ISERROR(MATCH(F663,WKNrListe_Einzel,0)),\"\",LOOKUP(F663,WKNrListe_Einzel,Übersicht!$B$7:$B$62))","v":""},null,{"$f":"IF(ISBLANK(H663),\" \",IF(LOOKUP(H663,MannschaftsNrListe,Mannschaften!B$4:B$53)<>0,LOOKUP(H663,MannschaftsNrListe,Mannschaften!B$4:B$53),\"\"))","v":" "},null,null,null,null,null,null,null,null,null,null,null,null,null,null,null,null,null,null,null,null,null,0,{"$f":"IF(NOT(ISBLANK(F663)),LOOKUP(F663,WKNrListe,Übersicht!E$7:E$77),0)","v":0},""]
[null,null,null,null,null,null,{"$f":"IF(ISERROR(MATCH(F664,WKNrListe_Einzel,0)),\"\",LOOKUP(F664,WKNrListe_Einzel,Übersicht!$B$7:$B$62))","v":""},null,{"$f":"IF(ISBLANK(H664),\" \",IF(LOOKUP(H664,MannschaftsNrListe,Mannschaften!B$4:B$53)<>0,LOOKUP(H664,MannschaftsNrListe,Mannschaften!B$4:B$53),\"\"))","v":" "},null,null,null,null,null,null,null,null,null,null,null,null,null,null,null,null,null,null,null,null,null,0,{"$f":"IF(NOT(ISBLANK(F664)),LOOKUP(F664,WKNrListe,Übersicht!E$7:E$77),0)","v":0},""]
[null,null,null,null,null,null,{"$f":"IF(ISERROR(MATCH(F665,WKNrListe_Einzel,0)),\"\",LOOKUP(F665,WKNrListe_Einzel,Übersicht!$B$7:$B$62))","v":""},null,{"$f":"IF(ISBLANK(H665),\" \",IF(LOOKUP(H665,MannschaftsNrListe,Mannschaften!B$4:B$53)<>0,LOOKUP(H665,MannschaftsNrListe,Mannschaften!B$4:B$53),\"\"))","v":" "},null,null,null,null,null,null,null,null,null,null,null,null,null,null,null,null,null,null,null,null,null,0,{"$f":"IF(NOT(ISBLANK(F665)),LOOKUP(F665,WKNrListe,Übersicht!E$7:E$77),0)","v":0},""]
[null,null,null,null,null,null,{"$f":"IF(ISERROR(MATCH(F666,WKNrListe_Einzel,0)),\"\",LOOKUP(F666,WKNrListe_Einzel,Übersicht!$B$7:$B$62))","v":""},null,{"$f":"IF(ISBLANK(H666),\" \",IF(LOOKUP(H666,MannschaftsNrListe,Mannschaften!B$4:B$53)<>0,LOOKUP(H666,MannschaftsNrListe,Mannschaften!B$4:B$53),\"\"))","v":" "},null,null,null,null,null,null,null,null,null,null,null,null,null,null,null,null,null,null,null,null,null,0,{"$f":"IF(NOT(ISBLANK(F666)),LOOKUP(F666,WKNrListe,Übersicht!E$7:E$77),0)","v":0},""]
[null,null,null,null,null,null,{"$f":"IF(ISERROR(MATCH(F667,WKNrListe_Einzel,0)),\"\",LOOKUP(F667,WKNrListe_Einzel,Übersicht!$B$7:$B$62))","v":""},null,{"$f":"IF(ISBLANK(H667),\" \",IF(LOOKUP(H667,MannschaftsNrListe,Mannschaften!B$4:B$53)<>0,LOOKUP(H667,MannschaftsNrListe,Mannschaften!B$4:B$53),\"\"))","v":" "},null,null,null,null,null,null,null,null,null,null,null,null,null,null,null,null,null,null,null,null,null,0,{"$f":"IF(NOT(ISBLANK(F667)),LOOKUP(F667,WKNrListe,Übersicht!E$7:E$77),0)","v":0},""]
[null,null,null,null,null,null,{"$f":"IF(ISERROR(MATCH(F668,WKNrListe_Einzel,0)),\"\",LOOKUP(F668,WKNrListe_Einzel,Übersicht!$B$7:$B$62))","v":""},null,{"$f":"IF(ISBLANK(H668),\" \",IF(LOOKUP(H668,MannschaftsNrListe,Mannschaften!B$4:B$53)<>0,LOOKUP(H668,MannschaftsNrListe,Mannschaften!B$4:B$53),\"\"))","v":" "},null,null,null,null,null,null,null,null,null,null,null,null,null,null,null,null,null,null,null,null,null,0,{"$f":"IF(NOT(ISBLANK(F668)),LOOKUP(F668,WKNrListe,Übersicht!E$7:E$77),0)","v":0},""]
[null,null,null,null,null,null,{"$f":"IF(ISERROR(MATCH(F669,WKNrListe_Einzel,0)),\"\",LOOKUP(F669,WKNrListe_Einzel,Übersicht!$B$7:$B$62))","v":""},null,{"$f":"IF(ISBLANK(H669),\" \",IF(LOOKUP(H669,MannschaftsNrListe,Mannschaften!B$4:B$53)<>0,LOOKUP(H669,MannschaftsNrListe,Mannschaften!B$4:B$53),\"\"))","v":" "},null,null,null,null,null,null,null,null,null,null,null,null,null,null,null,null,null,null,null,null,null,0,{"$f":"IF(NOT(ISBLANK(F669)),LOOKUP(F669,WKNrListe,Übersicht!E$7:E$77),0)","v":0},""]
[null,null,null,null,null,null,{"$f":"IF(ISERROR(MATCH(F670,WKNrListe_Einzel,0)),\"\",LOOKUP(F670,WKNrListe_Einzel,Übersicht!$B$7:$B$62))","v":""},null,{"$f":"IF(ISBLANK(H670),\" \",IF(LOOKUP(H670,MannschaftsNrListe,Mannschaften!B$4:B$53)<>0,LOOKUP(H670,MannschaftsNrListe,Mannschaften!B$4:B$53),\"\"))","v":" "},null,null,null,null,null,null,null,null,null,null,null,null,null,null,null,null,null,null,null,null,null,0,{"$f":"IF(NOT(ISBLANK(F670)),LOOKUP(F670,WKNrListe,Übersicht!E$7:E$77),0)","v":0},""]
[null,null,null,null,null,null,{"$f":"IF(ISERROR(MATCH(F671,WKNrListe_Einzel,0)),\"\",LOOKUP(F671,WKNrListe_Einzel,Übersicht!$B$7:$B$62))","v":""},null,{"$f":"IF(ISBLANK(H671),\" \",IF(LOOKUP(H671,MannschaftsNrListe,Mannschaften!B$4:B$53)<>0,LOOKUP(H671,MannschaftsNrListe,Mannschaften!B$4:B$53),\"\"))","v":" "},null,null,null,null,null,null,null,null,null,null,null,null,null,null,null,null,null,null,null,null,null,0,{"$f":"IF(NOT(ISBLANK(F671)),LOOKUP(F671,WKNrListe,Übersicht!E$7:E$77),0)","v":0},""]
[null,null,null,null,null,null,{"$f":"IF(ISERROR(MATCH(F672,WKNrListe_Einzel,0)),\"\",LOOKUP(F672,WKNrListe_Einzel,Übersicht!$B$7:$B$62))","v":""},null,{"$f":"IF(ISBLANK(H672),\" \",IF(LOOKUP(H672,MannschaftsNrListe,Mannschaften!B$4:B$53)<>0,LOOKUP(H672,MannschaftsNrListe,Mannschaften!B$4:B$53),\"\"))","v":" "},null,null,null,null,null,null,null,null,null,null,null,null,null,null,null,null,null,null,null,null,null,0,{"$f":"IF(NOT(ISBLANK(F672)),LOOKUP(F672,WKNrListe,Übersicht!E$7:E$77),0)","v":0},""]
[null,null,null,null,null,null,{"$f":"IF(ISERROR(MATCH(F673,WKNrListe_Einzel,0)),\"\",LOOKUP(F673,WKNrListe_Einzel,Übersicht!$B$7:$B$62))","v":""},null,{"$f":"IF(ISBLANK(H673),\" \",IF(LOOKUP(H673,MannschaftsNrListe,Mannschaften!B$4:B$53)<>0,LOOKUP(H673,MannschaftsNrListe,Mannschaften!B$4:B$53),\"\"))","v":" "},null,null,null,null,null,null,null,null,null,null,null,null,null,null,null,null,null,null,null,null,null,0,{"$f":"IF(NOT(ISBLANK(F673)),LOOKUP(F673,WKNrListe,Übersicht!E$7:E$77),0)","v":0},""]
[null,null,null,null,null,null,{"$f":"IF(ISERROR(MATCH(F674,WKNrListe_Einzel,0)),\"\",LOOKUP(F674,WKNrListe_Einzel,Übersicht!$B$7:$B$62))","v":""},null,{"$f":"IF(ISBLANK(H674),\" \",IF(LOOKUP(H674,MannschaftsNrListe,Mannschaften!B$4:B$53)<>0,LOOKUP(H674,MannschaftsNrListe,Mannschaften!B$4:B$53),\"\"))","v":" "},null,null,null,null,null,null,null,null,null,null,null,null,null,null,null,null,null,null,null,null,null,0,{"$f":"IF(NOT(ISBLANK(F674)),LOOKUP(F674,WKNrListe,Übersicht!E$7:E$77),0)","v":0},""]
[null,null,null,null,null,null,{"$f":"IF(ISERROR(MATCH(F675,WKNrListe_Einzel,0)),\"\",LOOKUP(F675,WKNrListe_Einzel,Übersicht!$B$7:$B$62))","v":""},null,{"$f":"IF(ISBLANK(H675),\" \",IF(LOOKUP(H675,MannschaftsNrListe,Mannschaften!B$4:B$53)<>0,LOOKUP(H675,MannschaftsNrListe,Mannschaften!B$4:B$53),\"\"))","v":" "},null,null,null,null,null,null,null,null,null,null,null,null,null,null,null,null,null,null,null,null,null,0,{"$f":"IF(NOT(ISBLANK(F675)),LOOKUP(F675,WKNrListe,Übersicht!E$7:E$77),0)","v":0},""]
[null,null,null,null,null,null,{"$f":"IF(ISERROR(MATCH(F676,WKNrListe_Einzel,0)),\"\",LOOKUP(F676,WKNrListe_Einzel,Übersicht!$B$7:$B$62))","v":""},null,{"$f":"IF(ISBLANK(H676),\" \",IF(LOOKUP(H676,MannschaftsNrListe,Mannschaften!B$4:B$53)<>0,LOOKUP(H676,MannschaftsNrListe,Mannschaften!B$4:B$53),\"\"))","v":" "},null,null,null,null,null,null,null,null,null,null,null,null,null,null,null,null,null,null,null,null,null,0,{"$f":"IF(NOT(ISBLANK(F676)),LOOKUP(F676,WKNrListe,Übersicht!E$7:E$77),0)","v":0},""]
[null,null,null,null,null,null,{"$f":"IF(ISERROR(MATCH(F677,WKNrListe_Einzel,0)),\"\",LOOKUP(F677,WKNrListe_Einzel,Übersicht!$B$7:$B$62))","v":""},null,{"$f":"IF(ISBLANK(H677),\" \",IF(LOOKUP(H677,MannschaftsNrListe,Mannschaften!B$4:B$53)<>0,LOOKUP(H677,MannschaftsNrListe,Mannschaften!B$4:B$53),\"\"))","v":" "},null,null,null,null,null,null,null,null,null,null,null,null,null,null,null,null,null,null,null,null,null,0,{"$f":"IF(NOT(ISBLANK(F677)),LOOKUP(F677,WKNrListe,Übersicht!E$7:E$77),0)","v":0},""]
[null,null,null,null,null,null,{"$f":"IF(ISERROR(MATCH(F678,WKNrListe_Einzel,0)),\"\",LOOKUP(F678,WKNrListe_Einzel,Übersicht!$B$7:$B$62))","v":""},null,{"$f":"IF(ISBLANK(H678),\" \",IF(LOOKUP(H678,MannschaftsNrListe,Mannschaften!B$4:B$53)<>0,LOOKUP(H678,MannschaftsNrListe,Mannschaften!B$4:B$53),\"\"))","v":" "},null,null,null,null,null,null,null,null,null,null,null,null,null,null,null,null,null,null,null,null,null,0,{"$f":"IF(NOT(ISBLANK(F678)),LOOKUP(F678,WKNrListe,Übersicht!E$7:E$77),0)","v":0},""]
[null,null,null,null,null,null,{"$f":"IF(ISERROR(MATCH(F679,WKNrListe_Einzel,0)),\"\",LOOKUP(F679,WKNrListe_Einzel,Übersicht!$B$7:$B$62))","v":""},null,{"$f":"IF(ISBLANK(H679),\" \",IF(LOOKUP(H679,MannschaftsNrListe,Mannschaften!B$4:B$53)<>0,LOOKUP(H679,MannschaftsNrListe,Mannschaften!B$4:B$53),\"\"))","v":" "},null,null,null,null,null,null,null,null,null,null,null,null,null,null,null,null,null,null,null,null,null,0,{"$f":"IF(NOT(ISBLANK(F679)),LOOKUP(F679,WKNrListe,Übersicht!E$7:E$77),0)","v":0},""]
[null,null,null,null,null,null,{"$f":"IF(ISERROR(MATCH(F680,WKNrListe_Einzel,0)),\"\",LOOKUP(F680,WKNrListe_Einzel,Übersicht!$B$7:$B$62))","v":""},null,{"$f":"IF(ISBLANK(H680),\" \",IF(LOOKUP(H680,MannschaftsNrListe,Mannschaften!B$4:B$53)<>0,LOOKUP(H680,MannschaftsNrListe,Mannschaften!B$4:B$53),\"\"))","v":" "},null,null,null,null,null,null,null,null,null,null,null,null,null,null,null,null,null,null,null,null,null,0,{"$f":"IF(NOT(ISBLANK(F680)),LOOKUP(F680,WKNrListe,Übersicht!E$7:E$77),0)","v":0},""]
[null,null,null,null,null,null,{"$f":"IF(ISERROR(MATCH(F681,WKNrListe_Einzel,0)),\"\",LOOKUP(F681,WKNrListe_Einzel,Übersicht!$B$7:$B$62))","v":""},null,{"$f":"IF(ISBLANK(H681),\" \",IF(LOOKUP(H681,MannschaftsNrListe,Mannschaften!B$4:B$53)<>0,LOOKUP(H681,MannschaftsNrListe,Mannschaften!B$4:B$53),\"\"))","v":" "},null,null,null,null,null,null,null,null,null,null,null,null,null,null,null,null,null,null,null,null,null,0,{"$f":"IF(NOT(ISBLANK(F681)),LOOKUP(F681,WKNrListe,Übersicht!E$7:E$77),0)","v":0},""]
[null,null,null,null,null,null,{"$f":"IF(ISERROR(MATCH(F682,WKNrListe_Einzel,0)),\"\",LOOKUP(F682,WKNrListe_Einzel,Übersicht!$B$7:$B$62))","v":""},null,{"$f":"IF(ISBLANK(H682),\" \",IF(LOOKUP(H682,MannschaftsNrListe,Mannschaften!B$4:B$53)<>0,LOOKUP(H682,MannschaftsNrListe,Mannschaften!B$4:B$53),\"\"))","v":" "},null,null,null,null,null,null,null,null,null,null,null,null,null,null,null,null,null,null,null,null,null,0,{"$f":"IF(NOT(ISBLANK(F682)),LOOKUP(F682,WKNrListe,Übersicht!E$7:E$77),0)","v":0},""]
[null,null,null,null,null,null,{"$f":"IF(ISERROR(MATCH(F683,WKNrListe_Einzel,0)),\"\",LOOKUP(F683,WKNrListe_Einzel,Übersicht!$B$7:$B$62))","v":""},null,{"$f":"IF(ISBLANK(H683),\" \",IF(LOOKUP(H683,MannschaftsNrListe,Mannschaften!B$4:B$53)<>0,LOOKUP(H683,MannschaftsNrListe,Mannschaften!B$4:B$53),\"\"))","v":" "},null,null,null,null,null,null,null,null,null,null,null,null,null,null,null,null,null,null,null,null,null,0,{"$f":"IF(NOT(ISBLANK(F683)),LOOKUP(F683,WKNrListe,Übersicht!E$7:E$77),0)","v":0},""]
[null,null,null,null,null,null,{"$f":"IF(ISERROR(MATCH(F684,WKNrListe_Einzel,0)),\"\",LOOKUP(F684,WKNrListe_Einzel,Übersicht!$B$7:$B$62))","v":""},null,{"$f":"IF(ISBLANK(H684),\" \",IF(LOOKUP(H684,MannschaftsNrListe,Mannschaften!B$4:B$53)<>0,LOOKUP(H684,MannschaftsNrListe,Mannschaften!B$4:B$53),\"\"))","v":" "},null,null,null,null,null,null,null,null,null,null,null,null,null,null,null,null,null,null,null,null,null,0,{"$f":"IF(NOT(ISBLANK(F684)),LOOKUP(F684,WKNrListe,Übersicht!E$7:E$77),0)","v":0},""]
[null,null,null,null,null,null,{"$f":"IF(ISERROR(MATCH(F685,WKNrListe_Einzel,0)),\"\",LOOKUP(F685,WKNrListe_Einzel,Übersicht!$B$7:$B$62))","v":""},null,{"$f":"IF(ISBLANK(H685),\" \",IF(LOOKUP(H685,MannschaftsNrListe,Mannschaften!B$4:B$53)<>0,LOOKUP(H685,MannschaftsNrListe,Mannschaften!B$4:B$53),\"\"))","v":" "},null,null,null,null,null,null,null,null,null,null,null,null,null,null,null,null,null,null,null,null,null,0,{"$f":"IF(NOT(ISBLANK(F685)),LOOKUP(F685,WKNrListe,Übersicht!E$7:E$77),0)","v":0},""]
[null,null,null,null,null,null,{"$f":"IF(ISERROR(MATCH(F686,WKNrListe_Einzel,0)),\"\",LOOKUP(F686,WKNrListe_Einzel,Übersicht!$B$7:$B$62))","v":""},null,{"$f":"IF(ISBLANK(H686),\" \",IF(LOOKUP(H686,MannschaftsNrListe,Mannschaften!B$4:B$53)<>0,LOOKUP(H686,MannschaftsNrListe,Mannschaften!B$4:B$53),\"\"))","v":" "},null,null,null,null,null,null,null,null,null,null,null,null,null,null,null,null,null,null,null,null,null,0,{"$f":"IF(NOT(ISBLANK(F686)),LOOKUP(F686,WKNrListe,Übersicht!E$7:E$77),0)","v":0},""]
[null,null,null,null,null,null,{"$f":"IF(ISERROR(MATCH(F687,WKNrListe_Einzel,0)),\"\",LOOKUP(F687,WKNrListe_Einzel,Übersicht!$B$7:$B$62))","v":""},null,{"$f":"IF(ISBLANK(H687),\" \",IF(LOOKUP(H687,MannschaftsNrListe,Mannschaften!B$4:B$53)<>0,LOOKUP(H687,MannschaftsNrListe,Mannschaften!B$4:B$53),\"\"))","v":" "},null,null,null,null,null,null,null,null,null,null,null,null,null,null,null,null,null,null,null,null,null,0,{"$f":"IF(NOT(ISBLANK(F687)),LOOKUP(F687,WKNrListe,Übersicht!E$7:E$77),0)","v":0},""]
[null,null,null,null,null,null,{"$f":"IF(ISERROR(MATCH(F688,WKNrListe_Einzel,0)),\"\",LOOKUP(F688,WKNrListe_Einzel,Übersicht!$B$7:$B$62))","v":""},null,{"$f":"IF(ISBLANK(H688),\" \",IF(LOOKUP(H688,MannschaftsNrListe,Mannschaften!B$4:B$53)<>0,LOOKUP(H688,MannschaftsNrListe,Mannschaften!B$4:B$53),\"\"))","v":" "},null,null,null,null,null,null,null,null,null,null,null,null,null,null,null,null,null,null,null,null,null,0,{"$f":"IF(NOT(ISBLANK(F688)),LOOKUP(F688,WKNrListe,Übersicht!E$7:E$77),0)","v":0},""]
[null,null,null,null,null,null,{"$f":"IF(ISERROR(MATCH(F689,WKNrListe_Einzel,0)),\"\",LOOKUP(F689,WKNrListe_Einzel,Übersicht!$B$7:$B$62))","v":""},null,{"$f":"IF(ISBLANK(H689),\" \",IF(LOOKUP(H689,MannschaftsNrListe,Mannschaften!B$4:B$53)<>0,LOOKUP(H689,MannschaftsNrListe,Mannschaften!B$4:B$53),\"\"))","v":" "},null,null,null,null,null,null,null,null,null,null,null,null,null,null,null,null,null,null,null,null,null,{"$f":"COUNTIF(J689:AD689,\">''\")","v":0},{"$f":"IF(NOT(ISBLANK(F689)),LOOKUP(F689,WKNrListe,Übersicht!E$7:E$77),0)","v":0},""]
[null,null,null,null,null,null,{"$f":"IF(ISERROR(MATCH(F690,WKNrListe_Einzel,0)),\"\",LOOKUP(F690,WKNrListe_Einzel,Übersicht!$B$7:$B$62))","v":""},null,{"$f":"IF(ISBLANK(H690),\" \",IF(LOOKUP(H690,MannschaftsNrListe,Mannschaften!B$4:B$53)<>0,LOOKUP(H690,MannschaftsNrListe,Mannschaften!B$4:B$53),\"\"))","v":" "},null,null,null,null,null,null,null,null,null,null,null,null,null,null,null,null,null,null,null,null,null,0,{"$f":"IF(NOT(ISBLANK(F690)),LOOKUP(F690,WKNrListe,Übersicht!E$7:E$77),0)","v":0},""]
[null,null,null,null,null,null,{"$f":"IF(ISERROR(MATCH(F691,WKNrListe_Einzel,0)),\"\",LOOKUP(F691,WKNrListe_Einzel,Übersicht!$B$7:$B$62))","v":""},null,{"$f":"IF(ISBLANK(H691),\" \",IF(LOOKUP(H691,MannschaftsNrListe,Mannschaften!B$4:B$53)<>0,LOOKUP(H691,MannschaftsNrListe,Mannschaften!B$4:B$53),\"\"))","v":" "},null,null,null,null,null,null,null,null,null,null,null,null,null,null,null,null,null,null,null,null,null,0,{"$f":"IF(NOT(ISBLANK(F691)),LOOKUP(F691,WKNrListe,Übersicht!E$7:E$77),0)","v":0},""]
[null,null,null,null,null,null,{"$f":"IF(ISERROR(MATCH(F692,WKNrListe_Einzel,0)),\"\",LOOKUP(F692,WKNrListe_Einzel,Übersicht!$B$7:$B$62))","v":""},null,{"$f":"IF(ISBLANK(H692),\" \",IF(LOOKUP(H692,MannschaftsNrListe,Mannschaften!B$4:B$53)<>0,LOOKUP(H692,MannschaftsNrListe,Mannschaften!B$4:B$53),\"\"))","v":" "},null,null,null,null,null,null,null,null,null,null,null,null,null,null,null,null,null,null,null,null,null,0,{"$f":"IF(NOT(ISBLANK(F692)),LOOKUP(F692,WKNrListe,Übersicht!E$7:E$77),0)","v":0},""]
[null,null,null,null,null,null,{"$f":"IF(ISERROR(MATCH(F693,WKNrListe_Einzel,0)),\"\",LOOKUP(F693,WKNrListe_Einzel,Übersicht!$B$7:$B$62))","v":""},null,{"$f":"IF(ISBLANK(H693),\" \",IF(LOOKUP(H693,MannschaftsNrListe,Mannschaften!B$4:B$53)<>0,LOOKUP(H693,MannschaftsNrListe,Mannschaften!B$4:B$53),\"\"))","v":" "},null,null,null,null,null,null,null,null,null,null,null,null,null,null,null,null,null,null,null,null,null,0,{"$f":"IF(NOT(ISBLANK(F693)),LOOKUP(F693,WKNrListe,Übersicht!E$7:E$77),0)","v":0},""]
[null,null,null,null,null,null,{"$f":"IF(ISERROR(MATCH(F694,WKNrListe_Einzel,0)),\"\",LOOKUP(F694,WKNrListe_Einzel,Übersicht!$B$7:$B$62))","v":""},null,{"$f":"IF(ISBLANK(H694),\" \",IF(LOOKUP(H694,MannschaftsNrListe,Mannschaften!B$4:B$53)<>0,LOOKUP(H694,MannschaftsNrListe,Mannschaften!B$4:B$53),\"\"))","v":" "},null,null,null,null,null,null,null,null,null,null,null,null,null,null,null,null,null,null,null,null,null,0,{"$f":"IF(NOT(ISBLANK(F694)),LOOKUP(F694,WKNrListe,Übersicht!E$7:E$77),0)","v":0},""]
[null,null,null,null,null,null,{"$f":"IF(ISERROR(MATCH(F695,WKNrListe_Einzel,0)),\"\",LOOKUP(F695,WKNrListe_Einzel,Übersicht!$B$7:$B$62))","v":""},null,{"$f":"IF(ISBLANK(H695),\" \",IF(LOOKUP(H695,MannschaftsNrListe,Mannschaften!B$4:B$53)<>0,LOOKUP(H695,MannschaftsNrListe,Mannschaften!B$4:B$53),\"\"))","v":" "},null,null,null,null,null,null,null,null,null,null,null,null,null,null,null,null,null,null,null,null,null,0,{"$f":"IF(NOT(ISBLANK(F695)),LOOKUP(F695,WKNrListe,Übersicht!E$7:E$77),0)","v":0},""]
[null,null,null,null,null,null,{"$f":"IF(ISERROR(MATCH(F696,WKNrListe_Einzel,0)),\"\",LOOKUP(F696,WKNrListe_Einzel,Übersicht!$B$7:$B$62))","v":""},null,{"$f":"IF(ISBLANK(H696),\" \",IF(LOOKUP(H696,MannschaftsNrListe,Mannschaften!B$4:B$53)<>0,LOOKUP(H696,MannschaftsNrListe,Mannschaften!B$4:B$53),\"\"))","v":" "},null,null,null,null,null,null,null,null,null,null,null,null,null,null,null,null,null,null,null,null,null,0,{"$f":"IF(NOT(ISBLANK(F696)),LOOKUP(F696,WKNrListe,Übersicht!E$7:E$77),0)","v":0},""]
[null,null,null,null,null,null,{"$f":"IF(ISERROR(MATCH(F697,WKNrListe_Einzel,0)),\"\",LOOKUP(F697,WKNrListe_Einzel,Übersicht!$B$7:$B$62))","v":""},null,{"$f":"IF(ISBLANK(H697),\" \",IF(LOOKUP(H697,MannschaftsNrListe,Mannschaften!B$4:B$53)<>0,LOOKUP(H697,MannschaftsNrListe,Mannschaften!B$4:B$53),\"\"))","v":" "},null,null,null,null,null,null,null,null,null,null,null,null,null,null,null,null,null,null,null,null,null,0,{"$f":"IF(NOT(ISBLANK(F697)),LOOKUP(F697,WKNrListe,Übersicht!E$7:E$77),0)","v":0},""]
[null,null,null,null,null,null,{"$f":"IF(ISERROR(MATCH(F698,WKNrListe_Einzel,0)),\"\",LOOKUP(F698,WKNrListe_Einzel,Übersicht!$B$7:$B$62))","v":""},null,{"$f":"IF(ISBLANK(H698),\" \",IF(LOOKUP(H698,MannschaftsNrListe,Mannschaften!B$4:B$53)<>0,LOOKUP(H698,MannschaftsNrListe,Mannschaften!B$4:B$53),\"\"))","v":" "},null,null,null,null,null,null,null,null,null,null,null,null,null,null,null,null,null,null,null,null,null,0,{"$f":"IF(NOT(ISBLANK(F698)),LOOKUP(F698,WKNrListe,Übersicht!E$7:E$77),0)","v":0},""]
[null,null,null,null,null,null,{"$f":"IF(ISERROR(MATCH(F699,WKNrListe_Einzel,0)),\"\",LOOKUP(F699,WKNrListe_Einzel,Übersicht!$B$7:$B$62))","v":""},null,{"$f":"IF(ISBLANK(H699),\" \",IF(LOOKUP(H699,MannschaftsNrListe,Mannschaften!B$4:B$53)<>0,LOOKUP(H699,MannschaftsNrListe,Mannschaften!B$4:B$53),\"\"))","v":" "},null,null,null,null,null,null,null,null,null,null,null,null,null,null,null,null,null,null,null,null,null,0,{"$f":"IF(NOT(ISBLANK(F699)),LOOKUP(F699,WKNrListe,Übersicht!E$7:E$77),0)","v":0},""]
[null,null,null,null,null,null,{"$f":"IF(ISERROR(MATCH(F700,WKNrListe_Einzel,0)),\"\",LOOKUP(F700,WKNrListe_Einzel,Übersicht!$B$7:$B$62))","v":""},null,{"$f":"IF(ISBLANK(H700),\" \",IF(LOOKUP(H700,MannschaftsNrListe,Mannschaften!B$4:B$53)<>0,LOOKUP(H700,MannschaftsNrListe,Mannschaften!B$4:B$53),\"\"))","v":" "},null,null,null,null,null,null,null,null,null,null,null,null,null,null,null,null,null,null,null,null,null,0,{"$f":"IF(NOT(ISBLANK(F700)),LOOKUP(F700,WKNrListe,Übersicht!E$7:E$77),0)","v":0},""]
[null,null,null,null,null,null,{"$f":"IF(ISERROR(MATCH(F701,WKNrListe_Einzel,0)),\"\",LOOKUP(F701,WKNrListe_Einzel,Übersicht!$B$7:$B$62))","v":""},null,{"$f":"IF(ISBLANK(H701),\" \",IF(LOOKUP(H701,MannschaftsNrListe,Mannschaften!B$4:B$53)<>0,LOOKUP(H701,MannschaftsNrListe,Mannschaften!B$4:B$53),\"\"))","v":" "},null,null,null,null,null,null,null,null,null,null,null,null,null,null,null,null,null,null,null,null,null,0,{"$f":"IF(NOT(ISBLANK(F701)),LOOKUP(F701,WKNrListe,Übersicht!E$7:E$77),0)","v":0},""]
[null,null,null,null,null,null,{"$f":"IF(ISERROR(MATCH(F702,WKNrListe_Einzel,0)),\"\",LOOKUP(F702,WKNrListe_Einzel,Übersicht!$B$7:$B$62))","v":""},null,{"$f":"IF(ISBLANK(H702),\" \",IF(LOOKUP(H702,MannschaftsNrListe,Mannschaften!B$4:B$53)<>0,LOOKUP(H702,MannschaftsNrListe,Mannschaften!B$4:B$53),\"\"))","v":" "},null,null,null,null,null,null,null,null,null,null,null,null,null,null,null,null,null,null,null,null,null,0,{"$f":"IF(NOT(ISBLANK(F702)),LOOKUP(F702,WKNrListe,Übersicht!E$7:E$77),0)","v":0},""]
[null,null,null,null,null,null,{"$f":"IF(ISERROR(MATCH(F703,WKNrListe_Einzel,0)),\"\",LOOKUP(F703,WKNrListe_Einzel,Übersicht!$B$7:$B$62))","v":""},null,{"$f":"IF(ISBLANK(H703),\" \",IF(LOOKUP(H703,MannschaftsNrListe,Mannschaften!B$4:B$53)<>0,LOOKUP(H703,MannschaftsNrListe,Mannschaften!B$4:B$53),\"\"))","v":" "},null,null,null,null,null,null,null,null,null,null,null,null,null,null,null,null,null,null,null,null,null,0,{"$f":"IF(NOT(ISBLANK(F703)),LOOKUP(F703,WKNrListe,Übersicht!E$7:E$77),0)","v":0},""]
[null,null,null,null,null,null,{"$f":"IF(ISERROR(MATCH(F704,WKNrListe_Einzel,0)),\"\",LOOKUP(F704,WKNrListe_Einzel,Übersicht!$B$7:$B$62))","v":""},null,{"$f":"IF(ISBLANK(H704),\" \",IF(LOOKUP(H704,MannschaftsNrListe,Mannschaften!B$4:B$53)<>0,LOOKUP(H704,MannschaftsNrListe,Mannschaften!B$4:B$53),\"\"))","v":" "},null,null,null,null,null,null,null,null,null,null,null,null,null,null,null,null,null,null,null,null,null,0,{"$f":"IF(NOT(ISBLANK(F704)),LOOKUP(F704,WKNrListe,Übersicht!E$7:E$77),0)","v":0},""]
[null,null,null,null,null,null,{"$f":"IF(ISERROR(MATCH(F705,WKNrListe_Einzel,0)),\"\",LOOKUP(F705,WKNrListe_Einzel,Übersicht!$B$7:$B$62))","v":""},null,{"$f":"IF(ISBLANK(H705),\" \",IF(LOOKUP(H705,MannschaftsNrListe,Mannschaften!B$4:B$53)<>0,LOOKUP(H705,MannschaftsNrListe,Mannschaften!B$4:B$53),\"\"))","v":" "},null,null,null,null,null,null,null,null,null,null,null,null,null,null,null,null,null,null,null,null,null,0,{"$f":"IF(NOT(ISBLANK(F705)),LOOKUP(F705,WKNrListe,Übersicht!E$7:E$77),0)","v":0},""]
[null,null,null,null,null,null,{"$f":"IF(ISERROR(MATCH(F706,WKNrListe_Einzel,0)),\"\",LOOKUP(F706,WKNrListe_Einzel,Übersicht!$B$7:$B$62))","v":""},null,{"$f":"IF(ISBLANK(H706),\" \",IF(LOOKUP(H706,MannschaftsNrListe,Mannschaften!B$4:B$53)<>0,LOOKUP(H706,MannschaftsNrListe,Mannschaften!B$4:B$53),\"\"))","v":" "},null,null,null,null,null,null,null,null,null,null,null,null,null,null,null,null,null,null,null,null,null,0,{"$f":"IF(NOT(ISBLANK(F706)),LOOKUP(F706,WKNrListe,Übersicht!E$7:E$77),0)","v":0},""]
[null,null,null,null,null,null,{"$f":"IF(ISERROR(MATCH(F707,WKNrListe_Einzel,0)),\"\",LOOKUP(F707,WKNrListe_Einzel,Übersicht!$B$7:$B$62))","v":""},null,{"$f":"IF(ISBLANK(H707),\" \",IF(LOOKUP(H707,MannschaftsNrListe,Mannschaften!B$4:B$53)<>0,LOOKUP(H707,MannschaftsNrListe,Mannschaften!B$4:B$53),\"\"))","v":" "},null,null,null,null,null,null,null,null,null,null,null,null,null,null,null,null,null,null,null,null,null,0,{"$f":"IF(NOT(ISBLANK(F707)),LOOKUP(F707,WKNrListe,Übersicht!E$7:E$77),0)","v":0},""]
[null,null,null,null,null,null,{"$f":"IF(ISERROR(MATCH(F708,WKNrListe_Einzel,0)),\"\",LOOKUP(F708,WKNrListe_Einzel,Übersicht!$B$7:$B$62))","v":""},null,{"$f":"IF(ISBLANK(H708),\" \",IF(LOOKUP(H708,MannschaftsNrListe,Mannschaften!B$4:B$53)<>0,LOOKUP(H708,MannschaftsNrListe,Mannschaften!B$4:B$53),\"\"))","v":" "},null,null,null,null,null,null,null,null,null,null,null,null,null,null,null,null,null,null,null,null,null,0,{"$f":"IF(NOT(ISBLANK(F708)),LOOKUP(F708,WKNrListe,Übersicht!E$7:E$77),0)","v":0},""]
[null,null,null,null,null,null,{"$f":"IF(ISERROR(MATCH(F709,WKNrListe_Einzel,0)),\"\",LOOKUP(F709,WKNrListe_Einzel,Übersicht!$B$7:$B$62))","v":""},null,{"$f":"IF(ISBLANK(H709),\" \",IF(LOOKUP(H709,MannschaftsNrListe,Mannschaften!B$4:B$53)<>0,LOOKUP(H709,MannschaftsNrListe,Mannschaften!B$4:B$53),\"\"))","v":" "},null,null,null,null,null,null,null,null,null,null,null,null,null,null,null,null,null,null,null,null,null,0,{"$f":"IF(NOT(ISBLANK(F709)),LOOKUP(F709,WKNrListe,Übersicht!E$7:E$77),0)","v":0},{"$f":"IF(\n AND(\n  OR(ISTEXT(A709), ISTEXT(B709), NOT(ISBLANK(E709)), NOT(ISBLANK(F709)), NOT(ISBLANK(H709))),\n  OR(ISBLANK(A709),ISBLANK(B709),AND(ISBLANK(E709),ISBLANK(F709),ISBLANK(H709)))\n ),\n \"unvollständig\",\n IF(\n  AND(\n   NOT(\n    ISBLANK(H709)\n    ),\n   NOT(ISNUMBER(I709))\n  ),\n  \"Seite Mannschaften ausfüllen!\",\n  IF(AF709>AE709,\"zu wenig Disziplinen gewählt\",IF(AE709>AF709,\"zu viele Disziplinen gewählt\",\"\"))\n )\n)","v":""}]
[null,null,null,null,null,null,{"$f":"IF(ISERROR(MATCH(F710,WKNrListe_Einzel,0)),\"\",LOOKUP(F710,WKNrListe_Einzel,Übersicht!$B$7:$B$62))","v":""},null,{"$f":"IF(ISBLANK(H710),\" \",IF(LOOKUP(H710,MannschaftsNrListe,Mannschaften!B$4:B$53)<>0,LOOKUP(H710,MannschaftsNrListe,Mannschaften!B$4:B$53),\"\"))","v":" "},null,null,null,null,null,null,null,null,null,null,null,null,null,null,null,null,null,null,null,null,null,0,{"$f":"IF(NOT(ISBLANK(F710)),LOOKUP(F710,WKNrListe,Übersicht!E$7:E$77),0)","v":0},""]
[null,null,null,null,null,null,{"$f":"IF(ISERROR(MATCH(F711,WKNrListe_Einzel,0)),\"\",LOOKUP(F711,WKNrListe_Einzel,Übersicht!$B$7:$B$62))","v":""},null,{"$f":"IF(ISBLANK(H711),\" \",IF(LOOKUP(H711,MannschaftsNrListe,Mannschaften!B$4:B$53)<>0,LOOKUP(H711,MannschaftsNrListe,Mannschaften!B$4:B$53),\"\"))","v":" "},null,null,null,null,null,null,null,null,null,null,null,null,null,null,null,null,null,null,null,null,null,0,{"$f":"IF(NOT(ISBLANK(F711)),LOOKUP(F711,WKNrListe,Übersicht!E$7:E$77),0)","v":0},""]
[null,null,null,null,null,null,{"$f":"IF(ISERROR(MATCH(F712,WKNrListe_Einzel,0)),\"\",LOOKUP(F712,WKNrListe_Einzel,Übersicht!$B$7:$B$62))","v":""},null,{"$f":"IF(ISBLANK(H712),\" \",IF(LOOKUP(H712,MannschaftsNrListe,Mannschaften!B$4:B$53)<>0,LOOKUP(H712,MannschaftsNrListe,Mannschaften!B$4:B$53),\"\"))","v":" "},null,null,null,null,null,null,null,null,null,null,null,null,null,null,null,null,null,null,null,null,null,0,{"$f":"IF(NOT(ISBLANK(F712)),LOOKUP(F712,WKNrListe,Übersicht!E$7:E$77),0)","v":0},""]
[null,null,null,null,null,null,{"$f":"IF(ISERROR(MATCH(F713,WKNrListe_Einzel,0)),\"\",LOOKUP(F713,WKNrListe_Einzel,Übersicht!$B$7:$B$62))","v":""},null,{"$f":"IF(ISBLANK(H713),\" \",IF(LOOKUP(H713,MannschaftsNrListe,Mannschaften!B$4:B$53)<>0,LOOKUP(H713,MannschaftsNrListe,Mannschaften!B$4:B$53),\"\"))","v":" "},null,null,null,null,null,null,null,null,null,null,null,null,null,null,null,null,null,null,null,null,null,0,{"$f":"IF(NOT(ISBLANK(F713)),LOOKUP(F713,WKNrListe,Übersicht!E$7:E$77),0)","v":0},""]
[null,null,null,null,null,null,{"$f":"IF(ISERROR(MATCH(F714,WKNrListe_Einzel,0)),\"\",LOOKUP(F714,WKNrListe_Einzel,Übersicht!$B$7:$B$62))","v":""},null,{"$f":"IF(ISBLANK(H714),\" \",IF(LOOKUP(H714,MannschaftsNrListe,Mannschaften!B$4:B$53)<>0,LOOKUP(H714,MannschaftsNrListe,Mannschaften!B$4:B$53),\"\"))","v":" "},null,null,null,null,null,null,null,null,null,null,null,null,null,null,null,null,null,null,null,null,null,0,{"$f":"IF(NOT(ISBLANK(F714)),LOOKUP(F714,WKNrListe,Übersicht!E$7:E$77),0)","v":0},""]
[null,null,null,null,null,null,{"$f":"IF(ISERROR(MATCH(F715,WKNrListe_Einzel,0)),\"\",LOOKUP(F715,WKNrListe_Einzel,Übersicht!$B$7:$B$62))","v":""},null,{"$f":"IF(ISBLANK(H715),\" \",IF(LOOKUP(H715,MannschaftsNrListe,Mannschaften!B$4:B$53)<>0,LOOKUP(H715,MannschaftsNrListe,Mannschaften!B$4:B$53),\"\"))","v":" "},null,null,null,null,null,null,null,null,null,null,null,null,null,null,null,null,null,null,null,null,null,0,{"$f":"IF(NOT(ISBLANK(F715)),LOOKUP(F715,WKNrListe,Übersicht!E$7:E$77),0)","v":0},""]
[null,null,null,null,null,null,{"$f":"IF(ISERROR(MATCH(F716,WKNrListe_Einzel,0)),\"\",LOOKUP(F716,WKNrListe_Einzel,Übersicht!$B$7:$B$62))","v":""},null,{"$f":"IF(ISBLANK(H716),\" \",IF(LOOKUP(H716,MannschaftsNrListe,Mannschaften!B$4:B$53)<>0,LOOKUP(H716,MannschaftsNrListe,Mannschaften!B$4:B$53),\"\"))","v":" "},null,null,null,null,null,null,null,null,null,null,null,null,null,null,null,null,null,null,null,null,null,0,{"$f":"IF(NOT(ISBLANK(F716)),LOOKUP(F716,WKNrListe,Übersicht!E$7:E$77),0)","v":0},""]
[null,null,null,null,null,null,{"$f":"IF(ISERROR(MATCH(F717,WKNrListe_Einzel,0)),\"\",LOOKUP(F717,WKNrListe_Einzel,Übersicht!$B$7:$B$62))","v":""},null,{"$f":"IF(ISBLANK(H717),\" \",IF(LOOKUP(H717,MannschaftsNrListe,Mannschaften!B$4:B$53)<>0,LOOKUP(H717,MannschaftsNrListe,Mannschaften!B$4:B$53),\"\"))","v":" "},null,null,null,null,null,null,null,null,null,null,null,null,null,null,null,null,null,null,null,null,null,0,{"$f":"IF(NOT(ISBLANK(F717)),LOOKUP(F717,WKNrListe,Übersicht!E$7:E$77),0)","v":0},""]
[null,null,null,null,null,null,{"$f":"IF(ISERROR(MATCH(F718,WKNrListe_Einzel,0)),\"\",LOOKUP(F718,WKNrListe_Einzel,Übersicht!$B$7:$B$62))","v":""},null,{"$f":"IF(ISBLANK(H718),\" \",IF(LOOKUP(H718,MannschaftsNrListe,Mannschaften!B$4:B$53)<>0,LOOKUP(H718,MannschaftsNrListe,Mannschaften!B$4:B$53),\"\"))","v":" "},null,null,null,null,null,null,null,null,null,null,null,null,null,null,null,null,null,null,null,null,null,0,{"$f":"IF(NOT(ISBLANK(F718)),LOOKUP(F718,WKNrListe,Übersicht!E$7:E$77),0)","v":0},""]
[null,null,null,null,null,null,{"$f":"IF(ISERROR(MATCH(F719,WKNrListe_Einzel,0)),\"\",LOOKUP(F719,WKNrListe_Einzel,Übersicht!$B$7:$B$62))","v":""},null,{"$f":"IF(ISBLANK(H719),\" \",IF(LOOKUP(H719,MannschaftsNrListe,Mannschaften!B$4:B$53)<>0,LOOKUP(H719,MannschaftsNrListe,Mannschaften!B$4:B$53),\"\"))","v":" "},null,null,null,null,null,null,null,null,null,null,null,null,null,null,null,null,null,null,null,null,null,0,{"$f":"IF(NOT(ISBLANK(F719)),LOOKUP(F719,WKNrListe,Übersicht!E$7:E$77),0)","v":0},""]
[null,null,null,null,null,null,{"$f":"IF(ISERROR(MATCH(F720,WKNrListe_Einzel,0)),\"\",LOOKUP(F720,WKNrListe_Einzel,Übersicht!$B$7:$B$62))","v":""},null,{"$f":"IF(ISBLANK(H720),\" \",IF(LOOKUP(H720,MannschaftsNrListe,Mannschaften!B$4:B$53)<>0,LOOKUP(H720,MannschaftsNrListe,Mannschaften!B$4:B$53),\"\"))","v":" "},null,null,null,null,null,null,null,null,null,null,null,null,null,null,null,null,null,null,null,null,null,0,{"$f":"IF(NOT(ISBLANK(F720)),LOOKUP(F720,WKNrListe,Übersicht!E$7:E$77),0)","v":0},""]
[null,null,null,null,null,null,{"$f":"IF(ISERROR(MATCH(F721,WKNrListe_Einzel,0)),\"\",LOOKUP(F721,WKNrListe_Einzel,Übersicht!$B$7:$B$62))","v":""},null,{"$f":"IF(ISBLANK(H721),\" \",IF(LOOKUP(H721,MannschaftsNrListe,Mannschaften!B$4:B$53)<>0,LOOKUP(H721,MannschaftsNrListe,Mannschaften!B$4:B$53),\"\"))","v":" "},null,null,null,null,null,null,null,null,null,null,null,null,null,null,null,null,null,null,null,null,null,0,{"$f":"IF(NOT(ISBLANK(F721)),LOOKUP(F721,WKNrListe,Übersicht!E$7:E$77),0)","v":0},""]
[null,null,null,null,null,null,{"$f":"IF(ISERROR(MATCH(F722,WKNrListe_Einzel,0)),\"\",LOOKUP(F722,WKNrListe_Einzel,Übersicht!$B$7:$B$62))","v":""},null,{"$f":"IF(ISBLANK(H722),\" \",IF(LOOKUP(H722,MannschaftsNrListe,Mannschaften!B$4:B$53)<>0,LOOKUP(H722,MannschaftsNrListe,Mannschaften!B$4:B$53),\"\"))","v":" "},null,null,null,null,null,null,null,null,null,null,null,null,null,null,null,null,null,null,null,null,null,0,{"$f":"IF(NOT(ISBLANK(F722)),LOOKUP(F722,WKNrListe,Übersicht!E$7:E$77),0)","v":0},""]
[null,null,null,null,null,null,{"$f":"IF(ISERROR(MATCH(F723,WKNrListe_Einzel,0)),\"\",LOOKUP(F723,WKNrListe_Einzel,Übersicht!$B$7:$B$62))","v":""},null,{"$f":"IF(ISBLANK(H723),\" \",IF(LOOKUP(H723,MannschaftsNrListe,Mannschaften!B$4:B$53)<>0,LOOKUP(H723,MannschaftsNrListe,Mannschaften!B$4:B$53),\"\"))","v":" "},null,null,null,null,null,null,null,null,null,null,null,null,null,null,null,null,null,null,null,null,null,0,{"$f":"IF(NOT(ISBLANK(F723)),LOOKUP(F723,WKNrListe,Übersicht!E$7:E$77),0)","v":0},""]
[null,null,null,null,null,null,{"$f":"IF(ISERROR(MATCH(F724,WKNrListe_Einzel,0)),\"\",LOOKUP(F724,WKNrListe_Einzel,Übersicht!$B$7:$B$62))","v":""},null,{"$f":"IF(ISBLANK(H724),\" \",IF(LOOKUP(H724,MannschaftsNrListe,Mannschaften!B$4:B$53)<>0,LOOKUP(H724,MannschaftsNrListe,Mannschaften!B$4:B$53),\"\"))","v":" "},null,null,null,null,null,null,null,null,null,null,null,null,null,null,null,null,null,null,null,null,null,0,{"$f":"IF(NOT(ISBLANK(F724)),LOOKUP(F724,WKNrListe,Übersicht!E$7:E$77),0)","v":0},""]
[null,null,null,null,null,null,{"$f":"IF(ISERROR(MATCH(F725,WKNrListe_Einzel,0)),\"\",LOOKUP(F725,WKNrListe_Einzel,Übersicht!$B$7:$B$62))","v":""},null,{"$f":"IF(ISBLANK(H725),\" \",IF(LOOKUP(H725,MannschaftsNrListe,Mannschaften!B$4:B$53)<>0,LOOKUP(H725,MannschaftsNrListe,Mannschaften!B$4:B$53),\"\"))","v":" "},null,null,null,null,null,null,null,null,null,null,null,null,null,null,null,null,null,null,null,null,null,0,{"$f":"IF(NOT(ISBLANK(F725)),LOOKUP(F725,WKNrListe,Übersicht!E$7:E$77),0)","v":0},""]
[null,null,null,null,null,null,{"$f":"IF(ISERROR(MATCH(F726,WKNrListe_Einzel,0)),\"\",LOOKUP(F726,WKNrListe_Einzel,Übersicht!$B$7:$B$62))","v":""},null,{"$f":"IF(ISBLANK(H726),\" \",IF(LOOKUP(H726,MannschaftsNrListe,Mannschaften!B$4:B$53)<>0,LOOKUP(H726,MannschaftsNrListe,Mannschaften!B$4:B$53),\"\"))","v":" "},null,null,null,null,null,null,null,null,null,null,null,null,null,null,null,null,null,null,null,null,null,0,{"$f":"IF(NOT(ISBLANK(F726)),LOOKUP(F726,WKNrListe,Übersicht!E$7:E$77),0)","v":0},""]
[null,null,null,null,null,null,{"$f":"IF(ISERROR(MATCH(F727,WKNrListe_Einzel,0)),\"\",LOOKUP(F727,WKNrListe_Einzel,Übersicht!$B$7:$B$62))","v":""},null,{"$f":"IF(ISBLANK(H727),\" \",IF(LOOKUP(H727,MannschaftsNrListe,Mannschaften!B$4:B$53)<>0,LOOKUP(H727,MannschaftsNrListe,Mannschaften!B$4:B$53),\"\"))","v":" "},null,null,null,null,null,null,null,null,null,null,null,null,null,null,null,null,null,null,null,null,null,0,{"$f":"IF(NOT(ISBLANK(F727)),LOOKUP(F727,WKNrListe,Übersicht!E$7:E$77),0)","v":0},""]
[null,null,null,null,null,null,{"$f":"IF(ISERROR(MATCH(F728,WKNrListe_Einzel,0)),\"\",LOOKUP(F728,WKNrListe_Einzel,Übersicht!$B$7:$B$62))","v":""},null,{"$f":"IF(ISBLANK(H728),\" \",IF(LOOKUP(H728,MannschaftsNrListe,Mannschaften!B$4:B$53)<>0,LOOKUP(H728,MannschaftsNrListe,Mannschaften!B$4:B$53),\"\"))","v":" "},null,null,null,null,null,null,null,null,null,null,null,null,null,null,null,null,null,null,null,null,null,0,{"$f":"IF(NOT(ISBLANK(F728)),LOOKUP(F728,WKNrListe,Übersicht!E$7:E$77),0)","v":0},""]
[null,null,null,null,null,null,{"$f":"IF(ISERROR(MATCH(F729,WKNrListe_Einzel,0)),\"\",LOOKUP(F729,WKNrListe_Einzel,Übersicht!$B$7:$B$62))","v":""},null,{"$f":"IF(ISBLANK(H729),\" \",IF(LOOKUP(H729,MannschaftsNrListe,Mannschaften!B$4:B$53)<>0,LOOKUP(H729,MannschaftsNrListe,Mannschaften!B$4:B$53),\"\"))","v":" "},null,null,null,null,null,null,null,null,null,null,null,null,null,null,null,null,null,null,null,null,null,0,{"$f":"IF(NOT(ISBLANK(F729)),LOOKUP(F729,WKNrListe,Übersicht!E$7:E$77),0)","v":0},""]
[null,null,null,null,null,null,{"$f":"IF(ISERROR(MATCH(F730,WKNrListe_Einzel,0)),\"\",LOOKUP(F730,WKNrListe_Einzel,Übersicht!$B$7:$B$62))","v":""},null,{"$f":"IF(ISBLANK(H730),\" \",IF(LOOKUP(H730,MannschaftsNrListe,Mannschaften!B$4:B$53)<>0,LOOKUP(H730,MannschaftsNrListe,Mannschaften!B$4:B$53),\"\"))","v":" "},null,null,null,null,null,null,null,null,null,null,null,null,null,null,null,null,null,null,null,null,null,0,{"$f":"IF(NOT(ISBLANK(F730)),LOOKUP(F730,WKNrListe,Übersicht!E$7:E$77),0)","v":0},""]
[null,null,null,null,null,null,{"$f":"IF(ISERROR(MATCH(F731,WKNrListe_Einzel,0)),\"\",LOOKUP(F731,WKNrListe_Einzel,Übersicht!$B$7:$B$62))","v":""},null,{"$f":"IF(ISBLANK(H731),\" \",IF(LOOKUP(H731,MannschaftsNrListe,Mannschaften!B$4:B$53)<>0,LOOKUP(H731,MannschaftsNrListe,Mannschaften!B$4:B$53),\"\"))","v":" "},null,null,null,null,null,null,null,null,null,null,null,null,null,null,null,null,null,null,null,null,null,0,{"$f":"IF(NOT(ISBLANK(F731)),LOOKUP(F731,WKNrListe,Übersicht!E$7:E$77),0)","v":0},""]
[null,null,null,null,null,null,{"$f":"IF(ISERROR(MATCH(F732,WKNrListe_Einzel,0)),\"\",LOOKUP(F732,WKNrListe_Einzel,Übersicht!$B$7:$B$62))","v":""},null,{"$f":"IF(ISBLANK(H732),\" \",IF(LOOKUP(H732,MannschaftsNrListe,Mannschaften!B$4:B$53)<>0,LOOKUP(H732,MannschaftsNrListe,Mannschaften!B$4:B$53),\"\"))","v":" "},null,null,null,null,null,null,null,null,null,null,null,null,null,null,null,null,null,null,null,null,null,0,{"$f":"IF(NOT(ISBLANK(F732)),LOOKUP(F732,WKNrListe,Übersicht!E$7:E$77),0)","v":0},""]
[null,null,null,null,null,null,{"$f":"IF(ISERROR(MATCH(F733,WKNrListe_Einzel,0)),\"\",LOOKUP(F733,WKNrListe_Einzel,Übersicht!$B$7:$B$62))","v":""},null,{"$f":"IF(ISBLANK(H733),\" \",IF(LOOKUP(H733,MannschaftsNrListe,Mannschaften!B$4:B$53)<>0,LOOKUP(H733,MannschaftsNrListe,Mannschaften!B$4:B$53),\"\"))","v":" "},null,null,null,null,null,null,null,null,null,null,null,null,null,null,null,null,null,null,null,null,null,0,{"$f":"IF(NOT(ISBLANK(F733)),LOOKUP(F733,WKNrListe,Übersicht!E$7:E$77),0)","v":0},""]
[null,null,null,null,null,null,{"$f":"IF(ISERROR(MATCH(F734,WKNrListe_Einzel,0)),\"\",LOOKUP(F734,WKNrListe_Einzel,Übersicht!$B$7:$B$62))","v":""},null,{"$f":"IF(ISBLANK(H734),\" \",IF(LOOKUP(H734,MannschaftsNrListe,Mannschaften!B$4:B$53)<>0,LOOKUP(H734,MannschaftsNrListe,Mannschaften!B$4:B$53),\"\"))","v":" "},null,null,null,null,null,null,null,null,null,null,null,null,null,null,null,null,null,null,null,null,null,0,{"$f":"IF(NOT(ISBLANK(F734)),LOOKUP(F734,WKNrListe,Übersicht!E$7:E$77),0)","v":0},""]
[null,null,null,null,null,null,{"$f":"IF(ISERROR(MATCH(F735,WKNrListe_Einzel,0)),\"\",LOOKUP(F735,WKNrListe_Einzel,Übersicht!$B$7:$B$62))","v":""},null,{"$f":"IF(ISBLANK(H735),\" \",IF(LOOKUP(H735,MannschaftsNrListe,Mannschaften!B$4:B$53)<>0,LOOKUP(H735,MannschaftsNrListe,Mannschaften!B$4:B$53),\"\"))","v":" "},null,null,null,null,null,null,null,null,null,null,null,null,null,null,null,null,null,null,null,null,null,0,{"$f":"IF(NOT(ISBLANK(F735)),LOOKUP(F735,WKNrListe,Übersicht!E$7:E$77),0)","v":0},""]
[null,null,null,null,null,null,{"$f":"IF(ISERROR(MATCH(F736,WKNrListe_Einzel,0)),\"\",LOOKUP(F736,WKNrListe_Einzel,Übersicht!$B$7:$B$62))","v":""},null,{"$f":"IF(ISBLANK(H736),\" \",IF(LOOKUP(H736,MannschaftsNrListe,Mannschaften!B$4:B$53)<>0,LOOKUP(H736,MannschaftsNrListe,Mannschaften!B$4:B$53),\"\"))","v":" "},null,null,null,null,null,null,null,null,null,null,null,null,null,null,null,null,null,null,null,null,null,0,{"$f":"IF(NOT(ISBLANK(F736)),LOOKUP(F736,WKNrListe,Übersicht!E$7:E$77),0)","v":0},""]
[null,null,null,null,null,null,{"$f":"IF(ISERROR(MATCH(F737,WKNrListe_Einzel,0)),\"\",LOOKUP(F737,WKNrListe_Einzel,Übersicht!$B$7:$B$62))","v":""},null,{"$f":"IF(ISBLANK(H737),\" \",IF(LOOKUP(H737,MannschaftsNrListe,Mannschaften!B$4:B$53)<>0,LOOKUP(H737,MannschaftsNrListe,Mannschaften!B$4:B$53),\"\"))","v":" "},null,null,null,null,null,null,null,null,null,null,null,null,null,null,null,null,null,null,null,null,null,0,{"$f":"IF(NOT(ISBLANK(F737)),LOOKUP(F737,WKNrListe,Übersicht!E$7:E$77),0)","v":0},""]
[null,null,null,null,null,null,{"$f":"IF(ISERROR(MATCH(F738,WKNrListe_Einzel,0)),\"\",LOOKUP(F738,WKNrListe_Einzel,Übersicht!$B$7:$B$62))","v":""},null,{"$f":"IF(ISBLANK(H738),\" \",IF(LOOKUP(H738,MannschaftsNrListe,Mannschaften!B$4:B$53)<>0,LOOKUP(H738,MannschaftsNrListe,Mannschaften!B$4:B$53),\"\"))","v":" "},null,null,null,null,null,null,null,null,null,null,null,null,null,null,null,null,null,null,null,null,null,0,{"$f":"IF(NOT(ISBLANK(F738)),LOOKUP(F738,WKNrListe,Übersicht!E$7:E$77),0)","v":0},""]
[null,null,null,null,null,null,{"$f":"IF(ISERROR(MATCH(F739,WKNrListe_Einzel,0)),\"\",LOOKUP(F739,WKNrListe_Einzel,Übersicht!$B$7:$B$62))","v":""},null,{"$f":"IF(ISBLANK(H739),\" \",IF(LOOKUP(H739,MannschaftsNrListe,Mannschaften!B$4:B$53)<>0,LOOKUP(H739,MannschaftsNrListe,Mannschaften!B$4:B$53),\"\"))","v":" "},null,null,null,null,null,null,null,null,null,null,null,null,null,null,null,null,null,null,null,null,null,0,{"$f":"IF(NOT(ISBLANK(F739)),LOOKUP(F739,WKNrListe,Übersicht!E$7:E$77),0)","v":0},""]
[null,null,null,null,null,null,{"$f":"IF(ISERROR(MATCH(F740,WKNrListe_Einzel,0)),\"\",LOOKUP(F740,WKNrListe_Einzel,Übersicht!$B$7:$B$62))","v":""},null,{"$f":"IF(ISBLANK(H740),\" \",IF(LOOKUP(H740,MannschaftsNrListe,Mannschaften!B$4:B$53)<>0,LOOKUP(H740,MannschaftsNrListe,Mannschaften!B$4:B$53),\"\"))","v":" "},null,null,null,null,null,null,null,null,null,null,null,null,null,null,null,null,null,null,null,null,null,0,{"$f":"IF(NOT(ISBLANK(F740)),LOOKUP(F740,WKNrListe,Übersicht!E$7:E$77),0)","v":0},""]
[null,null,null,null,null,null,{"$f":"IF(ISERROR(MATCH(F741,WKNrListe_Einzel,0)),\"\",LOOKUP(F741,WKNrListe_Einzel,Übersicht!$B$7:$B$62))","v":""},null,{"$f":"IF(ISBLANK(H741),\" \",IF(LOOKUP(H741,MannschaftsNrListe,Mannschaften!B$4:B$53)<>0,LOOKUP(H741,MannschaftsNrListe,Mannschaften!B$4:B$53),\"\"))","v":" "},null,null,null,null,null,null,null,null,null,null,null,null,null,null,null,null,null,null,null,null,null,0,{"$f":"IF(NOT(ISBLANK(F741)),LOOKUP(F741,WKNrListe,Übersicht!E$7:E$77),0)","v":0},""]
[null,null,null,null,null,null,{"$f":"IF(ISERROR(MATCH(F742,WKNrListe_Einzel,0)),\"\",LOOKUP(F742,WKNrListe_Einzel,Übersicht!$B$7:$B$62))","v":""},null,{"$f":"IF(ISBLANK(H742),\" \",IF(LOOKUP(H742,MannschaftsNrListe,Mannschaften!B$4:B$53)<>0,LOOKUP(H742,MannschaftsNrListe,Mannschaften!B$4:B$53),\"\"))","v":" "},null,null,null,null,null,null,null,null,null,null,null,null,null,null,null,null,null,null,null,null,null,0,{"$f":"IF(NOT(ISBLANK(F742)),LOOKUP(F742,WKNrListe,Übersicht!E$7:E$77),0)","v":0},""]
[null,null,null,null,null,null,{"$f":"IF(ISERROR(MATCH(F743,WKNrListe_Einzel,0)),\"\",LOOKUP(F743,WKNrListe_Einzel,Übersicht!$B$7:$B$62))","v":""},null,{"$f":"IF(ISBLANK(H743),\" \",IF(LOOKUP(H743,MannschaftsNrListe,Mannschaften!B$4:B$53)<>0,LOOKUP(H743,MannschaftsNrListe,Mannschaften!B$4:B$53),\"\"))","v":" "},null,null,null,null,null,null,null,null,null,null,null,null,null,null,null,null,null,null,null,null,null,0,{"$f":"IF(NOT(ISBLANK(F743)),LOOKUP(F743,WKNrListe,Übersicht!E$7:E$77),0)","v":0},""]
[null,null,null,null,null,null,{"$f":"IF(ISERROR(MATCH(F744,WKNrListe_Einzel,0)),\"\",LOOKUP(F744,WKNrListe_Einzel,Übersicht!$B$7:$B$62))","v":""},null,{"$f":"IF(ISBLANK(H744),\" \",IF(LOOKUP(H744,MannschaftsNrListe,Mannschaften!B$4:B$53)<>0,LOOKUP(H744,MannschaftsNrListe,Mannschaften!B$4:B$53),\"\"))","v":" "},null,null,null,null,null,null,null,null,null,null,null,null,null,null,null,null,null,null,null,null,null,0,{"$f":"IF(NOT(ISBLANK(F744)),LOOKUP(F744,WKNrListe,Übersicht!E$7:E$77),0)","v":0},""]
[null,null,null,null,null,null,{"$f":"IF(ISERROR(MATCH(F745,WKNrListe_Einzel,0)),\"\",LOOKUP(F745,WKNrListe_Einzel,Übersicht!$B$7:$B$62))","v":""},null,{"$f":"IF(ISBLANK(H745),\" \",IF(LOOKUP(H745,MannschaftsNrListe,Mannschaften!B$4:B$53)<>0,LOOKUP(H745,MannschaftsNrListe,Mannschaften!B$4:B$53),\"\"))","v":" "},null,null,null,null,null,null,null,null,null,null,null,null,null,null,null,null,null,null,null,null,null,0,{"$f":"IF(NOT(ISBLANK(F745)),LOOKUP(F745,WKNrListe,Übersicht!E$7:E$77),0)","v":0},""]
[null,null,null,null,null,null,{"$f":"IF(ISERROR(MATCH(F746,WKNrListe_Einzel,0)),\"\",LOOKUP(F746,WKNrListe_Einzel,Übersicht!$B$7:$B$62))","v":""},null,{"$f":"IF(ISBLANK(H746),\" \",IF(LOOKUP(H746,MannschaftsNrListe,Mannschaften!B$4:B$53)<>0,LOOKUP(H746,MannschaftsNrListe,Mannschaften!B$4:B$53),\"\"))","v":" "},null,null,null,null,null,null,null,null,null,null,null,null,null,null,null,null,null,null,null,null,null,0,{"$f":"IF(NOT(ISBLANK(F746)),LOOKUP(F746,WKNrListe,Übersicht!E$7:E$77),0)","v":0},""]
[null,null,null,null,null,null,{"$f":"IF(ISERROR(MATCH(F747,WKNrListe_Einzel,0)),\"\",LOOKUP(F747,WKNrListe_Einzel,Übersicht!$B$7:$B$62))","v":""},null,{"$f":"IF(ISBLANK(H747),\" \",IF(LOOKUP(H747,MannschaftsNrListe,Mannschaften!B$4:B$53)<>0,LOOKUP(H747,MannschaftsNrListe,Mannschaften!B$4:B$53),\"\"))","v":" "},null,null,null,null,null,null,null,null,null,null,null,null,null,null,null,null,null,null,null,null,null,0,{"$f":"IF(NOT(ISBLANK(F747)),LOOKUP(F747,WKNrListe,Übersicht!E$7:E$77),0)","v":0},""]
[null,null,null,null,null,null,{"$f":"IF(ISERROR(MATCH(F748,WKNrListe_Einzel,0)),\"\",LOOKUP(F748,WKNrListe_Einzel,Übersicht!$B$7:$B$62))","v":""},null,{"$f":"IF(ISBLANK(H748),\" \",IF(LOOKUP(H748,MannschaftsNrListe,Mannschaften!B$4:B$53)<>0,LOOKUP(H748,MannschaftsNrListe,Mannschaften!B$4:B$53),\"\"))","v":" "},null,null,null,null,null,null,null,null,null,null,null,null,null,null,null,null,null,null,null,null,null,0,{"$f":"IF(NOT(ISBLANK(F748)),LOOKUP(F748,WKNrListe,Übersicht!E$7:E$77),0)","v":0},""]
[null,null,null,null,null,null,{"$f":"IF(ISERROR(MATCH(F749,WKNrListe_Einzel,0)),\"\",LOOKUP(F749,WKNrListe_Einzel,Übersicht!$B$7:$B$62))","v":""},null,{"$f":"IF(ISBLANK(H749),\" \",IF(LOOKUP(H749,MannschaftsNrListe,Mannschaften!B$4:B$53)<>0,LOOKUP(H749,MannschaftsNrListe,Mannschaften!B$4:B$53),\"\"))","v":" "},null,null,null,null,null,null,null,null,null,null,null,null,null,null,null,null,null,null,null,null,null,0,{"$f":"IF(NOT(ISBLANK(F749)),LOOKUP(F749,WKNrListe,Übersicht!E$7:E$77),0)","v":0},""]
[null,null,null,null,null,null,{"$f":"IF(ISERROR(MATCH(F750,WKNrListe_Einzel,0)),\"\",LOOKUP(F750,WKNrListe_Einzel,Übersicht!$B$7:$B$62))","v":""},null,{"$f":"IF(ISBLANK(H750),\" \",IF(LOOKUP(H750,MannschaftsNrListe,Mannschaften!B$4:B$53)<>0,LOOKUP(H750,MannschaftsNrListe,Mannschaften!B$4:B$53),\"\"))","v":" "},null,null,null,null,null,null,null,null,null,null,null,null,null,null,null,null,null,null,null,null,null,0,{"$f":"IF(NOT(ISBLANK(F750)),LOOKUP(F750,WKNrListe,Übersicht!E$7:E$77),0)","v":0},""]
[null,null,null,null,null,null,{"$f":"IF(ISERROR(MATCH(F751,WKNrListe_Einzel,0)),\"\",LOOKUP(F751,WKNrListe_Einzel,Übersicht!$B$7:$B$62))","v":""},null,{"$f":"IF(ISBLANK(H751),\" \",IF(LOOKUP(H751,MannschaftsNrListe,Mannschaften!B$4:B$53)<>0,LOOKUP(H751,MannschaftsNrListe,Mannschaften!B$4:B$53),\"\"))","v":" "},null,null,null,null,null,null,null,null,null,null,null,null,null,null,null,null,null,null,null,null,null,0,{"$f":"IF(NOT(ISBLANK(F751)),LOOKUP(F751,WKNrListe,Übersicht!E$7:E$77),0)","v":0},""]
[null,null,null,null,null,null,{"$f":"IF(ISERROR(MATCH(F752,WKNrListe_Einzel,0)),\"\",LOOKUP(F752,WKNrListe_Einzel,Übersicht!$B$7:$B$62))","v":""},null,{"$f":"IF(ISBLANK(H752),\" \",IF(LOOKUP(H752,MannschaftsNrListe,Mannschaften!B$4:B$53)<>0,LOOKUP(H752,MannschaftsNrListe,Mannschaften!B$4:B$53),\"\"))","v":" "},null,null,null,null,null,null,null,null,null,null,null,null,null,null,null,null,null,null,null,null,null,0,{"$f":"IF(NOT(ISBLANK(F752)),LOOKUP(F752,WKNrListe,Übersicht!E$7:E$77),0)","v":0},""]
[null,null,null,null,null,null,{"$f":"IF(ISERROR(MATCH(F753,WKNrListe_Einzel,0)),\"\",LOOKUP(F753,WKNrListe_Einzel,Übersicht!$B$7:$B$62))","v":""},null,{"$f":"IF(ISBLANK(H753),\" \",IF(LOOKUP(H753,MannschaftsNrListe,Mannschaften!B$4:B$53)<>0,LOOKUP(H753,MannschaftsNrListe,Mannschaften!B$4:B$53),\"\"))","v":" "},null,null,null,null,null,null,null,null,null,null,null,null,null,null,null,null,null,null,null,null,null,{"$f":"COUNTIF(J753:AD753,\">''\")","v":0},{"$f":"IF(NOT(ISBLANK(F753)),LOOKUP(F753,WKNrListe,Übersicht!E$7:E$77),0)","v":0},""]
[null,null,null,null,null,null,{"$f":"IF(ISERROR(MATCH(F754,WKNrListe_Einzel,0)),\"\",LOOKUP(F754,WKNrListe_Einzel,Übersicht!$B$7:$B$62))","v":""},null,{"$f":"IF(ISBLANK(H754),\" \",IF(LOOKUP(H754,MannschaftsNrListe,Mannschaften!B$4:B$53)<>0,LOOKUP(H754,MannschaftsNrListe,Mannschaften!B$4:B$53),\"\"))","v":" "},null,null,null,null,null,null,null,null,null,null,null,null,null,null,null,null,null,null,null,null,null,0,{"$f":"IF(NOT(ISBLANK(F754)),LOOKUP(F754,WKNrListe,Übersicht!E$7:E$77),0)","v":0},""]
[null,null,null,null,null,null,{"$f":"IF(ISERROR(MATCH(F755,WKNrListe_Einzel,0)),\"\",LOOKUP(F755,WKNrListe_Einzel,Übersicht!$B$7:$B$62))","v":""},null,{"$f":"IF(ISBLANK(H755),\" \",IF(LOOKUP(H755,MannschaftsNrListe,Mannschaften!B$4:B$53)<>0,LOOKUP(H755,MannschaftsNrListe,Mannschaften!B$4:B$53),\"\"))","v":" "},null,null,null,null,null,null,null,null,null,null,null,null,null,null,null,null,null,null,null,null,null,0,{"$f":"IF(NOT(ISBLANK(F755)),LOOKUP(F755,WKNrListe,Übersicht!E$7:E$77),0)","v":0},""]
[null,null,null,null,null,null,{"$f":"IF(ISERROR(MATCH(F756,WKNrListe_Einzel,0)),\"\",LOOKUP(F756,WKNrListe_Einzel,Übersicht!$B$7:$B$62))","v":""},null,{"$f":"IF(ISBLANK(H756),\" \",IF(LOOKUP(H756,MannschaftsNrListe,Mannschaften!B$4:B$53)<>0,LOOKUP(H756,MannschaftsNrListe,Mannschaften!B$4:B$53),\"\"))","v":" "},null,null,null,null,null,null,null,null,null,null,null,null,null,null,null,null,null,null,null,null,null,0,{"$f":"IF(NOT(ISBLANK(F756)),LOOKUP(F756,WKNrListe,Übersicht!E$7:E$77),0)","v":0},""]
[null,null,null,null,null,null,{"$f":"IF(ISERROR(MATCH(F757,WKNrListe_Einzel,0)),\"\",LOOKUP(F757,WKNrListe_Einzel,Übersicht!$B$7:$B$62))","v":""},null,{"$f":"IF(ISBLANK(H757),\" \",IF(LOOKUP(H757,MannschaftsNrListe,Mannschaften!B$4:B$53)<>0,LOOKUP(H757,MannschaftsNrListe,Mannschaften!B$4:B$53),\"\"))","v":" "},null,null,null,null,null,null,null,null,null,null,null,null,null,null,null,null,null,null,null,null,null,0,{"$f":"IF(NOT(ISBLANK(F757)),LOOKUP(F757,WKNrListe,Übersicht!E$7:E$77),0)","v":0},""]
[null,null,null,null,null,null,{"$f":"IF(ISERROR(MATCH(F758,WKNrListe_Einzel,0)),\"\",LOOKUP(F758,WKNrListe_Einzel,Übersicht!$B$7:$B$62))","v":""},null,{"$f":"IF(ISBLANK(H758),\" \",IF(LOOKUP(H758,MannschaftsNrListe,Mannschaften!B$4:B$53)<>0,LOOKUP(H758,MannschaftsNrListe,Mannschaften!B$4:B$53),\"\"))","v":" "},null,null,null,null,null,null,null,null,null,null,null,null,null,null,null,null,null,null,null,null,null,0,{"$f":"IF(NOT(ISBLANK(F758)),LOOKUP(F758,WKNrListe,Übersicht!E$7:E$77),0)","v":0},""]
[null,null,null,null,null,null,{"$f":"IF(ISERROR(MATCH(F759,WKNrListe_Einzel,0)),\"\",LOOKUP(F759,WKNrListe_Einzel,Übersicht!$B$7:$B$62))","v":""},null,{"$f":"IF(ISBLANK(H759),\" \",IF(LOOKUP(H759,MannschaftsNrListe,Mannschaften!B$4:B$53)<>0,LOOKUP(H759,MannschaftsNrListe,Mannschaften!B$4:B$53),\"\"))","v":" "},null,null,null,null,null,null,null,null,null,null,null,null,null,null,null,null,null,null,null,null,null,0,{"$f":"IF(NOT(ISBLANK(F759)),LOOKUP(F759,WKNrListe,Übersicht!E$7:E$77),0)","v":0},""]
[null,null,null,null,null,null,{"$f":"IF(ISERROR(MATCH(F760,WKNrListe_Einzel,0)),\"\",LOOKUP(F760,WKNrListe_Einzel,Übersicht!$B$7:$B$62))","v":""},null,{"$f":"IF(ISBLANK(H760),\" \",IF(LOOKUP(H760,MannschaftsNrListe,Mannschaften!B$4:B$53)<>0,LOOKUP(H760,MannschaftsNrListe,Mannschaften!B$4:B$53),\"\"))","v":" "},null,null,null,null,null,null,null,null,null,null,null,null,null,null,null,null,null,null,null,null,null,0,{"$f":"IF(NOT(ISBLANK(F760)),LOOKUP(F760,WKNrListe,Übersicht!E$7:E$77),0)","v":0},""]
[null,null,null,null,null,null,{"$f":"IF(ISERROR(MATCH(F761,WKNrListe_Einzel,0)),\"\",LOOKUP(F761,WKNrListe_Einzel,Übersicht!$B$7:$B$62))","v":""},null,{"$f":"IF(ISBLANK(H761),\" \",IF(LOOKUP(H761,MannschaftsNrListe,Mannschaften!B$4:B$53)<>0,LOOKUP(H761,MannschaftsNrListe,Mannschaften!B$4:B$53),\"\"))","v":" "},null,null,null,null,null,null,null,null,null,null,null,null,null,null,null,null,null,null,null,null,null,0,{"$f":"IF(NOT(ISBLANK(F761)),LOOKUP(F761,WKNrListe,Übersicht!E$7:E$77),0)","v":0},""]
[null,null,null,null,null,null,{"$f":"IF(ISERROR(MATCH(F762,WKNrListe_Einzel,0)),\"\",LOOKUP(F762,WKNrListe_Einzel,Übersicht!$B$7:$B$62))","v":""},null,{"$f":"IF(ISBLANK(H762),\" \",IF(LOOKUP(H762,MannschaftsNrListe,Mannschaften!B$4:B$53)<>0,LOOKUP(H762,MannschaftsNrListe,Mannschaften!B$4:B$53),\"\"))","v":" "},null,null,null,null,null,null,null,null,null,null,null,null,null,null,null,null,null,null,null,null,null,0,{"$f":"IF(NOT(ISBLANK(F762)),LOOKUP(F762,WKNrListe,Übersicht!E$7:E$77),0)","v":0},""]
[null,null,null,null,null,null,{"$f":"IF(ISERROR(MATCH(F763,WKNrListe_Einzel,0)),\"\",LOOKUP(F763,WKNrListe_Einzel,Übersicht!$B$7:$B$62))","v":""},null,{"$f":"IF(ISBLANK(H763),\" \",IF(LOOKUP(H763,MannschaftsNrListe,Mannschaften!B$4:B$53)<>0,LOOKUP(H763,MannschaftsNrListe,Mannschaften!B$4:B$53),\"\"))","v":" "},null,null,null,null,null,null,null,null,null,null,null,null,null,null,null,null,null,null,null,null,null,0,{"$f":"IF(NOT(ISBLANK(F763)),LOOKUP(F763,WKNrListe,Übersicht!E$7:E$77),0)","v":0},""]
[null,null,null,null,null,null,{"$f":"IF(ISERROR(MATCH(F764,WKNrListe_Einzel,0)),\"\",LOOKUP(F764,WKNrListe_Einzel,Übersicht!$B$7:$B$62))","v":""},null,{"$f":"IF(ISBLANK(H764),\" \",IF(LOOKUP(H764,MannschaftsNrListe,Mannschaften!B$4:B$53)<>0,LOOKUP(H764,MannschaftsNrListe,Mannschaften!B$4:B$53),\"\"))","v":" "},null,null,null,null,null,null,null,null,null,null,null,null,null,null,null,null,null,null,null,null,null,0,{"$f":"IF(NOT(ISBLANK(F764)),LOOKUP(F764,WKNrListe,Übersicht!E$7:E$77),0)","v":0},""]
[null,null,null,null,null,null,{"$f":"IF(ISERROR(MATCH(F765,WKNrListe_Einzel,0)),\"\",LOOKUP(F765,WKNrListe_Einzel,Übersicht!$B$7:$B$62))","v":""},null,{"$f":"IF(ISBLANK(H765),\" \",IF(LOOKUP(H765,MannschaftsNrListe,Mannschaften!B$4:B$53)<>0,LOOKUP(H765,MannschaftsNrListe,Mannschaften!B$4:B$53),\"\"))","v":" "},null,null,null,null,null,null,null,null,null,null,null,null,null,null,null,null,null,null,null,null,null,0,{"$f":"IF(NOT(ISBLANK(F765)),LOOKUP(F765,WKNrListe,Übersicht!E$7:E$77),0)","v":0},""]
[null,null,null,null,null,null,{"$f":"IF(ISERROR(MATCH(F766,WKNrListe_Einzel,0)),\"\",LOOKUP(F766,WKNrListe_Einzel,Übersicht!$B$7:$B$62))","v":""},null,{"$f":"IF(ISBLANK(H766),\" \",IF(LOOKUP(H766,MannschaftsNrListe,Mannschaften!B$4:B$53)<>0,LOOKUP(H766,MannschaftsNrListe,Mannschaften!B$4:B$53),\"\"))","v":" "},null,null,null,null,null,null,null,null,null,null,null,null,null,null,null,null,null,null,null,null,null,0,{"$f":"IF(NOT(ISBLANK(F766)),LOOKUP(F766,WKNrListe,Übersicht!E$7:E$77),0)","v":0},""]
[null,null,null,null,null,null,{"$f":"IF(ISERROR(MATCH(F767,WKNrListe_Einzel,0)),\"\",LOOKUP(F767,WKNrListe_Einzel,Übersicht!$B$7:$B$62))","v":""},null,{"$f":"IF(ISBLANK(H767),\" \",IF(LOOKUP(H767,MannschaftsNrListe,Mannschaften!B$4:B$53)<>0,LOOKUP(H767,MannschaftsNrListe,Mannschaften!B$4:B$53),\"\"))","v":" "},null,null,null,null,null,null,null,null,null,null,null,null,null,null,null,null,null,null,null,null,null,0,{"$f":"IF(NOT(ISBLANK(F767)),LOOKUP(F767,WKNrListe,Übersicht!E$7:E$77),0)","v":0},""]
[null,null,null,null,null,null,{"$f":"IF(ISERROR(MATCH(F768,WKNrListe_Einzel,0)),\"\",LOOKUP(F768,WKNrListe_Einzel,Übersicht!$B$7:$B$62))","v":""},null,{"$f":"IF(ISBLANK(H768),\" \",IF(LOOKUP(H768,MannschaftsNrListe,Mannschaften!B$4:B$53)<>0,LOOKUP(H768,MannschaftsNrListe,Mannschaften!B$4:B$53),\"\"))","v":" "},null,null,null,null,null,null,null,null,null,null,null,null,null,null,null,null,null,null,null,null,null,0,{"$f":"IF(NOT(ISBLANK(F768)),LOOKUP(F768,WKNrListe,Übersicht!E$7:E$77),0)","v":0},""]
[null,null,null,null,null,null,{"$f":"IF(ISERROR(MATCH(F769,WKNrListe_Einzel,0)),\"\",LOOKUP(F769,WKNrListe_Einzel,Übersicht!$B$7:$B$62))","v":""},null,{"$f":"IF(ISBLANK(H769),\" \",IF(LOOKUP(H769,MannschaftsNrListe,Mannschaften!B$4:B$53)<>0,LOOKUP(H769,MannschaftsNrListe,Mannschaften!B$4:B$53),\"\"))","v":" "},null,null,null,null,null,null,null,null,null,null,null,null,null,null,null,null,null,null,null,null,null,0,{"$f":"IF(NOT(ISBLANK(F769)),LOOKUP(F769,WKNrListe,Übersicht!E$7:E$77),0)","v":0},""]
[null,null,null,null,null,null,{"$f":"IF(ISERROR(MATCH(F770,WKNrListe_Einzel,0)),\"\",LOOKUP(F770,WKNrListe_Einzel,Übersicht!$B$7:$B$62))","v":""},null,{"$f":"IF(ISBLANK(H770),\" \",IF(LOOKUP(H770,MannschaftsNrListe,Mannschaften!B$4:B$53)<>0,LOOKUP(H770,MannschaftsNrListe,Mannschaften!B$4:B$53),\"\"))","v":" "},null,null,null,null,null,null,null,null,null,null,null,null,null,null,null,null,null,null,null,null,null,0,{"$f":"IF(NOT(ISBLANK(F770)),LOOKUP(F770,WKNrListe,Übersicht!E$7:E$77),0)","v":0},""]
[null,null,null,null,null,null,{"$f":"IF(ISERROR(MATCH(F771,WKNrListe_Einzel,0)),\"\",LOOKUP(F771,WKNrListe_Einzel,Übersicht!$B$7:$B$62))","v":""},null,{"$f":"IF(ISBLANK(H771),\" \",IF(LOOKUP(H771,MannschaftsNrListe,Mannschaften!B$4:B$53)<>0,LOOKUP(H771,MannschaftsNrListe,Mannschaften!B$4:B$53),\"\"))","v":" "},null,null,null,null,null,null,null,null,null,null,null,null,null,null,null,null,null,null,null,null,null,0,{"$f":"IF(NOT(ISBLANK(F771)),LOOKUP(F771,WKNrListe,Übersicht!E$7:E$77),0)","v":0},""]
[null,null,null,null,null,null,{"$f":"IF(ISERROR(MATCH(F772,WKNrListe_Einzel,0)),\"\",LOOKUP(F772,WKNrListe_Einzel,Übersicht!$B$7:$B$62))","v":""},null,{"$f":"IF(ISBLANK(H772),\" \",IF(LOOKUP(H772,MannschaftsNrListe,Mannschaften!B$4:B$53)<>0,LOOKUP(H772,MannschaftsNrListe,Mannschaften!B$4:B$53),\"\"))","v":" "},null,null,null,null,null,null,null,null,null,null,null,null,null,null,null,null,null,null,null,null,null,0,{"$f":"IF(NOT(ISBLANK(F772)),LOOKUP(F772,WKNrListe,Übersicht!E$7:E$77),0)","v":0},""]
[null,null,null,null,null,null,{"$f":"IF(ISERROR(MATCH(F773,WKNrListe_Einzel,0)),\"\",LOOKUP(F773,WKNrListe_Einzel,Übersicht!$B$7:$B$62))","v":""},null,{"$f":"IF(ISBLANK(H773),\" \",IF(LOOKUP(H773,MannschaftsNrListe,Mannschaften!B$4:B$53)<>0,LOOKUP(H773,MannschaftsNrListe,Mannschaften!B$4:B$53),\"\"))","v":" "},null,null,null,null,null,null,null,null,null,null,null,null,null,null,null,null,null,null,null,null,null,0,{"$f":"IF(NOT(ISBLANK(F773)),LOOKUP(F773,WKNrListe,Übersicht!E$7:E$77),0)","v":0},{"$f":"IF(\n AND(\n  OR(ISTEXT(A773), ISTEXT(B773), NOT(ISBLANK(E773)), NOT(ISBLANK(F773)), NOT(ISBLANK(H773))),\n  OR(ISBLANK(A773),ISBLANK(B773),AND(ISBLANK(E773),ISBLANK(F773),ISBLANK(H773)))\n ),\n \"unvollständig\",\n IF(\n  AND(\n   NOT(\n    ISBLANK(H773)\n    ),\n   NOT(ISNUMBER(I773))\n  ),\n  \"Seite Mannschaften ausfüllen!\",\n  IF(AF773>AE773,\"zu wenig Disziplinen gewählt\",IF(AE773>AF773,\"zu viele Disziplinen gewählt\",\"\"))\n )\n)","v":""}]
[null,null,null,null,null,null,{"$f":"IF(ISERROR(MATCH(F774,WKNrListe_Einzel,0)),\"\",LOOKUP(F774,WKNrListe_Einzel,Übersicht!$B$7:$B$62))","v":""},null,{"$f":"IF(ISBLANK(H774),\" \",IF(LOOKUP(H774,MannschaftsNrListe,Mannschaften!B$4:B$53)<>0,LOOKUP(H774,MannschaftsNrListe,Mannschaften!B$4:B$53),\"\"))","v":" "},null,null,null,null,null,null,null,null,null,null,null,null,null,null,null,null,null,null,null,null,null,0,{"$f":"IF(NOT(ISBLANK(F774)),LOOKUP(F774,WKNrListe,Übersicht!E$7:E$77),0)","v":0},""]
[null,null,null,null,null,null,{"$f":"IF(ISERROR(MATCH(F775,WKNrListe_Einzel,0)),\"\",LOOKUP(F775,WKNrListe_Einzel,Übersicht!$B$7:$B$62))","v":""},null,{"$f":"IF(ISBLANK(H775),\" \",IF(LOOKUP(H775,MannschaftsNrListe,Mannschaften!B$4:B$53)<>0,LOOKUP(H775,MannschaftsNrListe,Mannschaften!B$4:B$53),\"\"))","v":" "},null,null,null,null,null,null,null,null,null,null,null,null,null,null,null,null,null,null,null,null,null,0,{"$f":"IF(NOT(ISBLANK(F775)),LOOKUP(F775,WKNrListe,Übersicht!E$7:E$77),0)","v":0},""]
[null,null,null,null,null,null,{"$f":"IF(ISERROR(MATCH(F776,WKNrListe_Einzel,0)),\"\",LOOKUP(F776,WKNrListe_Einzel,Übersicht!$B$7:$B$62))","v":""},null,{"$f":"IF(ISBLANK(H776),\" \",IF(LOOKUP(H776,MannschaftsNrListe,Mannschaften!B$4:B$53)<>0,LOOKUP(H776,MannschaftsNrListe,Mannschaften!B$4:B$53),\"\"))","v":" "},null,null,null,null,null,null,null,null,null,null,null,null,null,null,null,null,null,null,null,null,null,0,{"$f":"IF(NOT(ISBLANK(F776)),LOOKUP(F776,WKNrListe,Übersicht!E$7:E$77),0)","v":0},""]
[null,null,null,null,null,null,{"$f":"IF(ISERROR(MATCH(F777,WKNrListe_Einzel,0)),\"\",LOOKUP(F777,WKNrListe_Einzel,Übersicht!$B$7:$B$62))","v":""},null,{"$f":"IF(ISBLANK(H777),\" \",IF(LOOKUP(H777,MannschaftsNrListe,Mannschaften!B$4:B$53)<>0,LOOKUP(H777,MannschaftsNrListe,Mannschaften!B$4:B$53),\"\"))","v":" "},null,null,null,null,null,null,null,null,null,null,null,null,null,null,null,null,null,null,null,null,null,0,{"$f":"IF(NOT(ISBLANK(F777)),LOOKUP(F777,WKNrListe,Übersicht!E$7:E$77),0)","v":0},""]
[null,null,null,null,null,null,{"$f":"IF(ISERROR(MATCH(F778,WKNrListe_Einzel,0)),\"\",LOOKUP(F778,WKNrListe_Einzel,Übersicht!$B$7:$B$62))","v":""},null,{"$f":"IF(ISBLANK(H778),\" \",IF(LOOKUP(H778,MannschaftsNrListe,Mannschaften!B$4:B$53)<>0,LOOKUP(H778,MannschaftsNrListe,Mannschaften!B$4:B$53),\"\"))","v":" "},null,null,null,null,null,null,null,null,null,null,null,null,null,null,null,null,null,null,null,null,null,0,{"$f":"IF(NOT(ISBLANK(F778)),LOOKUP(F778,WKNrListe,Übersicht!E$7:E$77),0)","v":0},""]
[null,null,null,null,null,null,{"$f":"IF(ISERROR(MATCH(F779,WKNrListe_Einzel,0)),\"\",LOOKUP(F779,WKNrListe_Einzel,Übersicht!$B$7:$B$62))","v":""},null,{"$f":"IF(ISBLANK(H779),\" \",IF(LOOKUP(H779,MannschaftsNrListe,Mannschaften!B$4:B$53)<>0,LOOKUP(H779,MannschaftsNrListe,Mannschaften!B$4:B$53),\"\"))","v":" "},null,null,null,null,null,null,null,null,null,null,null,null,null,null,null,null,null,null,null,null,null,0,{"$f":"IF(NOT(ISBLANK(F779)),LOOKUP(F779,WKNrListe,Übersicht!E$7:E$77),0)","v":0},""]
[null,null,null,null,null,null,{"$f":"IF(ISERROR(MATCH(F780,WKNrListe_Einzel,0)),\"\",LOOKUP(F780,WKNrListe_Einzel,Übersicht!$B$7:$B$62))","v":""},null,{"$f":"IF(ISBLANK(H780),\" \",IF(LOOKUP(H780,MannschaftsNrListe,Mannschaften!B$4:B$53)<>0,LOOKUP(H780,MannschaftsNrListe,Mannschaften!B$4:B$53),\"\"))","v":" "},null,null,null,null,null,null,null,null,null,null,null,null,null,null,null,null,null,null,null,null,null,0,{"$f":"IF(NOT(ISBLANK(F780)),LOOKUP(F780,WKNrListe,Übersicht!E$7:E$77),0)","v":0},""]
[null,null,null,null,null,null,{"$f":"IF(ISERROR(MATCH(F781,WKNrListe_Einzel,0)),\"\",LOOKUP(F781,WKNrListe_Einzel,Übersicht!$B$7:$B$62))","v":""},null,{"$f":"IF(ISBLANK(H781),\" \",IF(LOOKUP(H781,MannschaftsNrListe,Mannschaften!B$4:B$53)<>0,LOOKUP(H781,MannschaftsNrListe,Mannschaften!B$4:B$53),\"\"))","v":" "},null,null,null,null,null,null,null,null,null,null,null,null,null,null,null,null,null,null,null,null,null,0,{"$f":"IF(NOT(ISBLANK(F781)),LOOKUP(F781,WKNrListe,Übersicht!E$7:E$77),0)","v":0},""]
[null,null,null,null,null,null,{"$f":"IF(ISERROR(MATCH(F782,WKNrListe_Einzel,0)),\"\",LOOKUP(F782,WKNrListe_Einzel,Übersicht!$B$7:$B$62))","v":""},null,{"$f":"IF(ISBLANK(H782),\" \",IF(LOOKUP(H782,MannschaftsNrListe,Mannschaften!B$4:B$53)<>0,LOOKUP(H782,MannschaftsNrListe,Mannschaften!B$4:B$53),\"\"))","v":" "},null,null,null,null,null,null,null,null,null,null,null,null,null,null,null,null,null,null,null,null,null,0,{"$f":"IF(NOT(ISBLANK(F782)),LOOKUP(F782,WKNrListe,Übersicht!E$7:E$77),0)","v":0},""]
[null,null,null,null,null,null,{"$f":"IF(ISERROR(MATCH(F783,WKNrListe_Einzel,0)),\"\",LOOKUP(F783,WKNrListe_Einzel,Übersicht!$B$7:$B$62))","v":""},null,{"$f":"IF(ISBLANK(H783),\" \",IF(LOOKUP(H783,MannschaftsNrListe,Mannschaften!B$4:B$53)<>0,LOOKUP(H783,MannschaftsNrListe,Mannschaften!B$4:B$53),\"\"))","v":" "},null,null,null,null,null,null,null,null,null,null,null,null,null,null,null,null,null,null,null,null,null,0,{"$f":"IF(NOT(ISBLANK(F783)),LOOKUP(F783,WKNrListe,Übersicht!E$7:E$77),0)","v":0},""]
[null,null,null,null,null,null,{"$f":"IF(ISERROR(MATCH(F784,WKNrListe_Einzel,0)),\"\",LOOKUP(F784,WKNrListe_Einzel,Übersicht!$B$7:$B$62))","v":""},null,{"$f":"IF(ISBLANK(H784),\" \",IF(LOOKUP(H784,MannschaftsNrListe,Mannschaften!B$4:B$53)<>0,LOOKUP(H784,MannschaftsNrListe,Mannschaften!B$4:B$53),\"\"))","v":" "},null,null,null,null,null,null,null,null,null,null,null,null,null,null,null,null,null,null,null,null,null,0,{"$f":"IF(NOT(ISBLANK(F784)),LOOKUP(F784,WKNrListe,Übersicht!E$7:E$77),0)","v":0},""]
[null,null,null,null,null,null,{"$f":"IF(ISERROR(MATCH(F785,WKNrListe_Einzel,0)),\"\",LOOKUP(F785,WKNrListe_Einzel,Übersicht!$B$7:$B$62))","v":""},null,{"$f":"IF(ISBLANK(H785),\" \",IF(LOOKUP(H785,MannschaftsNrListe,Mannschaften!B$4:B$53)<>0,LOOKUP(H785,MannschaftsNrListe,Mannschaften!B$4:B$53),\"\"))","v":" "},null,null,null,null,null,null,null,null,null,null,null,null,null,null,null,null,null,null,null,null,null,0,{"$f":"IF(NOT(ISBLANK(F785)),LOOKUP(F785,WKNrListe,Übersicht!E$7:E$77),0)","v":0},""]
[null,null,null,null,null,null,{"$f":"IF(ISERROR(MATCH(F786,WKNrListe_Einzel,0)),\"\",LOOKUP(F786,WKNrListe_Einzel,Übersicht!$B$7:$B$62))","v":""},null,{"$f":"IF(ISBLANK(H786),\" \",IF(LOOKUP(H786,MannschaftsNrListe,Mannschaften!B$4:B$53)<>0,LOOKUP(H786,MannschaftsNrListe,Mannschaften!B$4:B$53),\"\"))","v":" "},null,null,null,null,null,null,null,null,null,null,null,null,null,null,null,null,null,null,null,null,null,0,{"$f":"IF(NOT(ISBLANK(F786)),LOOKUP(F786,WKNrListe,Übersicht!E$7:E$77),0)","v":0},""]
[null,null,null,null,null,null,{"$f":"IF(ISERROR(MATCH(F787,WKNrListe_Einzel,0)),\"\",LOOKUP(F787,WKNrListe_Einzel,Übersicht!$B$7:$B$62))","v":""},null,{"$f":"IF(ISBLANK(H787),\" \",IF(LOOKUP(H787,MannschaftsNrListe,Mannschaften!B$4:B$53)<>0,LOOKUP(H787,MannschaftsNrListe,Mannschaften!B$4:B$53),\"\"))","v":" "},null,null,null,null,null,null,null,null,null,null,null,null,null,null,null,null,null,null,null,null,null,0,{"$f":"IF(NOT(ISBLANK(F787)),LOOKUP(F787,WKNrListe,Übersicht!E$7:E$77),0)","v":0},""]
[null,null,null,null,null,null,{"$f":"IF(ISERROR(MATCH(F788,WKNrListe_Einzel,0)),\"\",LOOKUP(F788,WKNrListe_Einzel,Übersicht!$B$7:$B$62))","v":""},null,{"$f":"IF(ISBLANK(H788),\" \",IF(LOOKUP(H788,MannschaftsNrListe,Mannschaften!B$4:B$53)<>0,LOOKUP(H788,MannschaftsNrListe,Mannschaften!B$4:B$53),\"\"))","v":" "},null,null,null,null,null,null,null,null,null,null,null,null,null,null,null,null,null,null,null,null,null,0,{"$f":"IF(NOT(ISBLANK(F788)),LOOKUP(F788,WKNrListe,Übersicht!E$7:E$77),0)","v":0},""]
[null,null,null,null,null,null,{"$f":"IF(ISERROR(MATCH(F789,WKNrListe_Einzel,0)),\"\",LOOKUP(F789,WKNrListe_Einzel,Übersicht!$B$7:$B$62))","v":""},null,{"$f":"IF(ISBLANK(H789),\" \",IF(LOOKUP(H789,MannschaftsNrListe,Mannschaften!B$4:B$53)<>0,LOOKUP(H789,MannschaftsNrListe,Mannschaften!B$4:B$53),\"\"))","v":" "},null,null,null,null,null,null,null,null,null,null,null,null,null,null,null,null,null,null,null,null,null,0,{"$f":"IF(NOT(ISBLANK(F789)),LOOKUP(F789,WKNrListe,Übersicht!E$7:E$77),0)","v":0},""]
[null,null,null,null,null,null,{"$f":"IF(ISERROR(MATCH(F790,WKNrListe_Einzel,0)),\"\",LOOKUP(F790,WKNrListe_Einzel,Übersicht!$B$7:$B$62))","v":""},null,{"$f":"IF(ISBLANK(H790),\" \",IF(LOOKUP(H790,MannschaftsNrListe,Mannschaften!B$4:B$53)<>0,LOOKUP(H790,MannschaftsNrListe,Mannschaften!B$4:B$53),\"\"))","v":" "},null,null,null,null,null,null,null,null,null,null,null,null,null,null,null,null,null,null,null,null,null,0,{"$f":"IF(NOT(ISBLANK(F790)),LOOKUP(F790,WKNrListe,Übersicht!E$7:E$77),0)","v":0},""]
[null,null,null,null,null,null,{"$f":"IF(ISERROR(MATCH(F791,WKNrListe_Einzel,0)),\"\",LOOKUP(F791,WKNrListe_Einzel,Übersicht!$B$7:$B$62))","v":""},null,{"$f":"IF(ISBLANK(H791),\" \",IF(LOOKUP(H791,MannschaftsNrListe,Mannschaften!B$4:B$53)<>0,LOOKUP(H791,MannschaftsNrListe,Mannschaften!B$4:B$53),\"\"))","v":" "},null,null,null,null,null,null,null,null,null,null,null,null,null,null,null,null,null,null,null,null,null,0,{"$f":"IF(NOT(ISBLANK(F791)),LOOKUP(F791,WKNrListe,Übersicht!E$7:E$77),0)","v":0},""]
[null,null,null,null,null,null,{"$f":"IF(ISERROR(MATCH(F792,WKNrListe_Einzel,0)),\"\",LOOKUP(F792,WKNrListe_Einzel,Übersicht!$B$7:$B$62))","v":""},null,{"$f":"IF(ISBLANK(H792),\" \",IF(LOOKUP(H792,MannschaftsNrListe,Mannschaften!B$4:B$53)<>0,LOOKUP(H792,MannschaftsNrListe,Mannschaften!B$4:B$53),\"\"))","v":" "},null,null,null,null,null,null,null,null,null,null,null,null,null,null,null,null,null,null,null,null,null,0,{"$f":"IF(NOT(ISBLANK(F792)),LOOKUP(F792,WKNrListe,Übersicht!E$7:E$77),0)","v":0},""]
[null,null,null,null,null,null,{"$f":"IF(ISERROR(MATCH(F793,WKNrListe_Einzel,0)),\"\",LOOKUP(F793,WKNrListe_Einzel,Übersicht!$B$7:$B$62))","v":""},null,{"$f":"IF(ISBLANK(H793),\" \",IF(LOOKUP(H793,MannschaftsNrListe,Mannschaften!B$4:B$53)<>0,LOOKUP(H793,MannschaftsNrListe,Mannschaften!B$4:B$53),\"\"))","v":" "},null,null,null,null,null,null,null,null,null,null,null,null,null,null,null,null,null,null,null,null,null,0,{"$f":"IF(NOT(ISBLANK(F793)),LOOKUP(F793,WKNrListe,Übersicht!E$7:E$77),0)","v":0},""]
[null,null,null,null,null,null,{"$f":"IF(ISERROR(MATCH(F794,WKNrListe_Einzel,0)),\"\",LOOKUP(F794,WKNrListe_Einzel,Übersicht!$B$7:$B$62))","v":""},null,{"$f":"IF(ISBLANK(H794),\" \",IF(LOOKUP(H794,MannschaftsNrListe,Mannschaften!B$4:B$53)<>0,LOOKUP(H794,MannschaftsNrListe,Mannschaften!B$4:B$53),\"\"))","v":" "},null,null,null,null,null,null,null,null,null,null,null,null,null,null,null,null,null,null,null,null,null,0,{"$f":"IF(NOT(ISBLANK(F794)),LOOKUP(F794,WKNrListe,Übersicht!E$7:E$77),0)","v":0},""]
[null,null,null,null,null,null,{"$f":"IF(ISERROR(MATCH(F795,WKNrListe_Einzel,0)),\"\",LOOKUP(F795,WKNrListe_Einzel,Übersicht!$B$7:$B$62))","v":""},null,{"$f":"IF(ISBLANK(H795),\" \",IF(LOOKUP(H795,MannschaftsNrListe,Mannschaften!B$4:B$53)<>0,LOOKUP(H795,MannschaftsNrListe,Mannschaften!B$4:B$53),\"\"))","v":" "},null,null,null,null,null,null,null,null,null,null,null,null,null,null,null,null,null,null,null,null,null,0,{"$f":"IF(NOT(ISBLANK(F795)),LOOKUP(F795,WKNrListe,Übersicht!E$7:E$77),0)","v":0},""]
[null,null,null,null,null,null,{"$f":"IF(ISERROR(MATCH(F796,WKNrListe_Einzel,0)),\"\",LOOKUP(F796,WKNrListe_Einzel,Übersicht!$B$7:$B$62))","v":""},null,{"$f":"IF(ISBLANK(H796),\" \",IF(LOOKUP(H796,MannschaftsNrListe,Mannschaften!B$4:B$53)<>0,LOOKUP(H796,MannschaftsNrListe,Mannschaften!B$4:B$53),\"\"))","v":" "},null,null,null,null,null,null,null,null,null,null,null,null,null,null,null,null,null,null,null,null,null,0,{"$f":"IF(NOT(ISBLANK(F796)),LOOKUP(F796,WKNrListe,Übersicht!E$7:E$77),0)","v":0},""]
[null,null,null,null,null,null,{"$f":"IF(ISERROR(MATCH(F797,WKNrListe_Einzel,0)),\"\",LOOKUP(F797,WKNrListe_Einzel,Übersicht!$B$7:$B$62))","v":""},null,{"$f":"IF(ISBLANK(H797),\" \",IF(LOOKUP(H797,MannschaftsNrListe,Mannschaften!B$4:B$53)<>0,LOOKUP(H797,MannschaftsNrListe,Mannschaften!B$4:B$53),\"\"))","v":" "},null,null,null,null,null,null,null,null,null,null,null,null,null,null,null,null,null,null,null,null,null,0,{"$f":"IF(NOT(ISBLANK(F797)),LOOKUP(F797,WKNrListe,Übersicht!E$7:E$77),0)","v":0},""]
[null,null,null,null,null,null,{"$f":"IF(ISERROR(MATCH(F798,WKNrListe_Einzel,0)),\"\",LOOKUP(F798,WKNrListe_Einzel,Übersicht!$B$7:$B$62))","v":""},null,{"$f":"IF(ISBLANK(H798),\" \",IF(LOOKUP(H798,MannschaftsNrListe,Mannschaften!B$4:B$53)<>0,LOOKUP(H798,MannschaftsNrListe,Mannschaften!B$4:B$53),\"\"))","v":" "},null,null,null,null,null,null,null,null,null,null,null,null,null,null,null,null,null,null,null,null,null,0,{"$f":"IF(NOT(ISBLANK(F798)),LOOKUP(F798,WKNrListe,Übersicht!E$7:E$77),0)","v":0},""]
[null,null,null,null,null,null,{"$f":"IF(ISERROR(MATCH(F799,WKNrListe_Einzel,0)),\"\",LOOKUP(F799,WKNrListe_Einzel,Übersicht!$B$7:$B$62))","v":""},null,{"$f":"IF(ISBLANK(H799),\" \",IF(LOOKUP(H799,MannschaftsNrListe,Mannschaften!B$4:B$53)<>0,LOOKUP(H799,MannschaftsNrListe,Mannschaften!B$4:B$53),\"\"))","v":" "},null,null,null,null,null,null,null,null,null,null,null,null,null,null,null,null,null,null,null,null,null,0,{"$f":"IF(NOT(ISBLANK(F799)),LOOKUP(F799,WKNrListe,Übersicht!E$7:E$77),0)","v":0},""]
[null,null,null,null,null,null,{"$f":"IF(ISERROR(MATCH(F800,WKNrListe_Einzel,0)),\"\",LOOKUP(F800,WKNrListe_Einzel,Übersicht!$B$7:$B$62))","v":""},null,{"$f":"IF(ISBLANK(H800),\" \",IF(LOOKUP(H800,MannschaftsNrListe,Mannschaften!B$4:B$53)<>0,LOOKUP(H800,MannschaftsNrListe,Mannschaften!B$4:B$53),\"\"))","v":" "},null,null,null,null,null,null,null,null,null,null,null,null,null,null,null,null,null,null,null,null,null,0,{"$f":"IF(NOT(ISBLANK(F800)),LOOKUP(F800,WKNrListe,Übersicht!E$7:E$77),0)","v":0},""]
[null,null,null,null,null,null,{"$f":"IF(ISERROR(MATCH(F801,WKNrListe_Einzel,0)),\"\",LOOKUP(F801,WKNrListe_Einzel,Übersicht!$B$7:$B$62))","v":""},null,{"$f":"IF(ISBLANK(H801),\" \",IF(LOOKUP(H801,MannschaftsNrListe,Mannschaften!B$4:B$53)<>0,LOOKUP(H801,MannschaftsNrListe,Mannschaften!B$4:B$53),\"\"))","v":" "},null,null,null,null,null,null,null,null,null,null,null,null,null,null,null,null,null,null,null,null,null,0,{"$f":"IF(NOT(ISBLANK(F801)),LOOKUP(F801,WKNrListe,Übersicht!E$7:E$77),0)","v":0},""]
[null,null,null,null,null,null,{"$f":"IF(ISERROR(MATCH(F802,WKNrListe_Einzel,0)),\"\",LOOKUP(F802,WKNrListe_Einzel,Übersicht!$B$7:$B$62))","v":""},null,{"$f":"IF(ISBLANK(H802),\" \",IF(LOOKUP(H802,MannschaftsNrListe,Mannschaften!B$4:B$53)<>0,LOOKUP(H802,MannschaftsNrListe,Mannschaften!B$4:B$53),\"\"))","v":" "},null,null,null,null,null,null,null,null,null,null,null,null,null,null,null,null,null,null,null,null,null,0,{"$f":"IF(NOT(ISBLANK(F802)),LOOKUP(F802,WKNrListe,Übersicht!E$7:E$77),0)","v":0},""]
[null,null,null,null,null,null,{"$f":"IF(ISERROR(MATCH(F803,WKNrListe_Einzel,0)),\"\",LOOKUP(F803,WKNrListe_Einzel,Übersicht!$B$7:$B$62))","v":""},null,{"$f":"IF(ISBLANK(H803),\" \",IF(LOOKUP(H803,MannschaftsNrListe,Mannschaften!B$4:B$53)<>0,LOOKUP(H803,MannschaftsNrListe,Mannschaften!B$4:B$53),\"\"))","v":" "},null,null,null,null,null,null,null,null,null,null,null,null,null,null,null,null,null,null,null,null,null,0,{"$f":"IF(NOT(ISBLANK(F803)),LOOKUP(F803,WKNrListe,Übersicht!E$7:E$77),0)","v":0},""]
[null,null,null,null,null,null,{"$f":"IF(ISERROR(MATCH(F804,WKNrListe_Einzel,0)),\"\",LOOKUP(F804,WKNrListe_Einzel,Übersicht!$B$7:$B$62))","v":""},null,{"$f":"IF(ISBLANK(H804),\" \",IF(LOOKUP(H804,MannschaftsNrListe,Mannschaften!B$4:B$53)<>0,LOOKUP(H804,MannschaftsNrListe,Mannschaften!B$4:B$53),\"\"))","v":" "},null,null,null,null,null,null,null,null,null,null,null,null,null,null,null,null,null,null,null,null,null,0,{"$f":"IF(NOT(ISBLANK(F804)),LOOKUP(F804,WKNrListe,Übersicht!E$7:E$77),0)","v":0},""]
[null,null,null,null,null,null,{"$f":"IF(ISERROR(MATCH(F805,WKNrListe_Einzel,0)),\"\",LOOKUP(F805,WKNrListe_Einzel,Übersicht!$B$7:$B$62))","v":""},null,{"$f":"IF(ISBLANK(H805),\" \",IF(LOOKUP(H805,MannschaftsNrListe,Mannschaften!B$4:B$53)<>0,LOOKUP(H805,MannschaftsNrListe,Mannschaften!B$4:B$53),\"\"))","v":" "},null,null,null,null,null,null,null,null,null,null,null,null,null,null,null,null,null,null,null,null,null,0,{"$f":"IF(NOT(ISBLANK(F805)),LOOKUP(F805,WKNrListe,Übersicht!E$7:E$77),0)","v":0},""]
[null,null,null,null,null,null,{"$f":"IF(ISERROR(MATCH(F806,WKNrListe_Einzel,0)),\"\",LOOKUP(F806,WKNrListe_Einzel,Übersicht!$B$7:$B$62))","v":""},null,{"$f":"IF(ISBLANK(H806),\" \",IF(LOOKUP(H806,MannschaftsNrListe,Mannschaften!B$4:B$53)<>0,LOOKUP(H806,MannschaftsNrListe,Mannschaften!B$4:B$53),\"\"))","v":" "},null,null,null,null,null,null,null,null,null,null,null,null,null,null,null,null,null,null,null,null,null,0,{"$f":"IF(NOT(ISBLANK(F806)),LOOKUP(F806,WKNrListe,Übersicht!E$7:E$77),0)","v":0},""]
[null,null,null,null,null,null,{"$f":"IF(ISERROR(MATCH(F807,WKNrListe_Einzel,0)),\"\",LOOKUP(F807,WKNrListe_Einzel,Übersicht!$B$7:$B$62))","v":""},null,{"$f":"IF(ISBLANK(H807),\" \",IF(LOOKUP(H807,MannschaftsNrListe,Mannschaften!B$4:B$53)<>0,LOOKUP(H807,MannschaftsNrListe,Mannschaften!B$4:B$53),\"\"))","v":" "},null,null,null,null,null,null,null,null,null,null,null,null,null,null,null,null,null,null,null,null,null,0,{"$f":"IF(NOT(ISBLANK(F807)),LOOKUP(F807,WKNrListe,Übersicht!E$7:E$77),0)","v":0},""]
[null,null,null,null,null,null,{"$f":"IF(ISERROR(MATCH(F808,WKNrListe_Einzel,0)),\"\",LOOKUP(F808,WKNrListe_Einzel,Übersicht!$B$7:$B$62))","v":""},null,{"$f":"IF(ISBLANK(H808),\" \",IF(LOOKUP(H808,MannschaftsNrListe,Mannschaften!B$4:B$53)<>0,LOOKUP(H808,MannschaftsNrListe,Mannschaften!B$4:B$53),\"\"))","v":" "},null,null,null,null,null,null,null,null,null,null,null,null,null,null,null,null,null,null,null,null,null,0,{"$f":"IF(NOT(ISBLANK(F808)),LOOKUP(F808,WKNrListe,Übersicht!E$7:E$77),0)","v":0},""]
[null,null,null,null,null,null,{"$f":"IF(ISERROR(MATCH(F809,WKNrListe_Einzel,0)),\"\",LOOKUP(F809,WKNrListe_Einzel,Übersicht!$B$7:$B$62))","v":""},null,{"$f":"IF(ISBLANK(H809),\" \",IF(LOOKUP(H809,MannschaftsNrListe,Mannschaften!B$4:B$53)<>0,LOOKUP(H809,MannschaftsNrListe,Mannschaften!B$4:B$53),\"\"))","v":" "},null,null,null,null,null,null,null,null,null,null,null,null,null,null,null,null,null,null,null,null,null,0,{"$f":"IF(NOT(ISBLANK(F809)),LOOKUP(F809,WKNrListe,Übersicht!E$7:E$77),0)","v":0},""]
[null,null,null,null,null,null,{"$f":"IF(ISERROR(MATCH(F810,WKNrListe_Einzel,0)),\"\",LOOKUP(F810,WKNrListe_Einzel,Übersicht!$B$7:$B$62))","v":""},null,{"$f":"IF(ISBLANK(H810),\" \",IF(LOOKUP(H810,MannschaftsNrListe,Mannschaften!B$4:B$53)<>0,LOOKUP(H810,MannschaftsNrListe,Mannschaften!B$4:B$53),\"\"))","v":" "},null,null,null,null,null,null,null,null,null,null,null,null,null,null,null,null,null,null,null,null,null,0,{"$f":"IF(NOT(ISBLANK(F810)),LOOKUP(F810,WKNrListe,Übersicht!E$7:E$77),0)","v":0},""]
[null,null,null,null,null,null,{"$f":"IF(ISERROR(MATCH(F811,WKNrListe_Einzel,0)),\"\",LOOKUP(F811,WKNrListe_Einzel,Übersicht!$B$7:$B$62))","v":""},null,{"$f":"IF(ISBLANK(H811),\" \",IF(LOOKUP(H811,MannschaftsNrListe,Mannschaften!B$4:B$53)<>0,LOOKUP(H811,MannschaftsNrListe,Mannschaften!B$4:B$53),\"\"))","v":" "},null,null,null,null,null,null,null,null,null,null,null,null,null,null,null,null,null,null,null,null,null,0,{"$f":"IF(NOT(ISBLANK(F811)),LOOKUP(F811,WKNrListe,Übersicht!E$7:E$77),0)","v":0},""]
[null,null,null,null,null,null,{"$f":"IF(ISERROR(MATCH(F812,WKNrListe_Einzel,0)),\"\",LOOKUP(F812,WKNrListe_Einzel,Übersicht!$B$7:$B$62))","v":""},null,{"$f":"IF(ISBLANK(H812),\" \",IF(LOOKUP(H812,MannschaftsNrListe,Mannschaften!B$4:B$53)<>0,LOOKUP(H812,MannschaftsNrListe,Mannschaften!B$4:B$53),\"\"))","v":" "},null,null,null,null,null,null,null,null,null,null,null,null,null,null,null,null,null,null,null,null,null,0,{"$f":"IF(NOT(ISBLANK(F812)),LOOKUP(F812,WKNrListe,Übersicht!E$7:E$77),0)","v":0},""]
[null,null,null,null,null,null,{"$f":"IF(ISERROR(MATCH(F813,WKNrListe_Einzel,0)),\"\",LOOKUP(F813,WKNrListe_Einzel,Übersicht!$B$7:$B$62))","v":""},null,{"$f":"IF(ISBLANK(H813),\" \",IF(LOOKUP(H813,MannschaftsNrListe,Mannschaften!B$4:B$53)<>0,LOOKUP(H813,MannschaftsNrListe,Mannschaften!B$4:B$53),\"\"))","v":" "},null,null,null,null,null,null,null,null,null,null,null,null,null,null,null,null,null,null,null,null,null,0,{"$f":"IF(NOT(ISBLANK(F813)),LOOKUP(F813,WKNrListe,Übersicht!E$7:E$77),0)","v":0},""]
[null,null,null,null,null,null,{"$f":"IF(ISERROR(MATCH(F814,WKNrListe_Einzel,0)),\"\",LOOKUP(F814,WKNrListe_Einzel,Übersicht!$B$7:$B$62))","v":""},null,{"$f":"IF(ISBLANK(H814),\" \",IF(LOOKUP(H814,MannschaftsNrListe,Mannschaften!B$4:B$53)<>0,LOOKUP(H814,MannschaftsNrListe,Mannschaften!B$4:B$53),\"\"))","v":" "},null,null,null,null,null,null,null,null,null,null,null,null,null,null,null,null,null,null,null,null,null,0,{"$f":"IF(NOT(ISBLANK(F814)),LOOKUP(F814,WKNrListe,Übersicht!E$7:E$77),0)","v":0},""]
[null,null,null,null,null,null,{"$f":"IF(ISERROR(MATCH(F815,WKNrListe_Einzel,0)),\"\",LOOKUP(F815,WKNrListe_Einzel,Übersicht!$B$7:$B$62))","v":""},null,{"$f":"IF(ISBLANK(H815),\" \",IF(LOOKUP(H815,MannschaftsNrListe,Mannschaften!B$4:B$53)<>0,LOOKUP(H815,MannschaftsNrListe,Mannschaften!B$4:B$53),\"\"))","v":" "},null,null,null,null,null,null,null,null,null,null,null,null,null,null,null,null,null,null,null,null,null,0,{"$f":"IF(NOT(ISBLANK(F815)),LOOKUP(F815,WKNrListe,Übersicht!E$7:E$77),0)","v":0},""]
[null,null,null,null,null,null,{"$f":"IF(ISERROR(MATCH(F816,WKNrListe_Einzel,0)),\"\",LOOKUP(F816,WKNrListe_Einzel,Übersicht!$B$7:$B$62))","v":""},null,{"$f":"IF(ISBLANK(H816),\" \",IF(LOOKUP(H816,MannschaftsNrListe,Mannschaften!B$4:B$53)<>0,LOOKUP(H816,MannschaftsNrListe,Mannschaften!B$4:B$53),\"\"))","v":" "},null,null,null,null,null,null,null,null,null,null,null,null,null,null,null,null,null,null,null,null,null,0,{"$f":"IF(NOT(ISBLANK(F816)),LOOKUP(F816,WKNrListe,Übersicht!E$7:E$77),0)","v":0},""]
[null,null,null,null,null,null,{"$f":"IF(ISERROR(MATCH(F817,WKNrListe_Einzel,0)),\"\",LOOKUP(F817,WKNrListe_Einzel,Übersicht!$B$7:$B$62))","v":""},null,{"$f":"IF(ISBLANK(H817),\" \",IF(LOOKUP(H817,MannschaftsNrListe,Mannschaften!B$4:B$53)<>0,LOOKUP(H817,MannschaftsNrListe,Mannschaften!B$4:B$53),\"\"))","v":" "},null,null,null,null,null,null,null,null,null,null,null,null,null,null,null,null,null,null,null,null,null,{"$f":"COUNTIF(J817:AD817,\">''\")","v":0},{"$f":"IF(NOT(ISBLANK(F817)),LOOKUP(F817,WKNrListe,Übersicht!E$7:E$77),0)","v":0},""]
[null,null,null,null,null,null,{"$f":"IF(ISERROR(MATCH(F818,WKNrListe_Einzel,0)),\"\",LOOKUP(F818,WKNrListe_Einzel,Übersicht!$B$7:$B$62))","v":""},null,{"$f":"IF(ISBLANK(H818),\" \",IF(LOOKUP(H818,MannschaftsNrListe,Mannschaften!B$4:B$53)<>0,LOOKUP(H818,MannschaftsNrListe,Mannschaften!B$4:B$53),\"\"))","v":" "},null,null,null,null,null,null,null,null,null,null,null,null,null,null,null,null,null,null,null,null,null,0,{"$f":"IF(NOT(ISBLANK(F818)),LOOKUP(F818,WKNrListe,Übersicht!E$7:E$77),0)","v":0},""]
[null,null,null,null,null,null,{"$f":"IF(ISERROR(MATCH(F819,WKNrListe_Einzel,0)),\"\",LOOKUP(F819,WKNrListe_Einzel,Übersicht!$B$7:$B$62))","v":""},null,{"$f":"IF(ISBLANK(H819),\" \",IF(LOOKUP(H819,MannschaftsNrListe,Mannschaften!B$4:B$53)<>0,LOOKUP(H819,MannschaftsNrListe,Mannschaften!B$4:B$53),\"\"))","v":" "},null,null,null,null,null,null,null,null,null,null,null,null,null,null,null,null,null,null,null,null,null,0,{"$f":"IF(NOT(ISBLANK(F819)),LOOKUP(F819,WKNrListe,Übersicht!E$7:E$77),0)","v":0},""]
[null,null,null,null,null,null,{"$f":"IF(ISERROR(MATCH(F820,WKNrListe_Einzel,0)),\"\",LOOKUP(F820,WKNrListe_Einzel,Übersicht!$B$7:$B$62))","v":""},null,{"$f":"IF(ISBLANK(H820),\" \",IF(LOOKUP(H820,MannschaftsNrListe,Mannschaften!B$4:B$53)<>0,LOOKUP(H820,MannschaftsNrListe,Mannschaften!B$4:B$53),\"\"))","v":" "},null,null,null,null,null,null,null,null,null,null,null,null,null,null,null,null,null,null,null,null,null,0,{"$f":"IF(NOT(ISBLANK(F820)),LOOKUP(F820,WKNrListe,Übersicht!E$7:E$77),0)","v":0},""]
[null,null,null,null,null,null,{"$f":"IF(ISERROR(MATCH(F821,WKNrListe_Einzel,0)),\"\",LOOKUP(F821,WKNrListe_Einzel,Übersicht!$B$7:$B$62))","v":""},null,{"$f":"IF(ISBLANK(H821),\" \",IF(LOOKUP(H821,MannschaftsNrListe,Mannschaften!B$4:B$53)<>0,LOOKUP(H821,MannschaftsNrListe,Mannschaften!B$4:B$53),\"\"))","v":" "},null,null,null,null,null,null,null,null,null,null,null,null,null,null,null,null,null,null,null,null,null,0,{"$f":"IF(NOT(ISBLANK(F821)),LOOKUP(F821,WKNrListe,Übersicht!E$7:E$77),0)","v":0},""]
[null,null,null,null,null,null,{"$f":"IF(ISERROR(MATCH(F822,WKNrListe_Einzel,0)),\"\",LOOKUP(F822,WKNrListe_Einzel,Übersicht!$B$7:$B$62))","v":""},null,{"$f":"IF(ISBLANK(H822),\" \",IF(LOOKUP(H822,MannschaftsNrListe,Mannschaften!B$4:B$53)<>0,LOOKUP(H822,MannschaftsNrListe,Mannschaften!B$4:B$53),\"\"))","v":" "},null,null,null,null,null,null,null,null,null,null,null,null,null,null,null,null,null,null,null,null,null,0,{"$f":"IF(NOT(ISBLANK(F822)),LOOKUP(F822,WKNrListe,Übersicht!E$7:E$77),0)","v":0},""]
[null,null,null,null,null,null,{"$f":"IF(ISERROR(MATCH(F823,WKNrListe_Einzel,0)),\"\",LOOKUP(F823,WKNrListe_Einzel,Übersicht!$B$7:$B$62))","v":""},null,{"$f":"IF(ISBLANK(H823),\" \",IF(LOOKUP(H823,MannschaftsNrListe,Mannschaften!B$4:B$53)<>0,LOOKUP(H823,MannschaftsNrListe,Mannschaften!B$4:B$53),\"\"))","v":" "},null,null,null,null,null,null,null,null,null,null,null,null,null,null,null,null,null,null,null,null,null,0,{"$f":"IF(NOT(ISBLANK(F823)),LOOKUP(F823,WKNrListe,Übersicht!E$7:E$77),0)","v":0},""]
[null,null,null,null,null,null,{"$f":"IF(ISERROR(MATCH(F824,WKNrListe_Einzel,0)),\"\",LOOKUP(F824,WKNrListe_Einzel,Übersicht!$B$7:$B$62))","v":""},null,{"$f":"IF(ISBLANK(H824),\" \",IF(LOOKUP(H824,MannschaftsNrListe,Mannschaften!B$4:B$53)<>0,LOOKUP(H824,MannschaftsNrListe,Mannschaften!B$4:B$53),\"\"))","v":" "},null,null,null,null,null,null,null,null,null,null,null,null,null,null,null,null,null,null,null,null,null,0,{"$f":"IF(NOT(ISBLANK(F824)),LOOKUP(F824,WKNrListe,Übersicht!E$7:E$77),0)","v":0},""]
[null,null,null,null,null,null,{"$f":"IF(ISERROR(MATCH(F825,WKNrListe_Einzel,0)),\"\",LOOKUP(F825,WKNrListe_Einzel,Übersicht!$B$7:$B$62))","v":""},null,{"$f":"IF(ISBLANK(H825),\" \",IF(LOOKUP(H825,MannschaftsNrListe,Mannschaften!B$4:B$53)<>0,LOOKUP(H825,MannschaftsNrListe,Mannschaften!B$4:B$53),\"\"))","v":" "},null,null,null,null,null,null,null,null,null,null,null,null,null,null,null,null,null,null,null,null,null,0,{"$f":"IF(NOT(ISBLANK(F825)),LOOKUP(F825,WKNrListe,Übersicht!E$7:E$77),0)","v":0},""]
[null,null,null,null,null,null,{"$f":"IF(ISERROR(MATCH(F826,WKNrListe_Einzel,0)),\"\",LOOKUP(F826,WKNrListe_Einzel,Übersicht!$B$7:$B$62))","v":""},null,{"$f":"IF(ISBLANK(H826),\" \",IF(LOOKUP(H826,MannschaftsNrListe,Mannschaften!B$4:B$53)<>0,LOOKUP(H826,MannschaftsNrListe,Mannschaften!B$4:B$53),\"\"))","v":" "},null,null,null,null,null,null,null,null,null,null,null,null,null,null,null,null,null,null,null,null,null,0,{"$f":"IF(NOT(ISBLANK(F826)),LOOKUP(F826,WKNrListe,Übersicht!E$7:E$77),0)","v":0},""]
[null,null,null,null,null,null,{"$f":"IF(ISERROR(MATCH(F827,WKNrListe_Einzel,0)),\"\",LOOKUP(F827,WKNrListe_Einzel,Übersicht!$B$7:$B$62))","v":""},null,{"$f":"IF(ISBLANK(H827),\" \",IF(LOOKUP(H827,MannschaftsNrListe,Mannschaften!B$4:B$53)<>0,LOOKUP(H827,MannschaftsNrListe,Mannschaften!B$4:B$53),\"\"))","v":" "},null,null,null,null,null,null,null,null,null,null,null,null,null,null,null,null,null,null,null,null,null,0,{"$f":"IF(NOT(ISBLANK(F827)),LOOKUP(F827,WKNrListe,Übersicht!E$7:E$77),0)","v":0},""]
[null,null,null,null,null,null,{"$f":"IF(ISERROR(MATCH(F828,WKNrListe_Einzel,0)),\"\",LOOKUP(F828,WKNrListe_Einzel,Übersicht!$B$7:$B$62))","v":""},null,{"$f":"IF(ISBLANK(H828),\" \",IF(LOOKUP(H828,MannschaftsNrListe,Mannschaften!B$4:B$53)<>0,LOOKUP(H828,MannschaftsNrListe,Mannschaften!B$4:B$53),\"\"))","v":" "},null,null,null,null,null,null,null,null,null,null,null,null,null,null,null,null,null,null,null,null,null,0,{"$f":"IF(NOT(ISBLANK(F828)),LOOKUP(F828,WKNrListe,Übersicht!E$7:E$77),0)","v":0},""]
[null,null,null,null,null,null,{"$f":"IF(ISERROR(MATCH(F829,WKNrListe_Einzel,0)),\"\",LOOKUP(F829,WKNrListe_Einzel,Übersicht!$B$7:$B$62))","v":""},null,{"$f":"IF(ISBLANK(H829),\" \",IF(LOOKUP(H829,MannschaftsNrListe,Mannschaften!B$4:B$53)<>0,LOOKUP(H829,MannschaftsNrListe,Mannschaften!B$4:B$53),\"\"))","v":" "},null,null,null,null,null,null,null,null,null,null,null,null,null,null,null,null,null,null,null,null,null,0,{"$f":"IF(NOT(ISBLANK(F829)),LOOKUP(F829,WKNrListe,Übersicht!E$7:E$77),0)","v":0},""]
[null,null,null,null,null,null,{"$f":"IF(ISERROR(MATCH(F830,WKNrListe_Einzel,0)),\"\",LOOKUP(F830,WKNrListe_Einzel,Übersicht!$B$7:$B$62))","v":""},null,{"$f":"IF(ISBLANK(H830),\" \",IF(LOOKUP(H830,MannschaftsNrListe,Mannschaften!B$4:B$53)<>0,LOOKUP(H830,MannschaftsNrListe,Mannschaften!B$4:B$53),\"\"))","v":" "},null,null,null,null,null,null,null,null,null,null,null,null,null,null,null,null,null,null,null,null,null,0,{"$f":"IF(NOT(ISBLANK(F830)),LOOKUP(F830,WKNrListe,Übersicht!E$7:E$77),0)","v":0},""]
[null,null,null,null,null,null,{"$f":"IF(ISERROR(MATCH(F831,WKNrListe_Einzel,0)),\"\",LOOKUP(F831,WKNrListe_Einzel,Übersicht!$B$7:$B$62))","v":""},null,{"$f":"IF(ISBLANK(H831),\" \",IF(LOOKUP(H831,MannschaftsNrListe,Mannschaften!B$4:B$53)<>0,LOOKUP(H831,MannschaftsNrListe,Mannschaften!B$4:B$53),\"\"))","v":" "},null,null,null,null,null,null,null,null,null,null,null,null,null,null,null,null,null,null,null,null,null,0,{"$f":"IF(NOT(ISBLANK(F831)),LOOKUP(F831,WKNrListe,Übersicht!E$7:E$77),0)","v":0},""]
[null,null,null,null,null,null,{"$f":"IF(ISERROR(MATCH(F832,WKNrListe_Einzel,0)),\"\",LOOKUP(F832,WKNrListe_Einzel,Übersicht!$B$7:$B$62))","v":""},null,{"$f":"IF(ISBLANK(H832),\" \",IF(LOOKUP(H832,MannschaftsNrListe,Mannschaften!B$4:B$53)<>0,LOOKUP(H832,MannschaftsNrListe,Mannschaften!B$4:B$53),\"\"))","v":" "},null,null,null,null,null,null,null,null,null,null,null,null,null,null,null,null,null,null,null,null,null,0,{"$f":"IF(NOT(ISBLANK(F832)),LOOKUP(F832,WKNrListe,Übersicht!E$7:E$77),0)","v":0},""]
[null,null,null,null,null,null,{"$f":"IF(ISERROR(MATCH(F833,WKNrListe_Einzel,0)),\"\",LOOKUP(F833,WKNrListe_Einzel,Übersicht!$B$7:$B$62))","v":""},null,{"$f":"IF(ISBLANK(H833),\" \",IF(LOOKUP(H833,MannschaftsNrListe,Mannschaften!B$4:B$53)<>0,LOOKUP(H833,MannschaftsNrListe,Mannschaften!B$4:B$53),\"\"))","v":" "},null,null,null,null,null,null,null,null,null,null,null,null,null,null,null,null,null,null,null,null,null,0,{"$f":"IF(NOT(ISBLANK(F833)),LOOKUP(F833,WKNrListe,Übersicht!E$7:E$77),0)","v":0},""]
[null,null,null,null,null,null,{"$f":"IF(ISERROR(MATCH(F834,WKNrListe_Einzel,0)),\"\",LOOKUP(F834,WKNrListe_Einzel,Übersicht!$B$7:$B$62))","v":""},null,{"$f":"IF(ISBLANK(H834),\" \",IF(LOOKUP(H834,MannschaftsNrListe,Mannschaften!B$4:B$53)<>0,LOOKUP(H834,MannschaftsNrListe,Mannschaften!B$4:B$53),\"\"))","v":" "},null,null,null,null,null,null,null,null,null,null,null,null,null,null,null,null,null,null,null,null,null,0,{"$f":"IF(NOT(ISBLANK(F834)),LOOKUP(F834,WKNrListe,Übersicht!E$7:E$77),0)","v":0},""]
[null,null,null,null,null,null,{"$f":"IF(ISERROR(MATCH(F835,WKNrListe_Einzel,0)),\"\",LOOKUP(F835,WKNrListe_Einzel,Übersicht!$B$7:$B$62))","v":""},null,{"$f":"IF(ISBLANK(H835),\" \",IF(LOOKUP(H835,MannschaftsNrListe,Mannschaften!B$4:B$53)<>0,LOOKUP(H835,MannschaftsNrListe,Mannschaften!B$4:B$53),\"\"))","v":" "},null,null,null,null,null,null,null,null,null,null,null,null,null,null,null,null,null,null,null,null,null,0,{"$f":"IF(NOT(ISBLANK(F835)),LOOKUP(F835,WKNrListe,Übersicht!E$7:E$77),0)","v":0},""]
[null,null,null,null,null,null,{"$f":"IF(ISERROR(MATCH(F836,WKNrListe_Einzel,0)),\"\",LOOKUP(F836,WKNrListe_Einzel,Übersicht!$B$7:$B$62))","v":""},null,{"$f":"IF(ISBLANK(H836),\" \",IF(LOOKUP(H836,MannschaftsNrListe,Mannschaften!B$4:B$53)<>0,LOOKUP(H836,MannschaftsNrListe,Mannschaften!B$4:B$53),\"\"))","v":" "},null,null,null,null,null,null,null,null,null,null,null,null,null,null,null,null,null,null,null,null,null,0,{"$f":"IF(NOT(ISBLANK(F836)),LOOKUP(F836,WKNrListe,Übersicht!E$7:E$77),0)","v":0},""]
[null,null,null,null,null,null,{"$f":"IF(ISERROR(MATCH(F837,WKNrListe_Einzel,0)),\"\",LOOKUP(F837,WKNrListe_Einzel,Übersicht!$B$7:$B$62))","v":""},null,{"$f":"IF(ISBLANK(H837),\" \",IF(LOOKUP(H837,MannschaftsNrListe,Mannschaften!B$4:B$53)<>0,LOOKUP(H837,MannschaftsNrListe,Mannschaften!B$4:B$53),\"\"))","v":" "},null,null,null,null,null,null,null,null,null,null,null,null,null,null,null,null,null,null,null,null,null,0,{"$f":"IF(NOT(ISBLANK(F837)),LOOKUP(F837,WKNrListe,Übersicht!E$7:E$77),0)","v":0},{"$f":"IF(\n AND(\n  OR(ISTEXT(A837), ISTEXT(B837), NOT(ISBLANK(E837)), NOT(ISBLANK(F837)), NOT(ISBLANK(H837))),\n  OR(ISBLANK(A837),ISBLANK(B837),AND(ISBLANK(E837),ISBLANK(F837),ISBLANK(H837)))\n ),\n \"unvollständig\",\n IF(\n  AND(\n   NOT(\n    ISBLANK(H837)\n    ),\n   NOT(ISNUMBER(I837))\n  ),\n  \"Seite Mannschaften ausfüllen!\",\n  IF(AF837>AE837,\"zu wenig Disziplinen gewählt\",IF(AE837>AF837,\"zu viele Disziplinen gewählt\",\"\"))\n )\n)","v":""}]
[null,null,null,null,null,null,{"$f":"IF(ISERROR(MATCH(F838,WKNrListe_Einzel,0)),\"\",LOOKUP(F838,WKNrListe_Einzel,Übersicht!$B$7:$B$62))","v":""},null,{"$f":"IF(ISBLANK(H838),\" \",IF(LOOKUP(H838,MannschaftsNrListe,Mannschaften!B$4:B$53)<>0,LOOKUP(H838,MannschaftsNrListe,Mannschaften!B$4:B$53),\"\"))","v":" "},null,null,null,null,null,null,null,null,null,null,null,null,null,null,null,null,null,null,null,null,null,0,{"$f":"IF(NOT(ISBLANK(F838)),LOOKUP(F838,WKNrListe,Übersicht!E$7:E$77),0)","v":0},""]
[null,null,null,null,null,null,{"$f":"IF(ISERROR(MATCH(F839,WKNrListe_Einzel,0)),\"\",LOOKUP(F839,WKNrListe_Einzel,Übersicht!$B$7:$B$62))","v":""},null,{"$f":"IF(ISBLANK(H839),\" \",IF(LOOKUP(H839,MannschaftsNrListe,Mannschaften!B$4:B$53)<>0,LOOKUP(H839,MannschaftsNrListe,Mannschaften!B$4:B$53),\"\"))","v":" "},null,null,null,null,null,null,null,null,null,null,null,null,null,null,null,null,null,null,null,null,null,0,{"$f":"IF(NOT(ISBLANK(F839)),LOOKUP(F839,WKNrListe,Übersicht!E$7:E$77),0)","v":0},""]
[null,null,null,null,null,null,{"$f":"IF(ISERROR(MATCH(F840,WKNrListe_Einzel,0)),\"\",LOOKUP(F840,WKNrListe_Einzel,Übersicht!$B$7:$B$62))","v":""},null,{"$f":"IF(ISBLANK(H840),\" \",IF(LOOKUP(H840,MannschaftsNrListe,Mannschaften!B$4:B$53)<>0,LOOKUP(H840,MannschaftsNrListe,Mannschaften!B$4:B$53),\"\"))","v":" "},null,null,null,null,null,null,null,null,null,null,null,null,null,null,null,null,null,null,null,null,null,0,{"$f":"IF(NOT(ISBLANK(F840)),LOOKUP(F840,WKNrListe,Übersicht!E$7:E$77),0)","v":0},""]
[null,null,null,null,null,null,{"$f":"IF(ISERROR(MATCH(F841,WKNrListe_Einzel,0)),\"\",LOOKUP(F841,WKNrListe_Einzel,Übersicht!$B$7:$B$62))","v":""},null,{"$f":"IF(ISBLANK(H841),\" \",IF(LOOKUP(H841,MannschaftsNrListe,Mannschaften!B$4:B$53)<>0,LOOKUP(H841,MannschaftsNrListe,Mannschaften!B$4:B$53),\"\"))","v":" "},null,null,null,null,null,null,null,null,null,null,null,null,null,null,null,null,null,null,null,null,null,0,{"$f":"IF(NOT(ISBLANK(F841)),LOOKUP(F841,WKNrListe,Übersicht!E$7:E$77),0)","v":0},""]
[null,null,null,null,null,null,{"$f":"IF(ISERROR(MATCH(F842,WKNrListe_Einzel,0)),\"\",LOOKUP(F842,WKNrListe_Einzel,Übersicht!$B$7:$B$62))","v":""},null,{"$f":"IF(ISBLANK(H842),\" \",IF(LOOKUP(H842,MannschaftsNrListe,Mannschaften!B$4:B$53)<>0,LOOKUP(H842,MannschaftsNrListe,Mannschaften!B$4:B$53),\"\"))","v":" "},null,null,null,null,null,null,null,null,null,null,null,null,null,null,null,null,null,null,null,null,null,0,{"$f":"IF(NOT(ISBLANK(F842)),LOOKUP(F842,WKNrListe,Übersicht!E$7:E$77),0)","v":0},""]
[null,null,null,null,null,null,{"$f":"IF(ISERROR(MATCH(F843,WKNrListe_Einzel,0)),\"\",LOOKUP(F843,WKNrListe_Einzel,Übersicht!$B$7:$B$62))","v":""},null,{"$f":"IF(ISBLANK(H843),\" \",IF(LOOKUP(H843,MannschaftsNrListe,Mannschaften!B$4:B$53)<>0,LOOKUP(H843,MannschaftsNrListe,Mannschaften!B$4:B$53),\"\"))","v":" "},null,null,null,null,null,null,null,null,null,null,null,null,null,null,null,null,null,null,null,null,null,0,{"$f":"IF(NOT(ISBLANK(F843)),LOOKUP(F843,WKNrListe,Übersicht!E$7:E$77),0)","v":0},""]
[null,null,null,null,null,null,{"$f":"IF(ISERROR(MATCH(F844,WKNrListe_Einzel,0)),\"\",LOOKUP(F844,WKNrListe_Einzel,Übersicht!$B$7:$B$62))","v":""},null,{"$f":"IF(ISBLANK(H844),\" \",IF(LOOKUP(H844,MannschaftsNrListe,Mannschaften!B$4:B$53)<>0,LOOKUP(H844,MannschaftsNrListe,Mannschaften!B$4:B$53),\"\"))","v":" "},null,null,null,null,null,null,null,null,null,null,null,null,null,null,null,null,null,null,null,null,null,0,{"$f":"IF(NOT(ISBLANK(F844)),LOOKUP(F844,WKNrListe,Übersicht!E$7:E$77),0)","v":0},""]
[null,null,null,null,null,null,{"$f":"IF(ISERROR(MATCH(F845,WKNrListe_Einzel,0)),\"\",LOOKUP(F845,WKNrListe_Einzel,Übersicht!$B$7:$B$62))","v":""},null,{"$f":"IF(ISBLANK(H845),\" \",IF(LOOKUP(H845,MannschaftsNrListe,Mannschaften!B$4:B$53)<>0,LOOKUP(H845,MannschaftsNrListe,Mannschaften!B$4:B$53),\"\"))","v":" "},null,null,null,null,null,null,null,null,null,null,null,null,null,null,null,null,null,null,null,null,null,0,{"$f":"IF(NOT(ISBLANK(F845)),LOOKUP(F845,WKNrListe,Übersicht!E$7:E$77),0)","v":0},""]
[null,null,null,null,null,null,{"$f":"IF(ISERROR(MATCH(F846,WKNrListe_Einzel,0)),\"\",LOOKUP(F846,WKNrListe_Einzel,Übersicht!$B$7:$B$62))","v":""},null,{"$f":"IF(ISBLANK(H846),\" \",IF(LOOKUP(H846,MannschaftsNrListe,Mannschaften!B$4:B$53)<>0,LOOKUP(H846,MannschaftsNrListe,Mannschaften!B$4:B$53),\"\"))","v":" "},null,null,null,null,null,null,null,null,null,null,null,null,null,null,null,null,null,null,null,null,null,0,{"$f":"IF(NOT(ISBLANK(F846)),LOOKUP(F846,WKNrListe,Übersicht!E$7:E$77),0)","v":0},""]
[null,null,null,null,null,null,{"$f":"IF(ISERROR(MATCH(F847,WKNrListe_Einzel,0)),\"\",LOOKUP(F847,WKNrListe_Einzel,Übersicht!$B$7:$B$62))","v":""},null,{"$f":"IF(ISBLANK(H847),\" \",IF(LOOKUP(H847,MannschaftsNrListe,Mannschaften!B$4:B$53)<>0,LOOKUP(H847,MannschaftsNrListe,Mannschaften!B$4:B$53),\"\"))","v":" "},null,null,null,null,null,null,null,null,null,null,null,null,null,null,null,null,null,null,null,null,null,0,{"$f":"IF(NOT(ISBLANK(F847)),LOOKUP(F847,WKNrListe,Übersicht!E$7:E$77),0)","v":0},""]
[null,null,null,null,null,null,{"$f":"IF(ISERROR(MATCH(F848,WKNrListe_Einzel,0)),\"\",LOOKUP(F848,WKNrListe_Einzel,Übersicht!$B$7:$B$62))","v":""},null,{"$f":"IF(ISBLANK(H848),\" \",IF(LOOKUP(H848,MannschaftsNrListe,Mannschaften!B$4:B$53)<>0,LOOKUP(H848,MannschaftsNrListe,Mannschaften!B$4:B$53),\"\"))","v":" "},null,null,null,null,null,null,null,null,null,null,null,null,null,null,null,null,null,null,null,null,null,0,{"$f":"IF(NOT(ISBLANK(F848)),LOOKUP(F848,WKNrListe,Übersicht!E$7:E$77),0)","v":0},""]
[null,null,null,null,null,null,{"$f":"IF(ISERROR(MATCH(F849,WKNrListe_Einzel,0)),\"\",LOOKUP(F849,WKNrListe_Einzel,Übersicht!$B$7:$B$62))","v":""},null,{"$f":"IF(ISBLANK(H849),\" \",IF(LOOKUP(H849,MannschaftsNrListe,Mannschaften!B$4:B$53)<>0,LOOKUP(H849,MannschaftsNrListe,Mannschaften!B$4:B$53),\"\"))","v":" "},null,null,null,null,null,null,null,null,null,null,null,null,null,null,null,null,null,null,null,null,null,0,{"$f":"IF(NOT(ISBLANK(F849)),LOOKUP(F849,WKNrListe,Übersicht!E$7:E$77),0)","v":0},""]
[null,null,null,null,null,null,{"$f":"IF(ISERROR(MATCH(F850,WKNrListe_Einzel,0)),\"\",LOOKUP(F850,WKNrListe_Einzel,Übersicht!$B$7:$B$62))","v":""},null,{"$f":"IF(ISBLANK(H850),\" \",IF(LOOKUP(H850,MannschaftsNrListe,Mannschaften!B$4:B$53)<>0,LOOKUP(H850,MannschaftsNrListe,Mannschaften!B$4:B$53),\"\"))","v":" "},null,null,null,null,null,null,null,null,null,null,null,null,null,null,null,null,null,null,null,null,null,0,{"$f":"IF(NOT(ISBLANK(F850)),LOOKUP(F850,WKNrListe,Übersicht!E$7:E$77),0)","v":0},""]
[null,null,null,null,null,null,{"$f":"IF(ISERROR(MATCH(F851,WKNrListe_Einzel,0)),\"\",LOOKUP(F851,WKNrListe_Einzel,Übersicht!$B$7:$B$62))","v":""},null,{"$f":"IF(ISBLANK(H851),\" \",IF(LOOKUP(H851,MannschaftsNrListe,Mannschaften!B$4:B$53)<>0,LOOKUP(H851,MannschaftsNrListe,Mannschaften!B$4:B$53),\"\"))","v":" "},null,null,null,null,null,null,null,null,null,null,null,null,null,null,null,null,null,null,null,null,null,0,{"$f":"IF(NOT(ISBLANK(F851)),LOOKUP(F851,WKNrListe,Übersicht!E$7:E$77),0)","v":0},""]
[null,null,null,null,null,null,{"$f":"IF(ISERROR(MATCH(F852,WKNrListe_Einzel,0)),\"\",LOOKUP(F852,WKNrListe_Einzel,Übersicht!$B$7:$B$62))","v":""},null,{"$f":"IF(ISBLANK(H852),\" \",IF(LOOKUP(H852,MannschaftsNrListe,Mannschaften!B$4:B$53)<>0,LOOKUP(H852,MannschaftsNrListe,Mannschaften!B$4:B$53),\"\"))","v":" "},null,null,null,null,null,null,null,null,null,null,null,null,null,null,null,null,null,null,null,null,null,0,{"$f":"IF(NOT(ISBLANK(F852)),LOOKUP(F852,WKNrListe,Übersicht!E$7:E$77),0)","v":0},""]
[null,null,null,null,null,null,{"$f":"IF(ISERROR(MATCH(F853,WKNrListe_Einzel,0)),\"\",LOOKUP(F853,WKNrListe_Einzel,Übersicht!$B$7:$B$62))","v":""},null,{"$f":"IF(ISBLANK(H853),\" \",IF(LOOKUP(H853,MannschaftsNrListe,Mannschaften!B$4:B$53)<>0,LOOKUP(H853,MannschaftsNrListe,Mannschaften!B$4:B$53),\"\"))","v":" "},null,null,null,null,null,null,null,null,null,null,null,null,null,null,null,null,null,null,null,null,null,0,{"$f":"IF(NOT(ISBLANK(F853)),LOOKUP(F853,WKNrListe,Übersicht!E$7:E$77),0)","v":0},""]
[null,null,null,null,null,null,{"$f":"IF(ISERROR(MATCH(F854,WKNrListe_Einzel,0)),\"\",LOOKUP(F854,WKNrListe_Einzel,Übersicht!$B$7:$B$62))","v":""},null,{"$f":"IF(ISBLANK(H854),\" \",IF(LOOKUP(H854,MannschaftsNrListe,Mannschaften!B$4:B$53)<>0,LOOKUP(H854,MannschaftsNrListe,Mannschaften!B$4:B$53),\"\"))","v":" "},null,null,null,null,null,null,null,null,null,null,null,null,null,null,null,null,null,null,null,null,null,0,{"$f":"IF(NOT(ISBLANK(F854)),LOOKUP(F854,WKNrListe,Übersicht!E$7:E$77),0)","v":0},""]
[null,null,null,null,null,null,{"$f":"IF(ISERROR(MATCH(F855,WKNrListe_Einzel,0)),\"\",LOOKUP(F855,WKNrListe_Einzel,Übersicht!$B$7:$B$62))","v":""},null,{"$f":"IF(ISBLANK(H855),\" \",IF(LOOKUP(H855,MannschaftsNrListe,Mannschaften!B$4:B$53)<>0,LOOKUP(H855,MannschaftsNrListe,Mannschaften!B$4:B$53),\"\"))","v":" "},null,null,null,null,null,null,null,null,null,null,null,null,null,null,null,null,null,null,null,null,null,0,{"$f":"IF(NOT(ISBLANK(F855)),LOOKUP(F855,WKNrListe,Übersicht!E$7:E$77),0)","v":0},""]
[null,null,null,null,null,null,{"$f":"IF(ISERROR(MATCH(F856,WKNrListe_Einzel,0)),\"\",LOOKUP(F856,WKNrListe_Einzel,Übersicht!$B$7:$B$62))","v":""},null,{"$f":"IF(ISBLANK(H856),\" \",IF(LOOKUP(H856,MannschaftsNrListe,Mannschaften!B$4:B$53)<>0,LOOKUP(H856,MannschaftsNrListe,Mannschaften!B$4:B$53),\"\"))","v":" "},null,null,null,null,null,null,null,null,null,null,null,null,null,null,null,null,null,null,null,null,null,0,{"$f":"IF(NOT(ISBLANK(F856)),LOOKUP(F856,WKNrListe,Übersicht!E$7:E$77),0)","v":0},""]
[null,null,null,null,null,null,{"$f":"IF(ISERROR(MATCH(F857,WKNrListe_Einzel,0)),\"\",LOOKUP(F857,WKNrListe_Einzel,Übersicht!$B$7:$B$62))","v":""},null,{"$f":"IF(ISBLANK(H857),\" \",IF(LOOKUP(H857,MannschaftsNrListe,Mannschaften!B$4:B$53)<>0,LOOKUP(H857,MannschaftsNrListe,Mannschaften!B$4:B$53),\"\"))","v":" "},null,null,null,null,null,null,null,null,null,null,null,null,null,null,null,null,null,null,null,null,null,0,{"$f":"IF(NOT(ISBLANK(F857)),LOOKUP(F857,WKNrListe,Übersicht!E$7:E$77),0)","v":0},""]
[null,null,null,null,null,null,{"$f":"IF(ISERROR(MATCH(F858,WKNrListe_Einzel,0)),\"\",LOOKUP(F858,WKNrListe_Einzel,Übersicht!$B$7:$B$62))","v":""},null,{"$f":"IF(ISBLANK(H858),\" \",IF(LOOKUP(H858,MannschaftsNrListe,Mannschaften!B$4:B$53)<>0,LOOKUP(H858,MannschaftsNrListe,Mannschaften!B$4:B$53),\"\"))","v":" "},null,null,null,null,null,null,null,null,null,null,null,null,null,null,null,null,null,null,null,null,null,0,{"$f":"IF(NOT(ISBLANK(F858)),LOOKUP(F858,WKNrListe,Übersicht!E$7:E$77),0)","v":0},""]
[null,null,null,null,null,null,{"$f":"IF(ISERROR(MATCH(F859,WKNrListe_Einzel,0)),\"\",LOOKUP(F859,WKNrListe_Einzel,Übersicht!$B$7:$B$62))","v":""},null,{"$f":"IF(ISBLANK(H859),\" \",IF(LOOKUP(H859,MannschaftsNrListe,Mannschaften!B$4:B$53)<>0,LOOKUP(H859,MannschaftsNrListe,Mannschaften!B$4:B$53),\"\"))","v":" "},null,null,null,null,null,null,null,null,null,null,null,null,null,null,null,null,null,null,null,null,null,0,{"$f":"IF(NOT(ISBLANK(F859)),LOOKUP(F859,WKNrListe,Übersicht!E$7:E$77),0)","v":0},""]
[null,null,null,null,null,null,{"$f":"IF(ISERROR(MATCH(F860,WKNrListe_Einzel,0)),\"\",LOOKUP(F860,WKNrListe_Einzel,Übersicht!$B$7:$B$62))","v":""},null,{"$f":"IF(ISBLANK(H860),\" \",IF(LOOKUP(H860,MannschaftsNrListe,Mannschaften!B$4:B$53)<>0,LOOKUP(H860,MannschaftsNrListe,Mannschaften!B$4:B$53),\"\"))","v":" "},null,null,null,null,null,null,null,null,null,null,null,null,null,null,null,null,null,null,null,null,null,0,{"$f":"IF(NOT(ISBLANK(F860)),LOOKUP(F860,WKNrListe,Übersicht!E$7:E$77),0)","v":0},""]
[null,null,null,null,null,null,{"$f":"IF(ISERROR(MATCH(F861,WKNrListe_Einzel,0)),\"\",LOOKUP(F861,WKNrListe_Einzel,Übersicht!$B$7:$B$62))","v":""},null,{"$f":"IF(ISBLANK(H861),\" \",IF(LOOKUP(H861,MannschaftsNrListe,Mannschaften!B$4:B$53)<>0,LOOKUP(H861,MannschaftsNrListe,Mannschaften!B$4:B$53),\"\"))","v":" "},null,null,null,null,null,null,null,null,null,null,null,null,null,null,null,null,null,null,null,null,null,0,{"$f":"IF(NOT(ISBLANK(F861)),LOOKUP(F861,WKNrListe,Übersicht!E$7:E$77),0)","v":0},""]
[null,null,null,null,null,null,{"$f":"IF(ISERROR(MATCH(F862,WKNrListe_Einzel,0)),\"\",LOOKUP(F862,WKNrListe_Einzel,Übersicht!$B$7:$B$62))","v":""},null,{"$f":"IF(ISBLANK(H862),\" \",IF(LOOKUP(H862,MannschaftsNrListe,Mannschaften!B$4:B$53)<>0,LOOKUP(H862,MannschaftsNrListe,Mannschaften!B$4:B$53),\"\"))","v":" "},null,null,null,null,null,null,null,null,null,null,null,null,null,null,null,null,null,null,null,null,null,0,{"$f":"IF(NOT(ISBLANK(F862)),LOOKUP(F862,WKNrListe,Übersicht!E$7:E$77),0)","v":0},""]
[null,null,null,null,null,null,{"$f":"IF(ISERROR(MATCH(F863,WKNrListe_Einzel,0)),\"\",LOOKUP(F863,WKNrListe_Einzel,Übersicht!$B$7:$B$62))","v":""},null,{"$f":"IF(ISBLANK(H863),\" \",IF(LOOKUP(H863,MannschaftsNrListe,Mannschaften!B$4:B$53)<>0,LOOKUP(H863,MannschaftsNrListe,Mannschaften!B$4:B$53),\"\"))","v":" "},null,null,null,null,null,null,null,null,null,null,null,null,null,null,null,null,null,null,null,null,null,0,{"$f":"IF(NOT(ISBLANK(F863)),LOOKUP(F863,WKNrListe,Übersicht!E$7:E$77),0)","v":0},""]
[null,null,null,null,null,null,{"$f":"IF(ISERROR(MATCH(F864,WKNrListe_Einzel,0)),\"\",LOOKUP(F864,WKNrListe_Einzel,Übersicht!$B$7:$B$62))","v":""},null,{"$f":"IF(ISBLANK(H864),\" \",IF(LOOKUP(H864,MannschaftsNrListe,Mannschaften!B$4:B$53)<>0,LOOKUP(H864,MannschaftsNrListe,Mannschaften!B$4:B$53),\"\"))","v":" "},null,null,null,null,null,null,null,null,null,null,null,null,null,null,null,null,null,null,null,null,null,0,{"$f":"IF(NOT(ISBLANK(F864)),LOOKUP(F864,WKNrListe,Übersicht!E$7:E$77),0)","v":0},""]
[null,null,null,null,null,null,{"$f":"IF(ISERROR(MATCH(F865,WKNrListe_Einzel,0)),\"\",LOOKUP(F865,WKNrListe_Einzel,Übersicht!$B$7:$B$62))","v":""},null,{"$f":"IF(ISBLANK(H865),\" \",IF(LOOKUP(H865,MannschaftsNrListe,Mannschaften!B$4:B$53)<>0,LOOKUP(H865,MannschaftsNrListe,Mannschaften!B$4:B$53),\"\"))","v":" "},null,null,null,null,null,null,null,null,null,null,null,null,null,null,null,null,null,null,null,null,null,0,{"$f":"IF(NOT(ISBLANK(F865)),LOOKUP(F865,WKNrListe,Übersicht!E$7:E$77),0)","v":0},""]
[null,null,null,null,null,null,{"$f":"IF(ISERROR(MATCH(F866,WKNrListe_Einzel,0)),\"\",LOOKUP(F866,WKNrListe_Einzel,Übersicht!$B$7:$B$62))","v":""},null,{"$f":"IF(ISBLANK(H866),\" \",IF(LOOKUP(H866,MannschaftsNrListe,Mannschaften!B$4:B$53)<>0,LOOKUP(H866,MannschaftsNrListe,Mannschaften!B$4:B$53),\"\"))","v":" "},null,null,null,null,null,null,null,null,null,null,null,null,null,null,null,null,null,null,null,null,null,0,{"$f":"IF(NOT(ISBLANK(F866)),LOOKUP(F866,WKNrListe,Übersicht!E$7:E$77),0)","v":0},""]
[null,null,null,null,null,null,{"$f":"IF(ISERROR(MATCH(F867,WKNrListe_Einzel,0)),\"\",LOOKUP(F867,WKNrListe_Einzel,Übersicht!$B$7:$B$62))","v":""},null,{"$f":"IF(ISBLANK(H867),\" \",IF(LOOKUP(H867,MannschaftsNrListe,Mannschaften!B$4:B$53)<>0,LOOKUP(H867,MannschaftsNrListe,Mannschaften!B$4:B$53),\"\"))","v":" "},null,null,null,null,null,null,null,null,null,null,null,null,null,null,null,null,null,null,null,null,null,0,{"$f":"IF(NOT(ISBLANK(F867)),LOOKUP(F867,WKNrListe,Übersicht!E$7:E$77),0)","v":0},""]
[null,null,null,null,null,null,{"$f":"IF(ISERROR(MATCH(F868,WKNrListe_Einzel,0)),\"\",LOOKUP(F868,WKNrListe_Einzel,Übersicht!$B$7:$B$62))","v":""},null,{"$f":"IF(ISBLANK(H868),\" \",IF(LOOKUP(H868,MannschaftsNrListe,Mannschaften!B$4:B$53)<>0,LOOKUP(H868,MannschaftsNrListe,Mannschaften!B$4:B$53),\"\"))","v":" "},null,null,null,null,null,null,null,null,null,null,null,null,null,null,null,null,null,null,null,null,null,0,{"$f":"IF(NOT(ISBLANK(F868)),LOOKUP(F868,WKNrListe,Übersicht!E$7:E$77),0)","v":0},""]
[null,null,null,null,null,null,{"$f":"IF(ISERROR(MATCH(F869,WKNrListe_Einzel,0)),\"\",LOOKUP(F869,WKNrListe_Einzel,Übersicht!$B$7:$B$62))","v":""},null,{"$f":"IF(ISBLANK(H869),\" \",IF(LOOKUP(H869,MannschaftsNrListe,Mannschaften!B$4:B$53)<>0,LOOKUP(H869,MannschaftsNrListe,Mannschaften!B$4:B$53),\"\"))","v":" "},null,null,null,null,null,null,null,null,null,null,null,null,null,null,null,null,null,null,null,null,null,0,{"$f":"IF(NOT(ISBLANK(F869)),LOOKUP(F869,WKNrListe,Übersicht!E$7:E$77),0)","v":0},""]
[null,null,null,null,null,null,{"$f":"IF(ISERROR(MATCH(F870,WKNrListe_Einzel,0)),\"\",LOOKUP(F870,WKNrListe_Einzel,Übersicht!$B$7:$B$62))","v":""},null,{"$f":"IF(ISBLANK(H870),\" \",IF(LOOKUP(H870,MannschaftsNrListe,Mannschaften!B$4:B$53)<>0,LOOKUP(H870,MannschaftsNrListe,Mannschaften!B$4:B$53),\"\"))","v":" "},null,null,null,null,null,null,null,null,null,null,null,null,null,null,null,null,null,null,null,null,null,0,{"$f":"IF(NOT(ISBLANK(F870)),LOOKUP(F870,WKNrListe,Übersicht!E$7:E$77),0)","v":0},""]
[null,null,null,null,null,null,{"$f":"IF(ISERROR(MATCH(F871,WKNrListe_Einzel,0)),\"\",LOOKUP(F871,WKNrListe_Einzel,Übersicht!$B$7:$B$62))","v":""},null,{"$f":"IF(ISBLANK(H871),\" \",IF(LOOKUP(H871,MannschaftsNrListe,Mannschaften!B$4:B$53)<>0,LOOKUP(H871,MannschaftsNrListe,Mannschaften!B$4:B$53),\"\"))","v":" "},null,null,null,null,null,null,null,null,null,null,null,null,null,null,null,null,null,null,null,null,null,0,{"$f":"IF(NOT(ISBLANK(F871)),LOOKUP(F871,WKNrListe,Übersicht!E$7:E$77),0)","v":0},""]
[null,null,null,null,null,null,{"$f":"IF(ISERROR(MATCH(F872,WKNrListe_Einzel,0)),\"\",LOOKUP(F872,WKNrListe_Einzel,Übersicht!$B$7:$B$62))","v":""},null,{"$f":"IF(ISBLANK(H872),\" \",IF(LOOKUP(H872,MannschaftsNrListe,Mannschaften!B$4:B$53)<>0,LOOKUP(H872,MannschaftsNrListe,Mannschaften!B$4:B$53),\"\"))","v":" "},null,null,null,null,null,null,null,null,null,null,null,null,null,null,null,null,null,null,null,null,null,0,{"$f":"IF(NOT(ISBLANK(F872)),LOOKUP(F872,WKNrListe,Übersicht!E$7:E$77),0)","v":0},""]
[null,null,null,null,null,null,{"$f":"IF(ISERROR(MATCH(F873,WKNrListe_Einzel,0)),\"\",LOOKUP(F873,WKNrListe_Einzel,Übersicht!$B$7:$B$62))","v":""},null,{"$f":"IF(ISBLANK(H873),\" \",IF(LOOKUP(H873,MannschaftsNrListe,Mannschaften!B$4:B$53)<>0,LOOKUP(H873,MannschaftsNrListe,Mannschaften!B$4:B$53),\"\"))","v":" "},null,null,null,null,null,null,null,null,null,null,null,null,null,null,null,null,null,null,null,null,null,0,{"$f":"IF(NOT(ISBLANK(F873)),LOOKUP(F873,WKNrListe,Übersicht!E$7:E$77),0)","v":0},""]
[null,null,null,null,null,null,{"$f":"IF(ISERROR(MATCH(F874,WKNrListe_Einzel,0)),\"\",LOOKUP(F874,WKNrListe_Einzel,Übersicht!$B$7:$B$62))","v":""},null,{"$f":"IF(ISBLANK(H874),\" \",IF(LOOKUP(H874,MannschaftsNrListe,Mannschaften!B$4:B$53)<>0,LOOKUP(H874,MannschaftsNrListe,Mannschaften!B$4:B$53),\"\"))","v":" "},null,null,null,null,null,null,null,null,null,null,null,null,null,null,null,null,null,null,null,null,null,0,{"$f":"IF(NOT(ISBLANK(F874)),LOOKUP(F874,WKNrListe,Übersicht!E$7:E$77),0)","v":0},""]
[null,null,null,null,null,null,{"$f":"IF(ISERROR(MATCH(F875,WKNrListe_Einzel,0)),\"\",LOOKUP(F875,WKNrListe_Einzel,Übersicht!$B$7:$B$62))","v":""},null,{"$f":"IF(ISBLANK(H875),\" \",IF(LOOKUP(H875,MannschaftsNrListe,Mannschaften!B$4:B$53)<>0,LOOKUP(H875,MannschaftsNrListe,Mannschaften!B$4:B$53),\"\"))","v":" "},null,null,null,null,null,null,null,null,null,null,null,null,null,null,null,null,null,null,null,null,null,0,{"$f":"IF(NOT(ISBLANK(F875)),LOOKUP(F875,WKNrListe,Übersicht!E$7:E$77),0)","v":0},""]
[null,null,null,null,null,null,{"$f":"IF(ISERROR(MATCH(F876,WKNrListe_Einzel,0)),\"\",LOOKUP(F876,WKNrListe_Einzel,Übersicht!$B$7:$B$62))","v":""},null,{"$f":"IF(ISBLANK(H876),\" \",IF(LOOKUP(H876,MannschaftsNrListe,Mannschaften!B$4:B$53)<>0,LOOKUP(H876,MannschaftsNrListe,Mannschaften!B$4:B$53),\"\"))","v":" "},null,null,null,null,null,null,null,null,null,null,null,null,null,null,null,null,null,null,null,null,null,0,{"$f":"IF(NOT(ISBLANK(F876)),LOOKUP(F876,WKNrListe,Übersicht!E$7:E$77),0)","v":0},""]
[null,null,null,null,null,null,{"$f":"IF(ISERROR(MATCH(F877,WKNrListe_Einzel,0)),\"\",LOOKUP(F877,WKNrListe_Einzel,Übersicht!$B$7:$B$62))","v":""},null,{"$f":"IF(ISBLANK(H877),\" \",IF(LOOKUP(H877,MannschaftsNrListe,Mannschaften!B$4:B$53)<>0,LOOKUP(H877,MannschaftsNrListe,Mannschaften!B$4:B$53),\"\"))","v":" "},null,null,null,null,null,null,null,null,null,null,null,null,null,null,null,null,null,null,null,null,null,0,{"$f":"IF(NOT(ISBLANK(F877)),LOOKUP(F877,WKNrListe,Übersicht!E$7:E$77),0)","v":0},""]
[null,null,null,null,null,null,{"$f":"IF(ISERROR(MATCH(F878,WKNrListe_Einzel,0)),\"\",LOOKUP(F878,WKNrListe_Einzel,Übersicht!$B$7:$B$62))","v":""},null,{"$f":"IF(ISBLANK(H878),\" \",IF(LOOKUP(H878,MannschaftsNrListe,Mannschaften!B$4:B$53)<>0,LOOKUP(H878,MannschaftsNrListe,Mannschaften!B$4:B$53),\"\"))","v":" "},null,null,null,null,null,null,null,null,null,null,null,null,null,null,null,null,null,null,null,null,null,0,{"$f":"IF(NOT(ISBLANK(F878)),LOOKUP(F878,WKNrListe,Übersicht!E$7:E$77),0)","v":0},""]
[null,null,null,null,null,null,{"$f":"IF(ISERROR(MATCH(F879,WKNrListe_Einzel,0)),\"\",LOOKUP(F879,WKNrListe_Einzel,Übersicht!$B$7:$B$62))","v":""},null,{"$f":"IF(ISBLANK(H879),\" \",IF(LOOKUP(H879,MannschaftsNrListe,Mannschaften!B$4:B$53)<>0,LOOKUP(H879,MannschaftsNrListe,Mannschaften!B$4:B$53),\"\"))","v":" "},null,null,null,null,null,null,null,null,null,null,null,null,null,null,null,null,null,null,null,null,null,0,{"$f":"IF(NOT(ISBLANK(F879)),LOOKUP(F879,WKNrListe,Übersicht!E$7:E$77),0)","v":0},""]
[null,null,null,null,null,null,{"$f":"IF(ISERROR(MATCH(F880,WKNrListe_Einzel,0)),\"\",LOOKUP(F880,WKNrListe_Einzel,Übersicht!$B$7:$B$62))","v":""},null,{"$f":"IF(ISBLANK(H880),\" \",IF(LOOKUP(H880,MannschaftsNrListe,Mannschaften!B$4:B$53)<>0,LOOKUP(H880,MannschaftsNrListe,Mannschaften!B$4:B$53),\"\"))","v":" "},null,null,null,null,null,null,null,null,null,null,null,null,null,null,null,null,null,null,null,null,null,0,{"$f":"IF(NOT(ISBLANK(F880)),LOOKUP(F880,WKNrListe,Übersicht!E$7:E$77),0)","v":0},""]
[null,null,null,null,null,null,{"$f":"IF(ISERROR(MATCH(F881,WKNrListe_Einzel,0)),\"\",LOOKUP(F881,WKNrListe_Einzel,Übersicht!$B$7:$B$62))","v":""},null,{"$f":"IF(ISBLANK(H881),\" \",IF(LOOKUP(H881,MannschaftsNrListe,Mannschaften!B$4:B$53)<>0,LOOKUP(H881,MannschaftsNrListe,Mannschaften!B$4:B$53),\"\"))","v":" "},null,null,null,null,null,null,null,null,null,null,null,null,null,null,null,null,null,null,null,null,null,{"$f":"COUNTIF(J881:AD881,\">''\")","v":0},{"$f":"IF(NOT(ISBLANK(F881)),LOOKUP(F881,WKNrListe,Übersicht!E$7:E$77),0)","v":0},""]
[null,null,null,null,null,null,{"$f":"IF(ISERROR(MATCH(F882,WKNrListe_Einzel,0)),\"\",LOOKUP(F882,WKNrListe_Einzel,Übersicht!$B$7:$B$62))","v":""},null,{"$f":"IF(ISBLANK(H882),\" \",IF(LOOKUP(H882,MannschaftsNrListe,Mannschaften!B$4:B$53)<>0,LOOKUP(H882,MannschaftsNrListe,Mannschaften!B$4:B$53),\"\"))","v":" "},null,null,null,null,null,null,null,null,null,null,null,null,null,null,null,null,null,null,null,null,null,0,{"$f":"IF(NOT(ISBLANK(F882)),LOOKUP(F882,WKNrListe,Übersicht!E$7:E$77),0)","v":0},""]
[null,null,null,null,null,null,{"$f":"IF(ISERROR(MATCH(F883,WKNrListe_Einzel,0)),\"\",LOOKUP(F883,WKNrListe_Einzel,Übersicht!$B$7:$B$62))","v":""},null,{"$f":"IF(ISBLANK(H883),\" \",IF(LOOKUP(H883,MannschaftsNrListe,Mannschaften!B$4:B$53)<>0,LOOKUP(H883,MannschaftsNrListe,Mannschaften!B$4:B$53),\"\"))","v":" "},null,null,null,null,null,null,null,null,null,null,null,null,null,null,null,null,null,null,null,null,null,0,{"$f":"IF(NOT(ISBLANK(F883)),LOOKUP(F883,WKNrListe,Übersicht!E$7:E$77),0)","v":0},""]
[null,null,null,null,null,null,{"$f":"IF(ISERROR(MATCH(F884,WKNrListe_Einzel,0)),\"\",LOOKUP(F884,WKNrListe_Einzel,Übersicht!$B$7:$B$62))","v":""},null,{"$f":"IF(ISBLANK(H884),\" \",IF(LOOKUP(H884,MannschaftsNrListe,Mannschaften!B$4:B$53)<>0,LOOKUP(H884,MannschaftsNrListe,Mannschaften!B$4:B$53),\"\"))","v":" "},null,null,null,null,null,null,null,null,null,null,null,null,null,null,null,null,null,null,null,null,null,0,{"$f":"IF(NOT(ISBLANK(F884)),LOOKUP(F884,WKNrListe,Übersicht!E$7:E$77),0)","v":0},""]
[null,null,null,null,null,null,{"$f":"IF(ISERROR(MATCH(F885,WKNrListe_Einzel,0)),\"\",LOOKUP(F885,WKNrListe_Einzel,Übersicht!$B$7:$B$62))","v":""},null,{"$f":"IF(ISBLANK(H885),\" \",IF(LOOKUP(H885,MannschaftsNrListe,Mannschaften!B$4:B$53)<>0,LOOKUP(H885,MannschaftsNrListe,Mannschaften!B$4:B$53),\"\"))","v":" "},null,null,null,null,null,null,null,null,null,null,null,null,null,null,null,null,null,null,null,null,null,0,{"$f":"IF(NOT(ISBLANK(F885)),LOOKUP(F885,WKNrListe,Übersicht!E$7:E$77),0)","v":0},""]
[null,null,null,null,null,null,{"$f":"IF(ISERROR(MATCH(F886,WKNrListe_Einzel,0)),\"\",LOOKUP(F886,WKNrListe_Einzel,Übersicht!$B$7:$B$62))","v":""},null,{"$f":"IF(ISBLANK(H886),\" \",IF(LOOKUP(H886,MannschaftsNrListe,Mannschaften!B$4:B$53)<>0,LOOKUP(H886,MannschaftsNrListe,Mannschaften!B$4:B$53),\"\"))","v":" "},null,null,null,null,null,null,null,null,null,null,null,null,null,null,null,null,null,null,null,null,null,0,{"$f":"IF(NOT(ISBLANK(F886)),LOOKUP(F886,WKNrListe,Übersicht!E$7:E$77),0)","v":0},""]
[null,null,null,null,null,null,{"$f":"IF(ISERROR(MATCH(F887,WKNrListe_Einzel,0)),\"\",LOOKUP(F887,WKNrListe_Einzel,Übersicht!$B$7:$B$62))","v":""},null,{"$f":"IF(ISBLANK(H887),\" \",IF(LOOKUP(H887,MannschaftsNrListe,Mannschaften!B$4:B$53)<>0,LOOKUP(H887,MannschaftsNrListe,Mannschaften!B$4:B$53),\"\"))","v":" "},null,null,null,null,null,null,null,null,null,null,null,null,null,null,null,null,null,null,null,null,null,0,{"$f":"IF(NOT(ISBLANK(F887)),LOOKUP(F887,WKNrListe,Übersicht!E$7:E$77),0)","v":0},""]
[null,null,null,null,null,null,{"$f":"IF(ISERROR(MATCH(F888,WKNrListe_Einzel,0)),\"\",LOOKUP(F888,WKNrListe_Einzel,Übersicht!$B$7:$B$62))","v":""},null,{"$f":"IF(ISBLANK(H888),\" \",IF(LOOKUP(H888,MannschaftsNrListe,Mannschaften!B$4:B$53)<>0,LOOKUP(H888,MannschaftsNrListe,Mannschaften!B$4:B$53),\"\"))","v":" "},null,null,null,null,null,null,null,null,null,null,null,null,null,null,null,null,null,null,null,null,null,0,{"$f":"IF(NOT(ISBLANK(F888)),LOOKUP(F888,WKNrListe,Übersicht!E$7:E$77),0)","v":0},""]
[null,null,null,null,null,null,{"$f":"IF(ISERROR(MATCH(F889,WKNrListe_Einzel,0)),\"\",LOOKUP(F889,WKNrListe_Einzel,Übersicht!$B$7:$B$62))","v":""},null,{"$f":"IF(ISBLANK(H889),\" \",IF(LOOKUP(H889,MannschaftsNrListe,Mannschaften!B$4:B$53)<>0,LOOKUP(H889,MannschaftsNrListe,Mannschaften!B$4:B$53),\"\"))","v":" "},null,null,null,null,null,null,null,null,null,null,null,null,null,null,null,null,null,null,null,null,null,0,{"$f":"IF(NOT(ISBLANK(F889)),LOOKUP(F889,WKNrListe,Übersicht!E$7:E$77),0)","v":0},""]
[null,null,null,null,null,null,{"$f":"IF(ISERROR(MATCH(F890,WKNrListe_Einzel,0)),\"\",LOOKUP(F890,WKNrListe_Einzel,Übersicht!$B$7:$B$62))","v":""},null,{"$f":"IF(ISBLANK(H890),\" \",IF(LOOKUP(H890,MannschaftsNrListe,Mannschaften!B$4:B$53)<>0,LOOKUP(H890,MannschaftsNrListe,Mannschaften!B$4:B$53),\"\"))","v":" "},null,null,null,null,null,null,null,null,null,null,null,null,null,null,null,null,null,null,null,null,null,0,{"$f":"IF(NOT(ISBLANK(F890)),LOOKUP(F890,WKNrListe,Übersicht!E$7:E$77),0)","v":0},""]
[null,null,null,null,null,null,{"$f":"IF(ISERROR(MATCH(F891,WKNrListe_Einzel,0)),\"\",LOOKUP(F891,WKNrListe_Einzel,Übersicht!$B$7:$B$62))","v":""},null,{"$f":"IF(ISBLANK(H891),\" \",IF(LOOKUP(H891,MannschaftsNrListe,Mannschaften!B$4:B$53)<>0,LOOKUP(H891,MannschaftsNrListe,Mannschaften!B$4:B$53),\"\"))","v":" "},null,null,null,null,null,null,null,null,null,null,null,null,null,null,null,null,null,null,null,null,null,0,{"$f":"IF(NOT(ISBLANK(F891)),LOOKUP(F891,WKNrListe,Übersicht!E$7:E$77),0)","v":0},""]
[null,null,null,null,null,null,{"$f":"IF(ISERROR(MATCH(F892,WKNrListe_Einzel,0)),\"\",LOOKUP(F892,WKNrListe_Einzel,Übersicht!$B$7:$B$62))","v":""},null,{"$f":"IF(ISBLANK(H892),\" \",IF(LOOKUP(H892,MannschaftsNrListe,Mannschaften!B$4:B$53)<>0,LOOKUP(H892,MannschaftsNrListe,Mannschaften!B$4:B$53),\"\"))","v":" "},null,null,null,null,null,null,null,null,null,null,null,null,null,null,null,null,null,null,null,null,null,0,{"$f":"IF(NOT(ISBLANK(F892)),LOOKUP(F892,WKNrListe,Übersicht!E$7:E$77),0)","v":0},""]
[null,null,null,null,null,null,{"$f":"IF(ISERROR(MATCH(F893,WKNrListe_Einzel,0)),\"\",LOOKUP(F893,WKNrListe_Einzel,Übersicht!$B$7:$B$62))","v":""},null,{"$f":"IF(ISBLANK(H893),\" \",IF(LOOKUP(H893,MannschaftsNrListe,Mannschaften!B$4:B$53)<>0,LOOKUP(H893,MannschaftsNrListe,Mannschaften!B$4:B$53),\"\"))","v":" "},null,null,null,null,null,null,null,null,null,null,null,null,null,null,null,null,null,null,null,null,null,0,{"$f":"IF(NOT(ISBLANK(F893)),LOOKUP(F893,WKNrListe,Übersicht!E$7:E$77),0)","v":0},""]
[null,null,null,null,null,null,{"$f":"IF(ISERROR(MATCH(F894,WKNrListe_Einzel,0)),\"\",LOOKUP(F894,WKNrListe_Einzel,Übersicht!$B$7:$B$62))","v":""},null,{"$f":"IF(ISBLANK(H894),\" \",IF(LOOKUP(H894,MannschaftsNrListe,Mannschaften!B$4:B$53)<>0,LOOKUP(H894,MannschaftsNrListe,Mannschaften!B$4:B$53),\"\"))","v":" "},null,null,null,null,null,null,null,null,null,null,null,null,null,null,null,null,null,null,null,null,null,0,{"$f":"IF(NOT(ISBLANK(F894)),LOOKUP(F894,WKNrListe,Übersicht!E$7:E$77),0)","v":0},""]
[null,null,null,null,null,null,{"$f":"IF(ISERROR(MATCH(F895,WKNrListe_Einzel,0)),\"\",LOOKUP(F895,WKNrListe_Einzel,Übersicht!$B$7:$B$62))","v":""},null,{"$f":"IF(ISBLANK(H895),\" \",IF(LOOKUP(H895,MannschaftsNrListe,Mannschaften!B$4:B$53)<>0,LOOKUP(H895,MannschaftsNrListe,Mannschaften!B$4:B$53),\"\"))","v":" "},null,null,null,null,null,null,null,null,null,null,null,null,null,null,null,null,null,null,null,null,null,0,{"$f":"IF(NOT(ISBLANK(F895)),LOOKUP(F895,WKNrListe,Übersicht!E$7:E$77),0)","v":0},""]
[null,null,null,null,null,null,{"$f":"IF(ISERROR(MATCH(F896,WKNrListe_Einzel,0)),\"\",LOOKUP(F896,WKNrListe_Einzel,Übersicht!$B$7:$B$62))","v":""},null,{"$f":"IF(ISBLANK(H896),\" \",IF(LOOKUP(H896,MannschaftsNrListe,Mannschaften!B$4:B$53)<>0,LOOKUP(H896,MannschaftsNrListe,Mannschaften!B$4:B$53),\"\"))","v":" "},null,null,null,null,null,null,null,null,null,null,null,null,null,null,null,null,null,null,null,null,null,0,{"$f":"IF(NOT(ISBLANK(F896)),LOOKUP(F896,WKNrListe,Übersicht!E$7:E$77),0)","v":0},""]
[null,null,null,null,null,null,{"$f":"IF(ISERROR(MATCH(F897,WKNrListe_Einzel,0)),\"\",LOOKUP(F897,WKNrListe_Einzel,Übersicht!$B$7:$B$62))","v":""},null,{"$f":"IF(ISBLANK(H897),\" \",IF(LOOKUP(H897,MannschaftsNrListe,Mannschaften!B$4:B$53)<>0,LOOKUP(H897,MannschaftsNrListe,Mannschaften!B$4:B$53),\"\"))","v":" "},null,null,null,null,null,null,null,null,null,null,null,null,null,null,null,null,null,null,null,null,null,0,{"$f":"IF(NOT(ISBLANK(F897)),LOOKUP(F897,WKNrListe,Übersicht!E$7:E$77),0)","v":0},""]
[null,null,null,null,null,null,{"$f":"IF(ISERROR(MATCH(F898,WKNrListe_Einzel,0)),\"\",LOOKUP(F898,WKNrListe_Einzel,Übersicht!$B$7:$B$62))","v":""},null,{"$f":"IF(ISBLANK(H898),\" \",IF(LOOKUP(H898,MannschaftsNrListe,Mannschaften!B$4:B$53)<>0,LOOKUP(H898,MannschaftsNrListe,Mannschaften!B$4:B$53),\"\"))","v":" "},null,null,null,null,null,null,null,null,null,null,null,null,null,null,null,null,null,null,null,null,null,0,{"$f":"IF(NOT(ISBLANK(F898)),LOOKUP(F898,WKNrListe,Übersicht!E$7:E$77),0)","v":0},""]
[null,null,null,null,null,null,{"$f":"IF(ISERROR(MATCH(F899,WKNrListe_Einzel,0)),\"\",LOOKUP(F899,WKNrListe_Einzel,Übersicht!$B$7:$B$62))","v":""},null,{"$f":"IF(ISBLANK(H899),\" \",IF(LOOKUP(H899,MannschaftsNrListe,Mannschaften!B$4:B$53)<>0,LOOKUP(H899,MannschaftsNrListe,Mannschaften!B$4:B$53),\"\"))","v":" "},null,null,null,null,null,null,null,null,null,null,null,null,null,null,null,null,null,null,null,null,null,0,{"$f":"IF(NOT(ISBLANK(F899)),LOOKUP(F899,WKNrListe,Übersicht!E$7:E$77),0)","v":0},""]
[null,null,null,null,null,null,{"$f":"IF(ISERROR(MATCH(F900,WKNrListe_Einzel,0)),\"\",LOOKUP(F900,WKNrListe_Einzel,Übersicht!$B$7:$B$62))","v":""},null,{"$f":"IF(ISBLANK(H900),\" \",IF(LOOKUP(H900,MannschaftsNrListe,Mannschaften!B$4:B$53)<>0,LOOKUP(H900,MannschaftsNrListe,Mannschaften!B$4:B$53),\"\"))","v":" "},null,null,null,null,null,null,null,null,null,null,null,null,null,null,null,null,null,null,null,null,null,0,{"$f":"IF(NOT(ISBLANK(F900)),LOOKUP(F900,WKNrListe,Übersicht!E$7:E$77),0)","v":0},""]
[null,null,null,null,null,null,{"$f":"IF(ISERROR(MATCH(F901,WKNrListe_Einzel,0)),\"\",LOOKUP(F901,WKNrListe_Einzel,Übersicht!$B$7:$B$62))","v":""},null,{"$f":"IF(ISBLANK(H901),\" \",IF(LOOKUP(H901,MannschaftsNrListe,Mannschaften!B$4:B$53)<>0,LOOKUP(H901,MannschaftsNrListe,Mannschaften!B$4:B$53),\"\"))","v":" "},null,null,null,null,null,null,null,null,null,null,null,null,null,null,null,null,null,null,null,null,null,0,{"$f":"IF(NOT(ISBLANK(F901)),LOOKUP(F901,WKNrListe,Übersicht!E$7:E$77),0)","v":0},{"$f":"IF(\n AND(\n  OR(ISTEXT(A901), ISTEXT(B901), NOT(ISBLANK(E901)), NOT(ISBLANK(F901)), NOT(ISBLANK(H901))),\n  OR(ISBLANK(A901),ISBLANK(B901),AND(ISBLANK(E901),ISBLANK(F901),ISBLANK(H901)))\n ),\n \"unvollständig\",\n IF(\n  AND(\n   NOT(\n    ISBLANK(H901)\n    ),\n   NOT(ISNUMBER(I901))\n  ),\n  \"Seite Mannschaften ausfüllen!\",\n  IF(AF901>AE901,\"zu wenig Disziplinen gewählt\",IF(AE901>AF901,\"zu viele Disziplinen gewählt\",\"\"))\n )\n)","v":""}]
[null,null,null,null,null,null,{"$f":"IF(ISERROR(MATCH(F902,WKNrListe_Einzel,0)),\"\",LOOKUP(F902,WKNrListe_Einzel,Übersicht!$B$7:$B$62))","v":""},null,{"$f":"IF(ISBLANK(H902),\" \",IF(LOOKUP(H902,MannschaftsNrListe,Mannschaften!B$4:B$53)<>0,LOOKUP(H902,MannschaftsNrListe,Mannschaften!B$4:B$53),\"\"))","v":" "},null,null,null,null,null,null,null,null,null,null,null,null,null,null,null,null,null,null,null,null,null,0,{"$f":"IF(NOT(ISBLANK(F902)),LOOKUP(F902,WKNrListe,Übersicht!E$7:E$77),0)","v":0},""]
[null,null,null,null,null,null,{"$f":"IF(ISERROR(MATCH(F903,WKNrListe_Einzel,0)),\"\",LOOKUP(F903,WKNrListe_Einzel,Übersicht!$B$7:$B$62))","v":""},null,{"$f":"IF(ISBLANK(H903),\" \",IF(LOOKUP(H903,MannschaftsNrListe,Mannschaften!B$4:B$53)<>0,LOOKUP(H903,MannschaftsNrListe,Mannschaften!B$4:B$53),\"\"))","v":" "},null,null,null,null,null,null,null,null,null,null,null,null,null,null,null,null,null,null,null,null,null,0,{"$f":"IF(NOT(ISBLANK(F903)),LOOKUP(F903,WKNrListe,Übersicht!E$7:E$77),0)","v":0},""]
[null,null,null,null,null,null,{"$f":"IF(ISERROR(MATCH(F904,WKNrListe_Einzel,0)),\"\",LOOKUP(F904,WKNrListe_Einzel,Übersicht!$B$7:$B$62))","v":""},null,{"$f":"IF(ISBLANK(H904),\" \",IF(LOOKUP(H904,MannschaftsNrListe,Mannschaften!B$4:B$53)<>0,LOOKUP(H904,MannschaftsNrListe,Mannschaften!B$4:B$53),\"\"))","v":" "},null,null,null,null,null,null,null,null,null,null,null,null,null,null,null,null,null,null,null,null,null,0,{"$f":"IF(NOT(ISBLANK(F904)),LOOKUP(F904,WKNrListe,Übersicht!E$7:E$77),0)","v":0},""]
[null,null,null,null,null,null,{"$f":"IF(ISERROR(MATCH(F905,WKNrListe_Einzel,0)),\"\",LOOKUP(F905,WKNrListe_Einzel,Übersicht!$B$7:$B$62))","v":""},null,{"$f":"IF(ISBLANK(H905),\" \",IF(LOOKUP(H905,MannschaftsNrListe,Mannschaften!B$4:B$53)<>0,LOOKUP(H905,MannschaftsNrListe,Mannschaften!B$4:B$53),\"\"))","v":" "},null,null,null,null,null,null,null,null,null,null,null,null,null,null,null,null,null,null,null,null,null,0,{"$f":"IF(NOT(ISBLANK(F905)),LOOKUP(F905,WKNrListe,Übersicht!E$7:E$77),0)","v":0},""]
[null,null,null,null,null,null,{"$f":"IF(ISERROR(MATCH(F906,WKNrListe_Einzel,0)),\"\",LOOKUP(F906,WKNrListe_Einzel,Übersicht!$B$7:$B$62))","v":""},null,{"$f":"IF(ISBLANK(H906),\" \",IF(LOOKUP(H906,MannschaftsNrListe,Mannschaften!B$4:B$53)<>0,LOOKUP(H906,MannschaftsNrListe,Mannschaften!B$4:B$53),\"\"))","v":" "},null,null,null,null,null,null,null,null,null,null,null,null,null,null,null,null,null,null,null,null,null,0,{"$f":"IF(NOT(ISBLANK(F906)),LOOKUP(F906,WKNrListe,Übersicht!E$7:E$77),0)","v":0},""]
[null,null,null,null,null,null,{"$f":"IF(ISERROR(MATCH(F907,WKNrListe_Einzel,0)),\"\",LOOKUP(F907,WKNrListe_Einzel,Übersicht!$B$7:$B$62))","v":""},null,{"$f":"IF(ISBLANK(H907),\" \",IF(LOOKUP(H907,MannschaftsNrListe,Mannschaften!B$4:B$53)<>0,LOOKUP(H907,MannschaftsNrListe,Mannschaften!B$4:B$53),\"\"))","v":" "},null,null,null,null,null,null,null,null,null,null,null,null,null,null,null,null,null,null,null,null,null,0,{"$f":"IF(NOT(ISBLANK(F907)),LOOKUP(F907,WKNrListe,Übersicht!E$7:E$77),0)","v":0},""]
[null,null,null,null,null,null,{"$f":"IF(ISERROR(MATCH(F908,WKNrListe_Einzel,0)),\"\",LOOKUP(F908,WKNrListe_Einzel,Übersicht!$B$7:$B$62))","v":""},null,{"$f":"IF(ISBLANK(H908),\" \",IF(LOOKUP(H908,MannschaftsNrListe,Mannschaften!B$4:B$53)<>0,LOOKUP(H908,MannschaftsNrListe,Mannschaften!B$4:B$53),\"\"))","v":" "},null,null,null,null,null,null,null,null,null,null,null,null,null,null,null,null,null,null,null,null,null,0,{"$f":"IF(NOT(ISBLANK(F908)),LOOKUP(F908,WKNrListe,Übersicht!E$7:E$77),0)","v":0},""]
[null,null,null,null,null,null,{"$f":"IF(ISERROR(MATCH(F909,WKNrListe_Einzel,0)),\"\",LOOKUP(F909,WKNrListe_Einzel,Übersicht!$B$7:$B$62))","v":""},null,{"$f":"IF(ISBLANK(H909),\" \",IF(LOOKUP(H909,MannschaftsNrListe,Mannschaften!B$4:B$53)<>0,LOOKUP(H909,MannschaftsNrListe,Mannschaften!B$4:B$53),\"\"))","v":" "},null,null,null,null,null,null,null,null,null,null,null,null,null,null,null,null,null,null,null,null,null,0,{"$f":"IF(NOT(ISBLANK(F909)),LOOKUP(F909,WKNrListe,Übersicht!E$7:E$77),0)","v":0},""]
[null,null,null,null,null,null,{"$f":"IF(ISERROR(MATCH(F910,WKNrListe_Einzel,0)),\"\",LOOKUP(F910,WKNrListe_Einzel,Übersicht!$B$7:$B$62))","v":""},null,{"$f":"IF(ISBLANK(H910),\" \",IF(LOOKUP(H910,MannschaftsNrListe,Mannschaften!B$4:B$53)<>0,LOOKUP(H910,MannschaftsNrListe,Mannschaften!B$4:B$53),\"\"))","v":" "},null,null,null,null,null,null,null,null,null,null,null,null,null,null,null,null,null,null,null,null,null,0,{"$f":"IF(NOT(ISBLANK(F910)),LOOKUP(F910,WKNrListe,Übersicht!E$7:E$77),0)","v":0},""]
[null,null,null,null,null,null,{"$f":"IF(ISERROR(MATCH(F911,WKNrListe_Einzel,0)),\"\",LOOKUP(F911,WKNrListe_Einzel,Übersicht!$B$7:$B$62))","v":""},null,{"$f":"IF(ISBLANK(H911),\" \",IF(LOOKUP(H911,MannschaftsNrListe,Mannschaften!B$4:B$53)<>0,LOOKUP(H911,MannschaftsNrListe,Mannschaften!B$4:B$53),\"\"))","v":" "},null,null,null,null,null,null,null,null,null,null,null,null,null,null,null,null,null,null,null,null,null,0,{"$f":"IF(NOT(ISBLANK(F911)),LOOKUP(F911,WKNrListe,Übersicht!E$7:E$77),0)","v":0},""]
[null,null,null,null,null,null,{"$f":"IF(ISERROR(MATCH(F912,WKNrListe_Einzel,0)),\"\",LOOKUP(F912,WKNrListe_Einzel,Übersicht!$B$7:$B$62))","v":""},null,{"$f":"IF(ISBLANK(H912),\" \",IF(LOOKUP(H912,MannschaftsNrListe,Mannschaften!B$4:B$53)<>0,LOOKUP(H912,MannschaftsNrListe,Mannschaften!B$4:B$53),\"\"))","v":" "},null,null,null,null,null,null,null,null,null,null,null,null,null,null,null,null,null,null,null,null,null,0,{"$f":"IF(NOT(ISBLANK(F912)),LOOKUP(F912,WKNrListe,Übersicht!E$7:E$77),0)","v":0},""]
[null,null,null,null,null,null,{"$f":"IF(ISERROR(MATCH(F913,WKNrListe_Einzel,0)),\"\",LOOKUP(F913,WKNrListe_Einzel,Übersicht!$B$7:$B$62))","v":""},null,{"$f":"IF(ISBLANK(H913),\" \",IF(LOOKUP(H913,MannschaftsNrListe,Mannschaften!B$4:B$53)<>0,LOOKUP(H913,MannschaftsNrListe,Mannschaften!B$4:B$53),\"\"))","v":" "},null,null,null,null,null,null,null,null,null,null,null,null,null,null,null,null,null,null,null,null,null,0,{"$f":"IF(NOT(ISBLANK(F913)),LOOKUP(F913,WKNrListe,Übersicht!E$7:E$77),0)","v":0},""]
[null,null,null,null,null,null,{"$f":"IF(ISERROR(MATCH(F914,WKNrListe_Einzel,0)),\"\",LOOKUP(F914,WKNrListe_Einzel,Übersicht!$B$7:$B$62))","v":""},null,{"$f":"IF(ISBLANK(H914),\" \",IF(LOOKUP(H914,MannschaftsNrListe,Mannschaften!B$4:B$53)<>0,LOOKUP(H914,MannschaftsNrListe,Mannschaften!B$4:B$53),\"\"))","v":" "},null,null,null,null,null,null,null,null,null,null,null,null,null,null,null,null,null,null,null,null,null,0,{"$f":"IF(NOT(ISBLANK(F914)),LOOKUP(F914,WKNrListe,Übersicht!E$7:E$77),0)","v":0},""]
[null,null,null,null,null,null,{"$f":"IF(ISERROR(MATCH(F915,WKNrListe_Einzel,0)),\"\",LOOKUP(F915,WKNrListe_Einzel,Übersicht!$B$7:$B$62))","v":""},null,{"$f":"IF(ISBLANK(H915),\" \",IF(LOOKUP(H915,MannschaftsNrListe,Mannschaften!B$4:B$53)<>0,LOOKUP(H915,MannschaftsNrListe,Mannschaften!B$4:B$53),\"\"))","v":" "},null,null,null,null,null,null,null,null,null,null,null,null,null,null,null,null,null,null,null,null,null,0,{"$f":"IF(NOT(ISBLANK(F915)),LOOKUP(F915,WKNrListe,Übersicht!E$7:E$77),0)","v":0},""]
[null,null,null,null,null,null,{"$f":"IF(ISERROR(MATCH(F916,WKNrListe_Einzel,0)),\"\",LOOKUP(F916,WKNrListe_Einzel,Übersicht!$B$7:$B$62))","v":""},null,{"$f":"IF(ISBLANK(H916),\" \",IF(LOOKUP(H916,MannschaftsNrListe,Mannschaften!B$4:B$53)<>0,LOOKUP(H916,MannschaftsNrListe,Mannschaften!B$4:B$53),\"\"))","v":" "},null,null,null,null,null,null,null,null,null,null,null,null,null,null,null,null,null,null,null,null,null,0,{"$f":"IF(NOT(ISBLANK(F916)),LOOKUP(F916,WKNrListe,Übersicht!E$7:E$77),0)","v":0},""]
[null,null,null,null,null,null,{"$f":"IF(ISERROR(MATCH(F917,WKNrListe_Einzel,0)),\"\",LOOKUP(F917,WKNrListe_Einzel,Übersicht!$B$7:$B$62))","v":""},null,{"$f":"IF(ISBLANK(H917),\" \",IF(LOOKUP(H917,MannschaftsNrListe,Mannschaften!B$4:B$53)<>0,LOOKUP(H917,MannschaftsNrListe,Mannschaften!B$4:B$53),\"\"))","v":" "},null,null,null,null,null,null,null,null,null,null,null,null,null,null,null,null,null,null,null,null,null,0,{"$f":"IF(NOT(ISBLANK(F917)),LOOKUP(F917,WKNrListe,Übersicht!E$7:E$77),0)","v":0},""]
[null,null,null,null,null,null,{"$f":"IF(ISERROR(MATCH(F918,WKNrListe_Einzel,0)),\"\",LOOKUP(F918,WKNrListe_Einzel,Übersicht!$B$7:$B$62))","v":""},null,{"$f":"IF(ISBLANK(H918),\" \",IF(LOOKUP(H918,MannschaftsNrListe,Mannschaften!B$4:B$53)<>0,LOOKUP(H918,MannschaftsNrListe,Mannschaften!B$4:B$53),\"\"))","v":" "},null,null,null,null,null,null,null,null,null,null,null,null,null,null,null,null,null,null,null,null,null,0,{"$f":"IF(NOT(ISBLANK(F918)),LOOKUP(F918,WKNrListe,Übersicht!E$7:E$77),0)","v":0},""]
[null,null,null,null,null,null,{"$f":"IF(ISERROR(MATCH(F919,WKNrListe_Einzel,0)),\"\",LOOKUP(F919,WKNrListe_Einzel,Übersicht!$B$7:$B$62))","v":""},null,{"$f":"IF(ISBLANK(H919),\" \",IF(LOOKUP(H919,MannschaftsNrListe,Mannschaften!B$4:B$53)<>0,LOOKUP(H919,MannschaftsNrListe,Mannschaften!B$4:B$53),\"\"))","v":" "},null,null,null,null,null,null,null,null,null,null,null,null,null,null,null,null,null,null,null,null,null,0,{"$f":"IF(NOT(ISBLANK(F919)),LOOKUP(F919,WKNrListe,Übersicht!E$7:E$77),0)","v":0},""]
[null,null,null,null,null,null,{"$f":"IF(ISERROR(MATCH(F920,WKNrListe_Einzel,0)),\"\",LOOKUP(F920,WKNrListe_Einzel,Übersicht!$B$7:$B$62))","v":""},null,{"$f":"IF(ISBLANK(H920),\" \",IF(LOOKUP(H920,MannschaftsNrListe,Mannschaften!B$4:B$53)<>0,LOOKUP(H920,MannschaftsNrListe,Mannschaften!B$4:B$53),\"\"))","v":" "},null,null,null,null,null,null,null,null,null,null,null,null,null,null,null,null,null,null,null,null,null,0,{"$f":"IF(NOT(ISBLANK(F920)),LOOKUP(F920,WKNrListe,Übersicht!E$7:E$77),0)","v":0},""]
[null,null,null,null,null,null,{"$f":"IF(ISERROR(MATCH(F921,WKNrListe_Einzel,0)),\"\",LOOKUP(F921,WKNrListe_Einzel,Übersicht!$B$7:$B$62))","v":""},null,{"$f":"IF(ISBLANK(H921),\" \",IF(LOOKUP(H921,MannschaftsNrListe,Mannschaften!B$4:B$53)<>0,LOOKUP(H921,MannschaftsNrListe,Mannschaften!B$4:B$53),\"\"))","v":" "},null,null,null,null,null,null,null,null,null,null,null,null,null,null,null,null,null,null,null,null,null,0,{"$f":"IF(NOT(ISBLANK(F921)),LOOKUP(F921,WKNrListe,Übersicht!E$7:E$77),0)","v":0},""]
[null,null,null,null,null,null,{"$f":"IF(ISERROR(MATCH(F922,WKNrListe_Einzel,0)),\"\",LOOKUP(F922,WKNrListe_Einzel,Übersicht!$B$7:$B$62))","v":""},null,{"$f":"IF(ISBLANK(H922),\" \",IF(LOOKUP(H922,MannschaftsNrListe,Mannschaften!B$4:B$53)<>0,LOOKUP(H922,MannschaftsNrListe,Mannschaften!B$4:B$53),\"\"))","v":" "},null,null,null,null,null,null,null,null,null,null,null,null,null,null,null,null,null,null,null,null,null,0,{"$f":"IF(NOT(ISBLANK(F922)),LOOKUP(F922,WKNrListe,Übersicht!E$7:E$77),0)","v":0},""]
[null,null,null,null,null,null,{"$f":"IF(ISERROR(MATCH(F923,WKNrListe_Einzel,0)),\"\",LOOKUP(F923,WKNrListe_Einzel,Übersicht!$B$7:$B$62))","v":""},null,{"$f":"IF(ISBLANK(H923),\" \",IF(LOOKUP(H923,MannschaftsNrListe,Mannschaften!B$4:B$53)<>0,LOOKUP(H923,MannschaftsNrListe,Mannschaften!B$4:B$53),\"\"))","v":" "},null,null,null,null,null,null,null,null,null,null,null,null,null,null,null,null,null,null,null,null,null,0,{"$f":"IF(NOT(ISBLANK(F923)),LOOKUP(F923,WKNrListe,Übersicht!E$7:E$77),0)","v":0},""]
[null,null,null,null,null,null,{"$f":"IF(ISERROR(MATCH(F924,WKNrListe_Einzel,0)),\"\",LOOKUP(F924,WKNrListe_Einzel,Übersicht!$B$7:$B$62))","v":""},null,{"$f":"IF(ISBLANK(H924),\" \",IF(LOOKUP(H924,MannschaftsNrListe,Mannschaften!B$4:B$53)<>0,LOOKUP(H924,MannschaftsNrListe,Mannschaften!B$4:B$53),\"\"))","v":" "},null,null,null,null,null,null,null,null,null,null,null,null,null,null,null,null,null,null,null,null,null,0,{"$f":"IF(NOT(ISBLANK(F924)),LOOKUP(F924,WKNrListe,Übersicht!E$7:E$77),0)","v":0},""]
[null,null,null,null,null,null,{"$f":"IF(ISERROR(MATCH(F925,WKNrListe_Einzel,0)),\"\",LOOKUP(F925,WKNrListe_Einzel,Übersicht!$B$7:$B$62))","v":""},null,{"$f":"IF(ISBLANK(H925),\" \",IF(LOOKUP(H925,MannschaftsNrListe,Mannschaften!B$4:B$53)<>0,LOOKUP(H925,MannschaftsNrListe,Mannschaften!B$4:B$53),\"\"))","v":" "},null,null,null,null,null,null,null,null,null,null,null,null,null,null,null,null,null,null,null,null,null,0,{"$f":"IF(NOT(ISBLANK(F925)),LOOKUP(F925,WKNrListe,Übersicht!E$7:E$77),0)","v":0},""]
[null,null,null,null,null,null,{"$f":"IF(ISERROR(MATCH(F926,WKNrListe_Einzel,0)),\"\",LOOKUP(F926,WKNrListe_Einzel,Übersicht!$B$7:$B$62))","v":""},null,{"$f":"IF(ISBLANK(H926),\" \",IF(LOOKUP(H926,MannschaftsNrListe,Mannschaften!B$4:B$53)<>0,LOOKUP(H926,MannschaftsNrListe,Mannschaften!B$4:B$53),\"\"))","v":" "},null,null,null,null,null,null,null,null,null,null,null,null,null,null,null,null,null,null,null,null,null,0,{"$f":"IF(NOT(ISBLANK(F926)),LOOKUP(F926,WKNrListe,Übersicht!E$7:E$77),0)","v":0},""]
[null,null,null,null,null,null,{"$f":"IF(ISERROR(MATCH(F927,WKNrListe_Einzel,0)),\"\",LOOKUP(F927,WKNrListe_Einzel,Übersicht!$B$7:$B$62))","v":""},null,{"$f":"IF(ISBLANK(H927),\" \",IF(LOOKUP(H927,MannschaftsNrListe,Mannschaften!B$4:B$53)<>0,LOOKUP(H927,MannschaftsNrListe,Mannschaften!B$4:B$53),\"\"))","v":" "},null,null,null,null,null,null,null,null,null,null,null,null,null,null,null,null,null,null,null,null,null,0,{"$f":"IF(NOT(ISBLANK(F927)),LOOKUP(F927,WKNrListe,Übersicht!E$7:E$77),0)","v":0},""]
[null,null,null,null,null,null,{"$f":"IF(ISERROR(MATCH(F928,WKNrListe_Einzel,0)),\"\",LOOKUP(F928,WKNrListe_Einzel,Übersicht!$B$7:$B$62))","v":""},null,{"$f":"IF(ISBLANK(H928),\" \",IF(LOOKUP(H928,MannschaftsNrListe,Mannschaften!B$4:B$53)<>0,LOOKUP(H928,MannschaftsNrListe,Mannschaften!B$4:B$53),\"\"))","v":" "},null,null,null,null,null,null,null,null,null,null,null,null,null,null,null,null,null,null,null,null,null,0,{"$f":"IF(NOT(ISBLANK(F928)),LOOKUP(F928,WKNrListe,Übersicht!E$7:E$77),0)","v":0},""]
[null,null,null,null,null,null,{"$f":"IF(ISERROR(MATCH(F929,WKNrListe_Einzel,0)),\"\",LOOKUP(F929,WKNrListe_Einzel,Übersicht!$B$7:$B$62))","v":""},null,{"$f":"IF(ISBLANK(H929),\" \",IF(LOOKUP(H929,MannschaftsNrListe,Mannschaften!B$4:B$53)<>0,LOOKUP(H929,MannschaftsNrListe,Mannschaften!B$4:B$53),\"\"))","v":" "},null,null,null,null,null,null,null,null,null,null,null,null,null,null,null,null,null,null,null,null,null,0,{"$f":"IF(NOT(ISBLANK(F929)),LOOKUP(F929,WKNrListe,Übersicht!E$7:E$77),0)","v":0},""]
[null,null,null,null,null,null,{"$f":"IF(ISERROR(MATCH(F930,WKNrListe_Einzel,0)),\"\",LOOKUP(F930,WKNrListe_Einzel,Übersicht!$B$7:$B$62))","v":""},null,{"$f":"IF(ISBLANK(H930),\" \",IF(LOOKUP(H930,MannschaftsNrListe,Mannschaften!B$4:B$53)<>0,LOOKUP(H930,MannschaftsNrListe,Mannschaften!B$4:B$53),\"\"))","v":" "},null,null,null,null,null,null,null,null,null,null,null,null,null,null,null,null,null,null,null,null,null,0,{"$f":"IF(NOT(ISBLANK(F930)),LOOKUP(F930,WKNrListe,Übersicht!E$7:E$77),0)","v":0},""]
[null,null,null,null,null,null,{"$f":"IF(ISERROR(MATCH(F931,WKNrListe_Einzel,0)),\"\",LOOKUP(F931,WKNrListe_Einzel,Übersicht!$B$7:$B$62))","v":""},null,{"$f":"IF(ISBLANK(H931),\" \",IF(LOOKUP(H931,MannschaftsNrListe,Mannschaften!B$4:B$53)<>0,LOOKUP(H931,MannschaftsNrListe,Mannschaften!B$4:B$53),\"\"))","v":" "},null,null,null,null,null,null,null,null,null,null,null,null,null,null,null,null,null,null,null,null,null,0,{"$f":"IF(NOT(ISBLANK(F931)),LOOKUP(F931,WKNrListe,Übersicht!E$7:E$77),0)","v":0},""]
[null,null,null,null,null,null,{"$f":"IF(ISERROR(MATCH(F932,WKNrListe_Einzel,0)),\"\",LOOKUP(F932,WKNrListe_Einzel,Übersicht!$B$7:$B$62))","v":""},null,{"$f":"IF(ISBLANK(H932),\" \",IF(LOOKUP(H932,MannschaftsNrListe,Mannschaften!B$4:B$53)<>0,LOOKUP(H932,MannschaftsNrListe,Mannschaften!B$4:B$53),\"\"))","v":" "},null,null,null,null,null,null,null,null,null,null,null,null,null,null,null,null,null,null,null,null,null,0,{"$f":"IF(NOT(ISBLANK(F932)),LOOKUP(F932,WKNrListe,Übersicht!E$7:E$77),0)","v":0},""]
[null,null,null,null,null,null,{"$f":"IF(ISERROR(MATCH(F933,WKNrListe_Einzel,0)),\"\",LOOKUP(F933,WKNrListe_Einzel,Übersicht!$B$7:$B$62))","v":""},null,{"$f":"IF(ISBLANK(H933),\" \",IF(LOOKUP(H933,MannschaftsNrListe,Mannschaften!B$4:B$53)<>0,LOOKUP(H933,MannschaftsNrListe,Mannschaften!B$4:B$53),\"\"))","v":" "},null,null,null,null,null,null,null,null,null,null,null,null,null,null,null,null,null,null,null,null,null,0,{"$f":"IF(NOT(ISBLANK(F933)),LOOKUP(F933,WKNrListe,Übersicht!E$7:E$77),0)","v":0},""]
[null,null,null,null,null,null,{"$f":"IF(ISERROR(MATCH(F934,WKNrListe_Einzel,0)),\"\",LOOKUP(F934,WKNrListe_Einzel,Übersicht!$B$7:$B$62))","v":""},null,{"$f":"IF(ISBLANK(H934),\" \",IF(LOOKUP(H934,MannschaftsNrListe,Mannschaften!B$4:B$53)<>0,LOOKUP(H934,MannschaftsNrListe,Mannschaften!B$4:B$53),\"\"))","v":" "},null,null,null,null,null,null,null,null,null,null,null,null,null,null,null,null,null,null,null,null,null,0,{"$f":"IF(NOT(ISBLANK(F934)),LOOKUP(F934,WKNrListe,Übersicht!E$7:E$77),0)","v":0},""]
[null,null,null,null,null,null,{"$f":"IF(ISERROR(MATCH(F935,WKNrListe_Einzel,0)),\"\",LOOKUP(F935,WKNrListe_Einzel,Übersicht!$B$7:$B$62))","v":""},null,{"$f":"IF(ISBLANK(H935),\" \",IF(LOOKUP(H935,MannschaftsNrListe,Mannschaften!B$4:B$53)<>0,LOOKUP(H935,MannschaftsNrListe,Mannschaften!B$4:B$53),\"\"))","v":" "},null,null,null,null,null,null,null,null,null,null,null,null,null,null,null,null,null,null,null,null,null,0,{"$f":"IF(NOT(ISBLANK(F935)),LOOKUP(F935,WKNrListe,Übersicht!E$7:E$77),0)","v":0},""]
[null,null,null,null,null,null,{"$f":"IF(ISERROR(MATCH(F936,WKNrListe_Einzel,0)),\"\",LOOKUP(F936,WKNrListe_Einzel,Übersicht!$B$7:$B$62))","v":""},null,{"$f":"IF(ISBLANK(H936),\" \",IF(LOOKUP(H936,MannschaftsNrListe,Mannschaften!B$4:B$53)<>0,LOOKUP(H936,MannschaftsNrListe,Mannschaften!B$4:B$53),\"\"))","v":" "},null,null,null,null,null,null,null,null,null,null,null,null,null,null,null,null,null,null,null,null,null,0,{"$f":"IF(NOT(ISBLANK(F936)),LOOKUP(F936,WKNrListe,Übersicht!E$7:E$77),0)","v":0},""]
[null,null,null,null,null,null,{"$f":"IF(ISERROR(MATCH(F937,WKNrListe_Einzel,0)),\"\",LOOKUP(F937,WKNrListe_Einzel,Übersicht!$B$7:$B$62))","v":""},null,{"$f":"IF(ISBLANK(H937),\" \",IF(LOOKUP(H937,MannschaftsNrListe,Mannschaften!B$4:B$53)<>0,LOOKUP(H937,MannschaftsNrListe,Mannschaften!B$4:B$53),\"\"))","v":" "},null,null,null,null,null,null,null,null,null,null,null,null,null,null,null,null,null,null,null,null,null,0,{"$f":"IF(NOT(ISBLANK(F937)),LOOKUP(F937,WKNrListe,Übersicht!E$7:E$77),0)","v":0},""]
[null,null,null,null,null,null,{"$f":"IF(ISERROR(MATCH(F938,WKNrListe_Einzel,0)),\"\",LOOKUP(F938,WKNrListe_Einzel,Übersicht!$B$7:$B$62))","v":""},null,{"$f":"IF(ISBLANK(H938),\" \",IF(LOOKUP(H938,MannschaftsNrListe,Mannschaften!B$4:B$53)<>0,LOOKUP(H938,MannschaftsNrListe,Mannschaften!B$4:B$53),\"\"))","v":" "},null,null,null,null,null,null,null,null,null,null,null,null,null,null,null,null,null,null,null,null,null,0,{"$f":"IF(NOT(ISBLANK(F938)),LOOKUP(F938,WKNrListe,Übersicht!E$7:E$77),0)","v":0},""]
[null,null,null,null,null,null,{"$f":"IF(ISERROR(MATCH(F939,WKNrListe_Einzel,0)),\"\",LOOKUP(F939,WKNrListe_Einzel,Übersicht!$B$7:$B$62))","v":""},null,{"$f":"IF(ISBLANK(H939),\" \",IF(LOOKUP(H939,MannschaftsNrListe,Mannschaften!B$4:B$53)<>0,LOOKUP(H939,MannschaftsNrListe,Mannschaften!B$4:B$53),\"\"))","v":" "},null,null,null,null,null,null,null,null,null,null,null,null,null,null,null,null,null,null,null,null,null,0,{"$f":"IF(NOT(ISBLANK(F939)),LOOKUP(F939,WKNrListe,Übersicht!E$7:E$77),0)","v":0},""]
[null,null,null,null,null,null,{"$f":"IF(ISERROR(MATCH(F940,WKNrListe_Einzel,0)),\"\",LOOKUP(F940,WKNrListe_Einzel,Übersicht!$B$7:$B$62))","v":""},null,{"$f":"IF(ISBLANK(H940),\" \",IF(LOOKUP(H940,MannschaftsNrListe,Mannschaften!B$4:B$53)<>0,LOOKUP(H940,MannschaftsNrListe,Mannschaften!B$4:B$53),\"\"))","v":" "},null,null,null,null,null,null,null,null,null,null,null,null,null,null,null,null,null,null,null,null,null,0,{"$f":"IF(NOT(ISBLANK(F940)),LOOKUP(F940,WKNrListe,Übersicht!E$7:E$77),0)","v":0},""]
[null,null,null,null,null,null,{"$f":"IF(ISERROR(MATCH(F941,WKNrListe_Einzel,0)),\"\",LOOKUP(F941,WKNrListe_Einzel,Übersicht!$B$7:$B$62))","v":""},null,{"$f":"IF(ISBLANK(H941),\" \",IF(LOOKUP(H941,MannschaftsNrListe,Mannschaften!B$4:B$53)<>0,LOOKUP(H941,MannschaftsNrListe,Mannschaften!B$4:B$53),\"\"))","v":" "},null,null,null,null,null,null,null,null,null,null,null,null,null,null,null,null,null,null,null,null,null,0,{"$f":"IF(NOT(ISBLANK(F941)),LOOKUP(F941,WKNrListe,Übersicht!E$7:E$77),0)","v":0},""]
[null,null,null,null,null,null,{"$f":"IF(ISERROR(MATCH(F942,WKNrListe_Einzel,0)),\"\",LOOKUP(F942,WKNrListe_Einzel,Übersicht!$B$7:$B$62))","v":""},null,{"$f":"IF(ISBLANK(H942),\" \",IF(LOOKUP(H942,MannschaftsNrListe,Mannschaften!B$4:B$53)<>0,LOOKUP(H942,MannschaftsNrListe,Mannschaften!B$4:B$53),\"\"))","v":" "},null,null,null,null,null,null,null,null,null,null,null,null,null,null,null,null,null,null,null,null,null,0,{"$f":"IF(NOT(ISBLANK(F942)),LOOKUP(F942,WKNrListe,Übersicht!E$7:E$77),0)","v":0},""]
[null,null,null,null,null,null,{"$f":"IF(ISERROR(MATCH(F943,WKNrListe_Einzel,0)),\"\",LOOKUP(F943,WKNrListe_Einzel,Übersicht!$B$7:$B$62))","v":""},null,{"$f":"IF(ISBLANK(H943),\" \",IF(LOOKUP(H943,MannschaftsNrListe,Mannschaften!B$4:B$53)<>0,LOOKUP(H943,MannschaftsNrListe,Mannschaften!B$4:B$53),\"\"))","v":" "},null,null,null,null,null,null,null,null,null,null,null,null,null,null,null,null,null,null,null,null,null,0,{"$f":"IF(NOT(ISBLANK(F943)),LOOKUP(F943,WKNrListe,Übersicht!E$7:E$77),0)","v":0},""]
[null,null,null,null,null,null,{"$f":"IF(ISERROR(MATCH(F944,WKNrListe_Einzel,0)),\"\",LOOKUP(F944,WKNrListe_Einzel,Übersicht!$B$7:$B$62))","v":""},null,{"$f":"IF(ISBLANK(H944),\" \",IF(LOOKUP(H944,MannschaftsNrListe,Mannschaften!B$4:B$53)<>0,LOOKUP(H944,MannschaftsNrListe,Mannschaften!B$4:B$53),\"\"))","v":" "},null,null,null,null,null,null,null,null,null,null,null,null,null,null,null,null,null,null,null,null,null,0,{"$f":"IF(NOT(ISBLANK(F944)),LOOKUP(F944,WKNrListe,Übersicht!E$7:E$77),0)","v":0},""]
[null,null,null,null,null,null,{"$f":"IF(ISERROR(MATCH(F945,WKNrListe_Einzel,0)),\"\",LOOKUP(F945,WKNrListe_Einzel,Übersicht!$B$7:$B$62))","v":""},null,{"$f":"IF(ISBLANK(H945),\" \",IF(LOOKUP(H945,MannschaftsNrListe,Mannschaften!B$4:B$53)<>0,LOOKUP(H945,MannschaftsNrListe,Mannschaften!B$4:B$53),\"\"))","v":" "},null,null,null,null,null,null,null,null,null,null,null,null,null,null,null,null,null,null,null,null,null,{"$f":"COUNTIF(J945:AD945,\">''\")","v":0},{"$f":"IF(NOT(ISBLANK(F945)),LOOKUP(F945,WKNrListe,Übersicht!E$7:E$77),0)","v":0},""]
[null,null,null,null,null,null,{"$f":"IF(ISERROR(MATCH(F946,WKNrListe_Einzel,0)),\"\",LOOKUP(F946,WKNrListe_Einzel,Übersicht!$B$7:$B$62))","v":""},null,{"$f":"IF(ISBLANK(H946),\" \",IF(LOOKUP(H946,MannschaftsNrListe,Mannschaften!B$4:B$53)<>0,LOOKUP(H946,MannschaftsNrListe,Mannschaften!B$4:B$53),\"\"))","v":" "},null,null,null,null,null,null,null,null,null,null,null,null,null,null,null,null,null,null,null,null,null,0,{"$f":"IF(NOT(ISBLANK(F946)),LOOKUP(F946,WKNrListe,Übersicht!E$7:E$77),0)","v":0},""]
[null,null,null,null,null,null,{"$f":"IF(ISERROR(MATCH(F947,WKNrListe_Einzel,0)),\"\",LOOKUP(F947,WKNrListe_Einzel,Übersicht!$B$7:$B$62))","v":""},null,{"$f":"IF(ISBLANK(H947),\" \",IF(LOOKUP(H947,MannschaftsNrListe,Mannschaften!B$4:B$53)<>0,LOOKUP(H947,MannschaftsNrListe,Mannschaften!B$4:B$53),\"\"))","v":" "},null,null,null,null,null,null,null,null,null,null,null,null,null,null,null,null,null,null,null,null,null,0,{"$f":"IF(NOT(ISBLANK(F947)),LOOKUP(F947,WKNrListe,Übersicht!E$7:E$77),0)","v":0},""]
[null,null,null,null,null,null,{"$f":"IF(ISERROR(MATCH(F948,WKNrListe_Einzel,0)),\"\",LOOKUP(F948,WKNrListe_Einzel,Übersicht!$B$7:$B$62))","v":""},null,{"$f":"IF(ISBLANK(H948),\" \",IF(LOOKUP(H948,MannschaftsNrListe,Mannschaften!B$4:B$53)<>0,LOOKUP(H948,MannschaftsNrListe,Mannschaften!B$4:B$53),\"\"))","v":" "},null,null,null,null,null,null,null,null,null,null,null,null,null,null,null,null,null,null,null,null,null,0,{"$f":"IF(NOT(ISBLANK(F948)),LOOKUP(F948,WKNrListe,Übersicht!E$7:E$77),0)","v":0},""]
[null,null,null,null,null,null,{"$f":"IF(ISERROR(MATCH(F949,WKNrListe_Einzel,0)),\"\",LOOKUP(F949,WKNrListe_Einzel,Übersicht!$B$7:$B$62))","v":""},null,{"$f":"IF(ISBLANK(H949),\" \",IF(LOOKUP(H949,MannschaftsNrListe,Mannschaften!B$4:B$53)<>0,LOOKUP(H949,MannschaftsNrListe,Mannschaften!B$4:B$53),\"\"))","v":" "},null,null,null,null,null,null,null,null,null,null,null,null,null,null,null,null,null,null,null,null,null,0,{"$f":"IF(NOT(ISBLANK(F949)),LOOKUP(F949,WKNrListe,Übersicht!E$7:E$77),0)","v":0},""]
[null,null,null,null,null,null,{"$f":"IF(ISERROR(MATCH(F950,WKNrListe_Einzel,0)),\"\",LOOKUP(F950,WKNrListe_Einzel,Übersicht!$B$7:$B$62))","v":""},null,{"$f":"IF(ISBLANK(H950),\" \",IF(LOOKUP(H950,MannschaftsNrListe,Mannschaften!B$4:B$53)<>0,LOOKUP(H950,MannschaftsNrListe,Mannschaften!B$4:B$53),\"\"))","v":" "},null,null,null,null,null,null,null,null,null,null,null,null,null,null,null,null,null,null,null,null,null,0,{"$f":"IF(NOT(ISBLANK(F950)),LOOKUP(F950,WKNrListe,Übersicht!E$7:E$77),0)","v":0},""]
[null,null,null,null,null,null,{"$f":"IF(ISERROR(MATCH(F951,WKNrListe_Einzel,0)),\"\",LOOKUP(F951,WKNrListe_Einzel,Übersicht!$B$7:$B$62))","v":""},null,{"$f":"IF(ISBLANK(H951),\" \",IF(LOOKUP(H951,MannschaftsNrListe,Mannschaften!B$4:B$53)<>0,LOOKUP(H951,MannschaftsNrListe,Mannschaften!B$4:B$53),\"\"))","v":" "},null,null,null,null,null,null,null,null,null,null,null,null,null,null,null,null,null,null,null,null,null,0,{"$f":"IF(NOT(ISBLANK(F951)),LOOKUP(F951,WKNrListe,Übersicht!E$7:E$77),0)","v":0},""]
[null,null,null,null,null,null,{"$f":"IF(ISERROR(MATCH(F952,WKNrListe_Einzel,0)),\"\",LOOKUP(F952,WKNrListe_Einzel,Übersicht!$B$7:$B$62))","v":""},null,{"$f":"IF(ISBLANK(H952),\" \",IF(LOOKUP(H952,MannschaftsNrListe,Mannschaften!B$4:B$53)<>0,LOOKUP(H952,MannschaftsNrListe,Mannschaften!B$4:B$53),\"\"))","v":" "},null,null,null,null,null,null,null,null,null,null,null,null,null,null,null,null,null,null,null,null,null,0,{"$f":"IF(NOT(ISBLANK(F952)),LOOKUP(F952,WKNrListe,Übersicht!E$7:E$77),0)","v":0},""]
[null,null,null,null,null,null,{"$f":"IF(ISERROR(MATCH(F953,WKNrListe_Einzel,0)),\"\",LOOKUP(F953,WKNrListe_Einzel,Übersicht!$B$7:$B$62))","v":""},null,{"$f":"IF(ISBLANK(H953),\" \",IF(LOOKUP(H953,MannschaftsNrListe,Mannschaften!B$4:B$53)<>0,LOOKUP(H953,MannschaftsNrListe,Mannschaften!B$4:B$53),\"\"))","v":" "},null,null,null,null,null,null,null,null,null,null,null,null,null,null,null,null,null,null,null,null,null,0,{"$f":"IF(NOT(ISBLANK(F953)),LOOKUP(F953,WKNrListe,Übersicht!E$7:E$77),0)","v":0},""]
[null,null,null,null,null,null,{"$f":"IF(ISERROR(MATCH(F954,WKNrListe_Einzel,0)),\"\",LOOKUP(F954,WKNrListe_Einzel,Übersicht!$B$7:$B$62))","v":""},null,{"$f":"IF(ISBLANK(H954),\" \",IF(LOOKUP(H954,MannschaftsNrListe,Mannschaften!B$4:B$53)<>0,LOOKUP(H954,MannschaftsNrListe,Mannschaften!B$4:B$53),\"\"))","v":" "},null,null,null,null,null,null,null,null,null,null,null,null,null,null,null,null,null,null,null,null,null,0,{"$f":"IF(NOT(ISBLANK(F954)),LOOKUP(F954,WKNrListe,Übersicht!E$7:E$77),0)","v":0},""]
[null,null,null,null,null,null,{"$f":"IF(ISERROR(MATCH(F955,WKNrListe_Einzel,0)),\"\",LOOKUP(F955,WKNrListe_Einzel,Übersicht!$B$7:$B$62))","v":""},null,{"$f":"IF(ISBLANK(H955),\" \",IF(LOOKUP(H955,MannschaftsNrListe,Mannschaften!B$4:B$53)<>0,LOOKUP(H955,MannschaftsNrListe,Mannschaften!B$4:B$53),\"\"))","v":" "},null,null,null,null,null,null,null,null,null,null,null,null,null,null,null,null,null,null,null,null,null,0,{"$f":"IF(NOT(ISBLANK(F955)),LOOKUP(F955,WKNrListe,Übersicht!E$7:E$77),0)","v":0},""]
[null,null,null,null,null,null,{"$f":"IF(ISERROR(MATCH(F956,WKNrListe_Einzel,0)),\"\",LOOKUP(F956,WKNrListe_Einzel,Übersicht!$B$7:$B$62))","v":""},null,{"$f":"IF(ISBLANK(H956),\" \",IF(LOOKUP(H956,MannschaftsNrListe,Mannschaften!B$4:B$53)<>0,LOOKUP(H956,MannschaftsNrListe,Mannschaften!B$4:B$53),\"\"))","v":" "},null,null,null,null,null,null,null,null,null,null,null,null,null,null,null,null,null,null,null,null,null,0,{"$f":"IF(NOT(ISBLANK(F956)),LOOKUP(F956,WKNrListe,Übersicht!E$7:E$77),0)","v":0},""]
[null,null,null,null,null,null,{"$f":"IF(ISERROR(MATCH(F957,WKNrListe_Einzel,0)),\"\",LOOKUP(F957,WKNrListe_Einzel,Übersicht!$B$7:$B$62))","v":""},null,{"$f":"IF(ISBLANK(H957),\" \",IF(LOOKUP(H957,MannschaftsNrListe,Mannschaften!B$4:B$53)<>0,LOOKUP(H957,MannschaftsNrListe,Mannschaften!B$4:B$53),\"\"))","v":" "},null,null,null,null,null,null,null,null,null,null,null,null,null,null,null,null,null,null,null,null,null,0,{"$f":"IF(NOT(ISBLANK(F957)),LOOKUP(F957,WKNrListe,Übersicht!E$7:E$77),0)","v":0},""]
[null,null,null,null,null,null,{"$f":"IF(ISERROR(MATCH(F958,WKNrListe_Einzel,0)),\"\",LOOKUP(F958,WKNrListe_Einzel,Übersicht!$B$7:$B$62))","v":""},null,{"$f":"IF(ISBLANK(H958),\" \",IF(LOOKUP(H958,MannschaftsNrListe,Mannschaften!B$4:B$53)<>0,LOOKUP(H958,MannschaftsNrListe,Mannschaften!B$4:B$53),\"\"))","v":" "},null,null,null,null,null,null,null,null,null,null,null,null,null,null,null,null,null,null,null,null,null,0,{"$f":"IF(NOT(ISBLANK(F958)),LOOKUP(F958,WKNrListe,Übersicht!E$7:E$77),0)","v":0},""]
[null,null,null,null,null,null,{"$f":"IF(ISERROR(MATCH(F959,WKNrListe_Einzel,0)),\"\",LOOKUP(F959,WKNrListe_Einzel,Übersicht!$B$7:$B$62))","v":""},null,{"$f":"IF(ISBLANK(H959),\" \",IF(LOOKUP(H959,MannschaftsNrListe,Mannschaften!B$4:B$53)<>0,LOOKUP(H959,MannschaftsNrListe,Mannschaften!B$4:B$53),\"\"))","v":" "},null,null,null,null,null,null,null,null,null,null,null,null,null,null,null,null,null,null,null,null,null,0,{"$f":"IF(NOT(ISBLANK(F959)),LOOKUP(F959,WKNrListe,Übersicht!E$7:E$77),0)","v":0},""]
[null,null,null,null,null,null,{"$f":"IF(ISERROR(MATCH(F960,WKNrListe_Einzel,0)),\"\",LOOKUP(F960,WKNrListe_Einzel,Übersicht!$B$7:$B$62))","v":""},null,{"$f":"IF(ISBLANK(H960),\" \",IF(LOOKUP(H960,MannschaftsNrListe,Mannschaften!B$4:B$53)<>0,LOOKUP(H960,MannschaftsNrListe,Mannschaften!B$4:B$53),\"\"))","v":" "},null,null,null,null,null,null,null,null,null,null,null,null,null,null,null,null,null,null,null,null,null,0,{"$f":"IF(NOT(ISBLANK(F960)),LOOKUP(F960,WKNrListe,Übersicht!E$7:E$77),0)","v":0},""]
[null,null,null,null,null,null,{"$f":"IF(ISERROR(MATCH(F961,WKNrListe_Einzel,0)),\"\",LOOKUP(F961,WKNrListe_Einzel,Übersicht!$B$7:$B$62))","v":""},null,{"$f":"IF(ISBLANK(H961),\" \",IF(LOOKUP(H961,MannschaftsNrListe,Mannschaften!B$4:B$53)<>0,LOOKUP(H961,MannschaftsNrListe,Mannschaften!B$4:B$53),\"\"))","v":" "},null,null,null,null,null,null,null,null,null,null,null,null,null,null,null,null,null,null,null,null,null,0,{"$f":"IF(NOT(ISBLANK(F961)),LOOKUP(F961,WKNrListe,Übersicht!E$7:E$77),0)","v":0},""]
[null,null,null,null,null,null,{"$f":"IF(ISERROR(MATCH(F962,WKNrListe_Einzel,0)),\"\",LOOKUP(F962,WKNrListe_Einzel,Übersicht!$B$7:$B$62))","v":""},null,{"$f":"IF(ISBLANK(H962),\" \",IF(LOOKUP(H962,MannschaftsNrListe,Mannschaften!B$4:B$53)<>0,LOOKUP(H962,MannschaftsNrListe,Mannschaften!B$4:B$53),\"\"))","v":" "},null,null,null,null,null,null,null,null,null,null,null,null,null,null,null,null,null,null,null,null,null,0,{"$f":"IF(NOT(ISBLANK(F962)),LOOKUP(F962,WKNrListe,Übersicht!E$7:E$77),0)","v":0},""]
[null,null,null,null,null,null,{"$f":"IF(ISERROR(MATCH(F963,WKNrListe_Einzel,0)),\"\",LOOKUP(F963,WKNrListe_Einzel,Übersicht!$B$7:$B$62))","v":""},null,{"$f":"IF(ISBLANK(H963),\" \",IF(LOOKUP(H963,MannschaftsNrListe,Mannschaften!B$4:B$53)<>0,LOOKUP(H963,MannschaftsNrListe,Mannschaften!B$4:B$53),\"\"))","v":" "},null,null,null,null,null,null,null,null,null,null,null,null,null,null,null,null,null,null,null,null,null,0,{"$f":"IF(NOT(ISBLANK(F963)),LOOKUP(F963,WKNrListe,Übersicht!E$7:E$77),0)","v":0},""]
[null,null,null,null,null,null,{"$f":"IF(ISERROR(MATCH(F964,WKNrListe_Einzel,0)),\"\",LOOKUP(F964,WKNrListe_Einzel,Übersicht!$B$7:$B$62))","v":""},null,{"$f":"IF(ISBLANK(H964),\" \",IF(LOOKUP(H964,MannschaftsNrListe,Mannschaften!B$4:B$53)<>0,LOOKUP(H964,MannschaftsNrListe,Mannschaften!B$4:B$53),\"\"))","v":" "},null,null,null,null,null,null,null,null,null,null,null,null,null,null,null,null,null,null,null,null,null,0,{"$f":"IF(NOT(ISBLANK(F964)),LOOKUP(F964,WKNrListe,Übersicht!E$7:E$77),0)","v":0},""]
[null,null,null,null,null,null,{"$f":"IF(ISERROR(MATCH(F965,WKNrListe_Einzel,0)),\"\",LOOKUP(F965,WKNrListe_Einzel,Übersicht!$B$7:$B$62))","v":""},null,{"$f":"IF(ISBLANK(H965),\" \",IF(LOOKUP(H965,MannschaftsNrListe,Mannschaften!B$4:B$53)<>0,LOOKUP(H965,MannschaftsNrListe,Mannschaften!B$4:B$53),\"\"))","v":" "},null,null,null,null,null,null,null,null,null,null,null,null,null,null,null,null,null,null,null,null,null,0,{"$f":"IF(NOT(ISBLANK(F965)),LOOKUP(F965,WKNrListe,Übersicht!E$7:E$77),0)","v":0},{"$f":"IF(\n AND(\n  OR(ISTEXT(A965), ISTEXT(B965), NOT(ISBLANK(E965)), NOT(ISBLANK(F965)), NOT(ISBLANK(H965))),\n  OR(ISBLANK(A965),ISBLANK(B965),AND(ISBLANK(E965),ISBLANK(F965),ISBLANK(H965)))\n ),\n \"unvollständig\",\n IF(\n  AND(\n   NOT(\n    ISBLANK(H965)\n    ),\n   NOT(ISNUMBER(I965))\n  ),\n  \"Seite Mannschaften ausfüllen!\",\n  IF(AF965>AE965,\"zu wenig Disziplinen gewählt\",IF(AE965>AF965,\"zu viele Disziplinen gewählt\",\"\"))\n )\n)","v":""}]
[null,null,null,null,null,null,{"$f":"IF(ISERROR(MATCH(F966,WKNrListe_Einzel,0)),\"\",LOOKUP(F966,WKNrListe_Einzel,Übersicht!$B$7:$B$62))","v":""},null,{"$f":"IF(ISBLANK(H966),\" \",IF(LOOKUP(H966,MannschaftsNrListe,Mannschaften!B$4:B$53)<>0,LOOKUP(H966,MannschaftsNrListe,Mannschaften!B$4:B$53),\"\"))","v":" "},null,null,null,null,null,null,null,null,null,null,null,null,null,null,null,null,null,null,null,null,null,0,{"$f":"IF(NOT(ISBLANK(F966)),LOOKUP(F966,WKNrListe,Übersicht!E$7:E$77),0)","v":0},""]
[null,null,null,null,null,null,{"$f":"IF(ISERROR(MATCH(F967,WKNrListe_Einzel,0)),\"\",LOOKUP(F967,WKNrListe_Einzel,Übersicht!$B$7:$B$62))","v":""},null,{"$f":"IF(ISBLANK(H967),\" \",IF(LOOKUP(H967,MannschaftsNrListe,Mannschaften!B$4:B$53)<>0,LOOKUP(H967,MannschaftsNrListe,Mannschaften!B$4:B$53),\"\"))","v":" "},null,null,null,null,null,null,null,null,null,null,null,null,null,null,null,null,null,null,null,null,null,0,{"$f":"IF(NOT(ISBLANK(F967)),LOOKUP(F967,WKNrListe,Übersicht!E$7:E$77),0)","v":0},""]
[null,null,null,null,null,null,{"$f":"IF(ISERROR(MATCH(F968,WKNrListe_Einzel,0)),\"\",LOOKUP(F968,WKNrListe_Einzel,Übersicht!$B$7:$B$62))","v":""},null,{"$f":"IF(ISBLANK(H968),\" \",IF(LOOKUP(H968,MannschaftsNrListe,Mannschaften!B$4:B$53)<>0,LOOKUP(H968,MannschaftsNrListe,Mannschaften!B$4:B$53),\"\"))","v":" "},null,null,null,null,null,null,null,null,null,null,null,null,null,null,null,null,null,null,null,null,null,0,{"$f":"IF(NOT(ISBLANK(F968)),LOOKUP(F968,WKNrListe,Übersicht!E$7:E$77),0)","v":0},""]
[null,null,null,null,null,null,{"$f":"IF(ISERROR(MATCH(F969,WKNrListe_Einzel,0)),\"\",LOOKUP(F969,WKNrListe_Einzel,Übersicht!$B$7:$B$62))","v":""},null,{"$f":"IF(ISBLANK(H969),\" \",IF(LOOKUP(H969,MannschaftsNrListe,Mannschaften!B$4:B$53)<>0,LOOKUP(H969,MannschaftsNrListe,Mannschaften!B$4:B$53),\"\"))","v":" "},null,null,null,null,null,null,null,null,null,null,null,null,null,null,null,null,null,null,null,null,null,0,{"$f":"IF(NOT(ISBLANK(F969)),LOOKUP(F969,WKNrListe,Übersicht!E$7:E$77),0)","v":0},""]
[null,null,null,null,null,null,{"$f":"IF(ISERROR(MATCH(F970,WKNrListe_Einzel,0)),\"\",LOOKUP(F970,WKNrListe_Einzel,Übersicht!$B$7:$B$62))","v":""},null,{"$f":"IF(ISBLANK(H970),\" \",IF(LOOKUP(H970,MannschaftsNrListe,Mannschaften!B$4:B$53)<>0,LOOKUP(H970,MannschaftsNrListe,Mannschaften!B$4:B$53),\"\"))","v":" "},null,null,null,null,null,null,null,null,null,null,null,null,null,null,null,null,null,null,null,null,null,0,{"$f":"IF(NOT(ISBLANK(F970)),LOOKUP(F970,WKNrListe,Übersicht!E$7:E$77),0)","v":0},""]
[null,null,null,null,null,null,{"$f":"IF(ISERROR(MATCH(F971,WKNrListe_Einzel,0)),\"\",LOOKUP(F971,WKNrListe_Einzel,Übersicht!$B$7:$B$62))","v":""},null,{"$f":"IF(ISBLANK(H971),\" \",IF(LOOKUP(H971,MannschaftsNrListe,Mannschaften!B$4:B$53)<>0,LOOKUP(H971,MannschaftsNrListe,Mannschaften!B$4:B$53),\"\"))","v":" "},null,null,null,null,null,null,null,null,null,null,null,null,null,null,null,null,null,null,null,null,null,0,{"$f":"IF(NOT(ISBLANK(F971)),LOOKUP(F971,WKNrListe,Übersicht!E$7:E$77),0)","v":0},""]
[null,null,null,null,null,null,{"$f":"IF(ISERROR(MATCH(F972,WKNrListe_Einzel,0)),\"\",LOOKUP(F972,WKNrListe_Einzel,Übersicht!$B$7:$B$62))","v":""},null,{"$f":"IF(ISBLANK(H972),\" \",IF(LOOKUP(H972,MannschaftsNrListe,Mannschaften!B$4:B$53)<>0,LOOKUP(H972,MannschaftsNrListe,Mannschaften!B$4:B$53),\"\"))","v":" "},null,null,null,null,null,null,null,null,null,null,null,null,null,null,null,null,null,null,null,null,null,0,{"$f":"IF(NOT(ISBLANK(F972)),LOOKUP(F972,WKNrListe,Übersicht!E$7:E$77),0)","v":0},""]
[null,null,null,null,null,null,{"$f":"IF(ISERROR(MATCH(F973,WKNrListe_Einzel,0)),\"\",LOOKUP(F973,WKNrListe_Einzel,Übersicht!$B$7:$B$62))","v":""},null,{"$f":"IF(ISBLANK(H973),\" \",IF(LOOKUP(H973,MannschaftsNrListe,Mannschaften!B$4:B$53)<>0,LOOKUP(H973,MannschaftsNrListe,Mannschaften!B$4:B$53),\"\"))","v":" "},null,null,null,null,null,null,null,null,null,null,null,null,null,null,null,null,null,null,null,null,null,0,{"$f":"IF(NOT(ISBLANK(F973)),LOOKUP(F973,WKNrListe,Übersicht!E$7:E$77),0)","v":0},""]
[null,null,null,null,null,null,{"$f":"IF(ISERROR(MATCH(F974,WKNrListe_Einzel,0)),\"\",LOOKUP(F974,WKNrListe_Einzel,Übersicht!$B$7:$B$62))","v":""},null,{"$f":"IF(ISBLANK(H974),\" \",IF(LOOKUP(H974,MannschaftsNrListe,Mannschaften!B$4:B$53)<>0,LOOKUP(H974,MannschaftsNrListe,Mannschaften!B$4:B$53),\"\"))","v":" "},null,null,null,null,null,null,null,null,null,null,null,null,null,null,null,null,null,null,null,null,null,0,{"$f":"IF(NOT(ISBLANK(F974)),LOOKUP(F974,WKNrListe,Übersicht!E$7:E$77),0)","v":0},""]
[null,null,null,null,null,null,{"$f":"IF(ISERROR(MATCH(F975,WKNrListe_Einzel,0)),\"\",LOOKUP(F975,WKNrListe_Einzel,Übersicht!$B$7:$B$62))","v":""},null,{"$f":"IF(ISBLANK(H975),\" \",IF(LOOKUP(H975,MannschaftsNrListe,Mannschaften!B$4:B$53)<>0,LOOKUP(H975,MannschaftsNrListe,Mannschaften!B$4:B$53),\"\"))","v":" "},null,null,null,null,null,null,null,null,null,null,null,null,null,null,null,null,null,null,null,null,null,0,{"$f":"IF(NOT(ISBLANK(F975)),LOOKUP(F975,WKNrListe,Übersicht!E$7:E$77),0)","v":0},""]
[null,null,null,null,null,null,{"$f":"IF(ISERROR(MATCH(F976,WKNrListe_Einzel,0)),\"\",LOOKUP(F976,WKNrListe_Einzel,Übersicht!$B$7:$B$62))","v":""},null,{"$f":"IF(ISBLANK(H976),\" \",IF(LOOKUP(H976,MannschaftsNrListe,Mannschaften!B$4:B$53)<>0,LOOKUP(H976,MannschaftsNrListe,Mannschaften!B$4:B$53),\"\"))","v":" "},null,null,null,null,null,null,null,null,null,null,null,null,null,null,null,null,null,null,null,null,null,0,{"$f":"IF(NOT(ISBLANK(F976)),LOOKUP(F976,WKNrListe,Übersicht!E$7:E$77),0)","v":0},""]
[null,null,null,null,null,null,{"$f":"IF(ISERROR(MATCH(F977,WKNrListe_Einzel,0)),\"\",LOOKUP(F977,WKNrListe_Einzel,Übersicht!$B$7:$B$62))","v":""},null,{"$f":"IF(ISBLANK(H977),\" \",IF(LOOKUP(H977,MannschaftsNrListe,Mannschaften!B$4:B$53)<>0,LOOKUP(H977,MannschaftsNrListe,Mannschaften!B$4:B$53),\"\"))","v":" "},null,null,null,null,null,null,null,null,null,null,null,null,null,null,null,null,null,null,null,null,null,0,{"$f":"IF(NOT(ISBLANK(F977)),LOOKUP(F977,WKNrListe,Übersicht!E$7:E$77),0)","v":0},""]
[null,null,null,null,null,null,{"$f":"IF(ISERROR(MATCH(F978,WKNrListe_Einzel,0)),\"\",LOOKUP(F978,WKNrListe_Einzel,Übersicht!$B$7:$B$62))","v":""},null,{"$f":"IF(ISBLANK(H978),\" \",IF(LOOKUP(H978,MannschaftsNrListe,Mannschaften!B$4:B$53)<>0,LOOKUP(H978,MannschaftsNrListe,Mannschaften!B$4:B$53),\"\"))","v":" "},null,null,null,null,null,null,null,null,null,null,null,null,null,null,null,null,null,null,null,null,null,0,{"$f":"IF(NOT(ISBLANK(F978)),LOOKUP(F978,WKNrListe,Übersicht!E$7:E$77),0)","v":0},""]
[null,null,null,null,null,null,{"$f":"IF(ISERROR(MATCH(F979,WKNrListe_Einzel,0)),\"\",LOOKUP(F979,WKNrListe_Einzel,Übersicht!$B$7:$B$62))","v":""},null,{"$f":"IF(ISBLANK(H979),\" \",IF(LOOKUP(H979,MannschaftsNrListe,Mannschaften!B$4:B$53)<>0,LOOKUP(H979,MannschaftsNrListe,Mannschaften!B$4:B$53),\"\"))","v":" "},null,null,null,null,null,null,null,null,null,null,null,null,null,null,null,null,null,null,null,null,null,0,{"$f":"IF(NOT(ISBLANK(F979)),LOOKUP(F979,WKNrListe,Übersicht!E$7:E$77),0)","v":0},""]
[null,null,null,null,null,null,{"$f":"IF(ISERROR(MATCH(F980,WKNrListe_Einzel,0)),\"\",LOOKUP(F980,WKNrListe_Einzel,Übersicht!$B$7:$B$62))","v":""},null,{"$f":"IF(ISBLANK(H980),\" \",IF(LOOKUP(H980,MannschaftsNrListe,Mannschaften!B$4:B$53)<>0,LOOKUP(H980,MannschaftsNrListe,Mannschaften!B$4:B$53),\"\"))","v":" "},null,null,null,null,null,null,null,null,null,null,null,null,null,null,null,null,null,null,null,null,null,0,{"$f":"IF(NOT(ISBLANK(F980)),LOOKUP(F980,WKNrListe,Übersicht!E$7:E$77),0)","v":0},""]
[null,null,null,null,null,null,{"$f":"IF(ISERROR(MATCH(F981,WKNrListe_Einzel,0)),\"\",LOOKUP(F981,WKNrListe_Einzel,Übersicht!$B$7:$B$62))","v":""},null,{"$f":"IF(ISBLANK(H981),\" \",IF(LOOKUP(H981,MannschaftsNrListe,Mannschaften!B$4:B$53)<>0,LOOKUP(H981,MannschaftsNrListe,Mannschaften!B$4:B$53),\"\"))","v":" "},null,null,null,null,null,null,null,null,null,null,null,null,null,null,null,null,null,null,null,null,null,0,{"$f":"IF(NOT(ISBLANK(F981)),LOOKUP(F981,WKNrListe,Übersicht!E$7:E$77),0)","v":0},""]
[null,null,null,null,null,null,{"$f":"IF(ISERROR(MATCH(F982,WKNrListe_Einzel,0)),\"\",LOOKUP(F982,WKNrListe_Einzel,Übersicht!$B$7:$B$62))","v":""},null,{"$f":"IF(ISBLANK(H982),\" \",IF(LOOKUP(H982,MannschaftsNrListe,Mannschaften!B$4:B$53)<>0,LOOKUP(H982,MannschaftsNrListe,Mannschaften!B$4:B$53),\"\"))","v":" "},null,null,null,null,null,null,null,null,null,null,null,null,null,null,null,null,null,null,null,null,null,0,{"$f":"IF(NOT(ISBLANK(F982)),LOOKUP(F982,WKNrListe,Übersicht!E$7:E$77),0)","v":0},""]
[null,null,null,null,null,null,{"$f":"IF(ISERROR(MATCH(F983,WKNrListe_Einzel,0)),\"\",LOOKUP(F983,WKNrListe_Einzel,Übersicht!$B$7:$B$62))","v":""},null,{"$f":"IF(ISBLANK(H983),\" \",IF(LOOKUP(H983,MannschaftsNrListe,Mannschaften!B$4:B$53)<>0,LOOKUP(H983,MannschaftsNrListe,Mannschaften!B$4:B$53),\"\"))","v":" "},null,null,null,null,null,null,null,null,null,null,null,null,null,null,null,null,null,null,null,null,null,0,{"$f":"IF(NOT(ISBLANK(F983)),LOOKUP(F983,WKNrListe,Übersicht!E$7:E$77),0)","v":0},""]
[null,null,null,null,null,null,{"$f":"IF(ISERROR(MATCH(F984,WKNrListe_Einzel,0)),\"\",LOOKUP(F984,WKNrListe_Einzel,Übersicht!$B$7:$B$62))","v":""},null,{"$f":"IF(ISBLANK(H984),\" \",IF(LOOKUP(H984,MannschaftsNrListe,Mannschaften!B$4:B$53)<>0,LOOKUP(H984,MannschaftsNrListe,Mannschaften!B$4:B$53),\"\"))","v":" "},null,null,null,null,null,null,null,null,null,null,null,null,null,null,null,null,null,null,null,null,null,0,{"$f":"IF(NOT(ISBLANK(F984)),LOOKUP(F984,WKNrListe,Übersicht!E$7:E$77),0)","v":0},""]
[null,null,null,null,null,null,{"$f":"IF(ISERROR(MATCH(F985,WKNrListe_Einzel,0)),\"\",LOOKUP(F985,WKNrListe_Einzel,Übersicht!$B$7:$B$62))","v":""},null,{"$f":"IF(ISBLANK(H985),\" \",IF(LOOKUP(H985,MannschaftsNrListe,Mannschaften!B$4:B$53)<>0,LOOKUP(H985,MannschaftsNrListe,Mannschaften!B$4:B$53),\"\"))","v":" "},null,null,null,null,null,null,null,null,null,null,null,null,null,null,null,null,null,null,null,null,null,0,{"$f":"IF(NOT(ISBLANK(F985)),LOOKUP(F985,WKNrListe,Übersicht!E$7:E$77),0)","v":0},""]
[null,null,null,null,null,null,{"$f":"IF(ISERROR(MATCH(F986,WKNrListe_Einzel,0)),\"\",LOOKUP(F986,WKNrListe_Einzel,Übersicht!$B$7:$B$62))","v":""},null,{"$f":"IF(ISBLANK(H986),\" \",IF(LOOKUP(H986,MannschaftsNrListe,Mannschaften!B$4:B$53)<>0,LOOKUP(H986,MannschaftsNrListe,Mannschaften!B$4:B$53),\"\"))","v":" "},null,null,null,null,null,null,null,null,null,null,null,null,null,null,null,null,null,null,null,null,null,0,{"$f":"IF(NOT(ISBLANK(F986)),LOOKUP(F986,WKNrListe,Übersicht!E$7:E$77),0)","v":0},""]
[null,null,null,null,null,null,{"$f":"IF(ISERROR(MATCH(F987,WKNrListe_Einzel,0)),\"\",LOOKUP(F987,WKNrListe_Einzel,Übersicht!$B$7:$B$62))","v":""},null,{"$f":"IF(ISBLANK(H987),\" \",IF(LOOKUP(H987,MannschaftsNrListe,Mannschaften!B$4:B$53)<>0,LOOKUP(H987,MannschaftsNrListe,Mannschaften!B$4:B$53),\"\"))","v":" "},null,null,null,null,null,null,null,null,null,null,null,null,null,null,null,null,null,null,null,null,null,0,{"$f":"IF(NOT(ISBLANK(F987)),LOOKUP(F987,WKNrListe,Übersicht!E$7:E$77),0)","v":0},""]
[null,null,null,null,null,null,{"$f":"IF(ISERROR(MATCH(F988,WKNrListe_Einzel,0)),\"\",LOOKUP(F988,WKNrListe_Einzel,Übersicht!$B$7:$B$62))","v":""},null,{"$f":"IF(ISBLANK(H988),\" \",IF(LOOKUP(H988,MannschaftsNrListe,Mannschaften!B$4:B$53)<>0,LOOKUP(H988,MannschaftsNrListe,Mannschaften!B$4:B$53),\"\"))","v":" "},null,null,null,null,null,null,null,null,null,null,null,null,null,null,null,null,null,null,null,null,null,0,{"$f":"IF(NOT(ISBLANK(F988)),LOOKUP(F988,WKNrListe,Übersicht!E$7:E$77),0)","v":0},""]
[null,null,null,null,null,null,{"$f":"IF(ISERROR(MATCH(F989,WKNrListe_Einzel,0)),\"\",LOOKUP(F989,WKNrListe_Einzel,Übersicht!$B$7:$B$62))","v":""},null,{"$f":"IF(ISBLANK(H989),\" \",IF(LOOKUP(H989,MannschaftsNrListe,Mannschaften!B$4:B$53)<>0,LOOKUP(H989,MannschaftsNrListe,Mannschaften!B$4:B$53),\"\"))","v":" "},null,null,null,null,null,null,null,null,null,null,null,null,null,null,null,null,null,null,null,null,null,0,{"$f":"IF(NOT(ISBLANK(F989)),LOOKUP(F989,WKNrListe,Übersicht!E$7:E$77),0)","v":0},""]
[null,null,null,null,null,null,{"$f":"IF(ISERROR(MATCH(F990,WKNrListe_Einzel,0)),\"\",LOOKUP(F990,WKNrListe_Einzel,Übersicht!$B$7:$B$62))","v":""},null,{"$f":"IF(ISBLANK(H990),\" \",IF(LOOKUP(H990,MannschaftsNrListe,Mannschaften!B$4:B$53)<>0,LOOKUP(H990,MannschaftsNrListe,Mannschaften!B$4:B$53),\"\"))","v":" "},null,null,null,null,null,null,null,null,null,null,null,null,null,null,null,null,null,null,null,null,null,0,{"$f":"IF(NOT(ISBLANK(F990)),LOOKUP(F990,WKNrListe,Übersicht!E$7:E$77),0)","v":0},""]
[null,null,null,null,null,null,{"$f":"IF(ISERROR(MATCH(F991,WKNrListe_Einzel,0)),\"\",LOOKUP(F991,WKNrListe_Einzel,Übersicht!$B$7:$B$62))","v":""},null,{"$f":"IF(ISBLANK(H991),\" \",IF(LOOKUP(H991,MannschaftsNrListe,Mannschaften!B$4:B$53)<>0,LOOKUP(H991,MannschaftsNrListe,Mannschaften!B$4:B$53),\"\"))","v":" "},null,null,null,null,null,null,null,null,null,null,null,null,null,null,null,null,null,null,null,null,null,0,{"$f":"IF(NOT(ISBLANK(F991)),LOOKUP(F991,WKNrListe,Übersicht!E$7:E$77),0)","v":0},""]
[null,null,null,null,null,null,{"$f":"IF(ISERROR(MATCH(F992,WKNrListe_Einzel,0)),\"\",LOOKUP(F992,WKNrListe_Einzel,Übersicht!$B$7:$B$62))","v":""},null,{"$f":"IF(ISBLANK(H992),\" \",IF(LOOKUP(H992,MannschaftsNrListe,Mannschaften!B$4:B$53)<>0,LOOKUP(H992,MannschaftsNrListe,Mannschaften!B$4:B$53),\"\"))","v":" "},null,null,null,null,null,null,null,null,null,null,null,null,null,null,null,null,null,null,null,null,null,0,{"$f":"IF(NOT(ISBLANK(F992)),LOOKUP(F992,WKNrListe,Übersicht!E$7:E$77),0)","v":0},""]
[null,null,null,null,null,null,{"$f":"IF(ISERROR(MATCH(F993,WKNrListe_Einzel,0)),\"\",LOOKUP(F993,WKNrListe_Einzel,Übersicht!$B$7:$B$62))","v":""},null,{"$f":"IF(ISBLANK(H993),\" \",IF(LOOKUP(H993,MannschaftsNrListe,Mannschaften!B$4:B$53)<>0,LOOKUP(H993,MannschaftsNrListe,Mannschaften!B$4:B$53),\"\"))","v":" "},null,null,null,null,null,null,null,null,null,null,null,null,null,null,null,null,null,null,null,null,null,0,{"$f":"IF(NOT(ISBLANK(F993)),LOOKUP(F993,WKNrListe,Übersicht!E$7:E$77),0)","v":0},""]
[null,null,null,null,null,null,{"$f":"IF(ISERROR(MATCH(F994,WKNrListe_Einzel,0)),\"\",LOOKUP(F994,WKNrListe_Einzel,Übersicht!$B$7:$B$62))","v":""},null,{"$f":"IF(ISBLANK(H994),\" \",IF(LOOKUP(H994,MannschaftsNrListe,Mannschaften!B$4:B$53)<>0,LOOKUP(H994,MannschaftsNrListe,Mannschaften!B$4:B$53),\"\"))","v":" "},null,null,null,null,null,null,null,null,null,null,null,null,null,null,null,null,null,null,null,null,null,0,{"$f":"IF(NOT(ISBLANK(F994)),LOOKUP(F994,WKNrListe,Übersicht!E$7:E$77),0)","v":0},""]
[null,null,null,null,null,null,{"$f":"IF(ISERROR(MATCH(F995,WKNrListe_Einzel,0)),\"\",LOOKUP(F995,WKNrListe_Einzel,Übersicht!$B$7:$B$62))","v":""},null,{"$f":"IF(ISBLANK(H995),\" \",IF(LOOKUP(H995,MannschaftsNrListe,Mannschaften!B$4:B$53)<>0,LOOKUP(H995,MannschaftsNrListe,Mannschaften!B$4:B$53),\"\"))","v":" "},null,null,null,null,null,null,null,null,null,null,null,null,null,null,null,null,null,null,null,null,null,0,{"$f":"IF(NOT(ISBLANK(F995)),LOOKUP(F995,WKNrListe,Übersicht!E$7:E$77),0)","v":0},""]
[null,null,null,null,null,null,{"$f":"IF(ISERROR(MATCH(F996,WKNrListe_Einzel,0)),\"\",LOOKUP(F996,WKNrListe_Einzel,Übersicht!$B$7:$B$62))","v":""},null,{"$f":"IF(ISBLANK(H996),\" \",IF(LOOKUP(H996,MannschaftsNrListe,Mannschaften!B$4:B$53)<>0,LOOKUP(H996,MannschaftsNrListe,Mannschaften!B$4:B$53),\"\"))","v":" "},null,null,null,null,null,null,null,null,null,null,null,null,null,null,null,null,null,null,null,null,null,0,{"$f":"IF(NOT(ISBLANK(F996)),LOOKUP(F996,WKNrListe,Übersicht!E$7:E$77),0)","v":0},""]
[null,null,null,null,null,null,{"$f":"IF(ISERROR(MATCH(F997,WKNrListe_Einzel,0)),\"\",LOOKUP(F997,WKNrListe_Einzel,Übersicht!$B$7:$B$62))","v":""},null,{"$f":"IF(ISBLANK(H997),\" \",IF(LOOKUP(H997,MannschaftsNrListe,Mannschaften!B$4:B$53)<>0,LOOKUP(H997,MannschaftsNrListe,Mannschaften!B$4:B$53),\"\"))","v":" "},null,null,null,null,null,null,null,null,null,null,null,null,null,null,null,null,null,null,null,null,null,0,{"$f":"IF(NOT(ISBLANK(F997)),LOOKUP(F997,WKNrListe,Übersicht!E$7:E$77),0)","v":0},""]
[null,null,null,null,null,null,{"$f":"IF(ISERROR(MATCH(F998,WKNrListe_Einzel,0)),\"\",LOOKUP(F998,WKNrListe_Einzel,Übersicht!$B$7:$B$62))","v":""},null,{"$f":"IF(ISBLANK(H998),\" \",IF(LOOKUP(H998,MannschaftsNrListe,Mannschaften!B$4:B$53)<>0,LOOKUP(H998,MannschaftsNrListe,Mannschaften!B$4:B$53),\"\"))","v":" "},null,null,null,null,null,null,null,null,null,null,null,null,null,null,null,null,null,null,null,null,null,0,{"$f":"IF(NOT(ISBLANK(F998)),LOOKUP(F998,WKNrListe,Übersicht!E$7:E$77),0)","v":0},""]
[null,null,null,null,null,null,{"$f":"IF(ISERROR(MATCH(F999,WKNrListe_Einzel,0)),\"\",LOOKUP(F999,WKNrListe_Einzel,Übersicht!$B$7:$B$62))","v":""},null,{"$f":"IF(ISBLANK(H999),\" \",IF(LOOKUP(H999,MannschaftsNrListe,Mannschaften!B$4:B$53)<>0,LOOKUP(H999,MannschaftsNrListe,Mannschaften!B$4:B$53),\"\"))","v":" "},null,null,null,null,null,null,null,null,null,null,null,null,null,null,null,null,null,null,null,null,null,0,{"$f":"IF(NOT(ISBLANK(F999)),LOOKUP(F999,WKNrListe,Übersicht!E$7:E$77),0)","v":0},""]
[null,null,null,null,null,null,{"$f":"IF(ISERROR(MATCH(F1000,WKNrListe_Einzel,0)),\"\",LOOKUP(F1000,WKNrListe_Einzel,Übersicht!$B$7:$B$62))","v":""},null,{"$f":"IF(ISBLANK(H1000),\" \",IF(LOOKUP(H1000,MannschaftsNrListe,Mannschaften!B$4:B$53)<>0,LOOKUP(H1000,MannschaftsNrListe,Mannschaften!B$4:B$53),\"\"))","v":" "},null,null,null,null,null,null,null,null,null,null,null,null,null,null,null,null,null,null,null,null,null,0,{"$f":"IF(NOT(ISBLANK(F1000)),LOOKUP(F1000,WKNrListe,Übersicht!E$7:E$77),0)","v":0},""]
[null,null,null,null,null,null,{"$f":"IF(ISERROR(MATCH(F1001,WKNrListe_Einzel,0)),\"\",LOOKUP(F1001,WKNrListe_Einzel,Übersicht!$B$7:$B$62))","v":""},null,{"$f":"IF(ISBLANK(H1001),\" \",IF(LOOKUP(H1001,MannschaftsNrListe,Mannschaften!B$4:B$53)<>0,LOOKUP(H1001,MannschaftsNrListe,Mannschaften!B$4:B$53),\"\"))","v":" "},null,null,null,null,null,null,null,null,null,null,null,null,null,null,null,null,null,null,null,null,null,0,{"$f":"IF(NOT(ISBLANK(F1001)),LOOKUP(F1001,WKNrListe,Übersicht!E$7:E$77),0)","v":0},""]
[null,null,null,null,null,null,{"$f":"IF(ISERROR(MATCH(F1002,WKNrListe_Einzel,0)),\"\",LOOKUP(F1002,WKNrListe_Einzel,Übersicht!$B$7:$B$62))","v":""},null,null,null,null,null,null,null,null,null,null,null,null,null,null,null,null,null,null,null,null,null,null,null,0,{"$f":"IF(NOT(ISBLANK(F1002)),LOOKUP(F1002,WKNrListe,Übersicht!E$7:E$77),0)","v":0},""]
[null,null,null,null,null,null,{"$f":"IF(ISERROR(MATCH(F1003,WKNrListe_Einzel,0)),\"\",LOOKUP(F1003,WKNrListe_Einzel,Übersicht!$B$7:$B$62))","v":""},null,{"$f":"IF(ISBLANK(H1003),\" \",IF(LOOKUP(H1003,MannschaftsNrListe,Mannschaften!B$4:B$53)<>0,LOOKUP(H1003,MannschaftsNrListe,Mannschaften!B$4:B$53),\"\"))","v":" "},null,null,null,null,null,null,null,null,null,null,null,null,null,null,null,null,null,null,null,null,null,0,{"$f":"IF(NOT(ISBLANK(F1003)),LOOKUP(F1003,WKNrListe,Übersicht!E$7:E$77),0)","v":0},""]
[null,null,null,null,null,null,{"$f":"IF(ISERROR(MATCH(F1004,WKNrListe_Einzel,0)),\"\",LOOKUP(F1004,WKNrListe_Einzel,Übersicht!$B$7:$B$62))","v":""},null,{"$f":"IF(ISBLANK(H1004),\" \",IF(LOOKUP(H1004,MannschaftsNrListe,Mannschaften!B$4:B$53)<>0,LOOKUP(H1004,MannschaftsNrListe,Mannschaften!B$4:B$53),\"\"))","v":" "},null,null,null,null,null,null,null,null,null,null,null,null,null,null,null,null,null,null,null,null,null,0,{"$f":"IF(NOT(ISBLANK(F1004)),LOOKUP(F1004,WKNrListe,Übersicht!E$7:E$77),0)","v":0},""]
[null,null,null,null,null,null,{"$f":"IF(ISERROR(MATCH(F1005,WKNrListe_Einzel,0)),\"\",LOOKUP(F1005,WKNrListe_Einzel,Übersicht!$B$7:$B$62))","v":""},null,{"$f":"IF(ISBLANK(H1005),\" \",IF(LOOKUP(H1005,MannschaftsNrListe,Mannschaften!B$4:B$53)<>0,LOOKUP(H1005,MannschaftsNrListe,Mannschaften!B$4:B$53),\"\"))","v":" "},null,null,null,null,null,null,null,null,null,null,null,null,null,null,null,null,null,null,null,null,null,0,{"$f":"IF(NOT(ISBLANK(F1005)),LOOKUP(F1005,WKNrListe,Übersicht!E$7:E$77),0)","v":0},""]
[{"$f":"1005-4-(COUNTIF(A5:A1005,\"\"))","v":0},"Anzahl Teilnehmer ermitteln und auf Deckblatt übertragen"]

{"sheet":"Mannschaften","index":3,"n_rows":53,"n_cols":5,"rows_kept":53,"cut":false,"hidden":false,"merged":[]}
["MNr","MWK","x","M-Bezeichnung"]
["Nr.","Wettkampf","Wettkampfbezeichnung","Bezeichnung",{"$f":"IF(LEN(Deckblatt!C24)>0,\"Mannschaft(en) \" & Deckblatt!C24,\"\")","v":""}]
[null,"WK-Nr.",null,"Mannschaft"]
[1,null,{"$f":"IF((B4=\"\"),\"\",IF(ISERROR(MATCH(B4,WKNrListe_Mannschaft,0)),\"WK falsch\",LOOKUP(B4,WKNrListe_Mannschaft,Übersicht!$B$76:$B$77)))","v":""}]
[2,null,{"$f":"IF((B5=\"\"),\"\",IF(ISERROR(MATCH(B5,WKNrListe_Mannschaft,0)),\"WK falsch\",LOOKUP(B5,WKNrListe_Mannschaft,Übersicht!$B$76:$B$77)))","v":""}]
[3,null,{"$f":"IF((B6=\"\"),\"\",IF(ISERROR(MATCH(B6,WKNrListe_Mannschaft,0)),\"WK falsch\",LOOKUP(B6,WKNrListe_Mannschaft,Übersicht!$B$76:$B$77)))","v":""}]
[4,null,{"$f":"IF((B7=\"\"),\"\",IF(ISERROR(MATCH(B7,WKNrListe_Mannschaft,0)),\"WK falsch\",LOOKUP(B7,WKNrListe_Mannschaft,Übersicht!$B$76:$B$77)))","v":""}]
[5,null,{"$f":"IF((B8=\"\"),\"\",IF(ISERROR(MATCH(B8,WKNrListe_Mannschaft,0)),\"WK falsch\",LOOKUP(B8,WKNrListe_Mannschaft,Übersicht!$B$76:$B$77)))","v":""}]
[6,null,{"$f":"IF((B9=\"\"),\"\",IF(ISERROR(MATCH(B9,WKNrListe_Mannschaft,0)),\"WK falsch\",LOOKUP(B9,WKNrListe_Mannschaft,Übersicht!$B$76:$B$77)))","v":""}]
[7,null,{"$f":"IF((B10=\"\"),\"\",IF(ISERROR(MATCH(B10,WKNrListe_Mannschaft,0)),\"WK falsch\",LOOKUP(B10,WKNrListe_Mannschaft,Übersicht!$B$76:$B$77)))","v":""}]
[8,null,{"$f":"IF((B11=\"\"),\"\",IF(ISERROR(MATCH(B11,WKNrListe_Mannschaft,0)),\"WK falsch\",LOOKUP(B11,WKNrListe_Mannschaft,Übersicht!$B$76:$B$77)))","v":""}]
[9,null,{"$f":"IF((B12=\"\"),\"\",IF(ISERROR(MATCH(B12,WKNrListe_Mannschaft,0)),\"WK falsch\",LOOKUP(B12,WKNrListe_Mannschaft,Übersicht!$B$76:$B$77)))","v":""}]
[10,null,{"$f":"IF((B13=\"\"),\"\",IF(ISERROR(MATCH(B13,WKNrListe_Mannschaft,0)),\"WK falsch\",LOOKUP(B13,WKNrListe_Mannschaft,Übersicht!$B$76:$B$77)))","v":""}]
[11,null,{"$f":"IF((B14=\"\"),\"\",IF(ISERROR(MATCH(B14,WKNrListe_Mannschaft,0)),\"WK falsch\",LOOKUP(B14,WKNrListe_Mannschaft,Übersicht!$B$76:$B$77)))","v":""}]
[12,null,{"$f":"IF((B15=\"\"),\"\",IF(ISERROR(MATCH(B15,WKNrListe_Mannschaft,0)),\"WK falsch\",LOOKUP(B15,WKNrListe_Mannschaft,Übersicht!$B$76:$B$77)))","v":""}]
[13,null,{"$f":"IF((B16=\"\"),\"\",IF(ISERROR(MATCH(B16,WKNrListe_Mannschaft,0)),\"WK falsch\",LOOKUP(B16,WKNrListe_Mannschaft,Übersicht!$B$76:$B$77)))","v":""}]
[14,null,{"$f":"IF((B17=\"\"),\"\",IF(ISERROR(MATCH(B17,WKNrListe_Mannschaft,0)),\"WK falsch\",LOOKUP(B17,WKNrListe_Mannschaft,Übersicht!$B$76:$B$77)))","v":""}]
[15,null,{"$f":"IF((B18=\"\"),\"\",IF(ISERROR(MATCH(B18,WKNrListe_Mannschaft,0)),\"WK falsch\",LOOKUP(B18,WKNrListe_Mannschaft,Übersicht!$B$76:$B$77)))","v":""}]
[16,null,{"$f":"IF((B19=\"\"),\"\",IF(ISERROR(MATCH(B19,WKNrListe_Mannschaft,0)),\"WK falsch\",LOOKUP(B19,WKNrListe_Mannschaft,Übersicht!$B$76:$B$77)))","v":""}]
[17,null,{"$f":"IF((B20=\"\"),\"\",IF(ISERROR(MATCH(B20,WKNrListe_Mannschaft,0)),\"WK falsch\",LOOKUP(B20,WKNrListe_Mannschaft,Übersicht!$B$76:$B$77)))","v":""}]
[18,null,{"$f":"IF((B21=\"\"),\"\",IF(ISERROR(MATCH(B21,WKNrListe_Mannschaft,0)),\"WK falsch\",LOOKUP(B21,WKNrListe_Mannschaft,Übersicht!$B$76:$B$77)))","v":""}]
[19,null,{"$f":"IF((B22=\"\"),\"\",IF(ISERROR(MATCH(B22,WKNrListe_Mannschaft,0)),\"WK falsch\",LOOKUP(B22,WKNrListe_Mannschaft,Übersicht!$B$76:$B$77)))","v":""}]
[20,null,{"$f":"IF((B23=\"\"),\"\",IF(ISERROR(MATCH(B23,WKNrListe_Mannschaft,0)),\"WK falsch\",LOOKUP(B23,WKNrListe_Mannschaft,Übersicht!$B$76:$B$77)))","v":""}]
[21,null,{"$f":"IF((B24=\"\"),\"\",IF(ISERROR(MATCH(B24,WKNrListe_Mannschaft,0)),\"WK falsch\",LOOKUP(B24,WKNrListe_Mannschaft,Übersicht!$B$76:$B$77)))","v":""}]
[22,null,{"$f":"IF((B25=\"\"),\"\",IF(ISERROR(MATCH(B25,WKNrListe_Mannschaft,0)),\"WK falsch\",LOOKUP(B25,WKNrListe_Mannschaft,Übersicht!$B$76:$B$77)))","v":""}]
[23,null,{"$f":"IF((B26=\"\"),\"\",IF(ISERROR(MATCH(B26,WKNrListe_Mannschaft,0)),\"WK falsch\",LOOKUP(B26,WKNrListe_Mannschaft,Übersicht!$B$76:$B$77)))","v":""}]
[24,null,{"$f":"IF((B27=\"\"),\"\",IF(ISERROR(MATCH(B27,WKNrListe_Mannschaft,0)),\"WK falsch\",LOOKUP(B27,WKNrListe_Mannschaft,Übersicht!$B$76:$B$77)))","v":""}]
[25,null,{"$f":"IF((B28=\"\"),\"\",IF(ISERROR(MATCH(B28,WKNrListe_Mannschaft,0)),\"WK falsch\",LOOKUP(B28,WKNrListe_Mannschaft,Übersicht!$B$76:$B$77)))","v":""}]
[26,null,{"$f":"IF((B29=\"\"),\"\",IF(ISERROR(MATCH(B29,WKNrListe_Mannschaft,0)),\"WK falsch\",LOOKUP(B29,WKNrListe_Mannschaft,Übersicht!$B$76:$B$77)))","v":""}]
[27,null,{"$f":"IF((B30=\"\"),\"\",IF(ISERROR(MATCH(B30,WKNrListe_Mannschaft,0)),\"WK falsch\",LOOKUP(B30,WKNrListe_Mannschaft,Übersicht!$B$76:$B$77)))","v":""}]
[28,null,{"$f":"IF((B31=\"\"),\"\",IF(ISERROR(MATCH(B31,WKNrListe_Mannschaft,0)),\"WK falsch\",LOOKUP(B31,WKNrListe_Mannschaft,Übersicht!$B$76:$B$77)))","v":""}]
[29,null,{"$f":"IF((B32=\"\"),\"\",IF(ISERROR(MATCH(B32,WKNrListe_Mannschaft,0)),\"WK falsch\",LOOKUP(B32,WKNrListe_Mannschaft,Übersicht!$B$76:$B$77)))","v":""}]
[30,null,{"$f":"IF((B33=\"\"),\"\",IF(ISERROR(MATCH(B33,WKNrListe_Mannschaft,0)),\"WK falsch\",LOOKUP(B33,WKNrListe_Mannschaft,Übersicht!$B$76:$B$77)))","v":""}]
[31,null,{"$f":"IF((B34=\"\"),\"\",IF(ISERROR(MATCH(B34,WKNrListe_Mannschaft,0)),\"WK falsch\",LOOKUP(B34,WKNrListe_Mannschaft,Übersicht!$B$76:$B$77)))","v":""}]
[32,null,{"$f":"IF((B35=\"\"),\"\",IF(ISERROR(MATCH(B35,WKNrListe_Mannschaft,0)),\"WK falsch\",LOOKUP(B35,WKNrListe_Mannschaft,Übersicht!$B$76:$B$77)))","v":""}]
[33,null,{"$f":"IF((B36=\"\"),\"\",IF(ISERROR(MATCH(B36,WKNrListe_Mannschaft,0)),\"WK falsch\",LOOKUP(B36,WKNrListe_Mannschaft,Übersicht!$B$76:$B$77)))","v":""}]
[34,null,{"$f":"IF((B37=\"\"),\"\",IF(ISERROR(MATCH(B37,WKNrListe_Mannschaft,0)),\"WK falsch\",LOOKUP(B37,WKNrListe_Mannschaft,Übersicht!$B$76:$B$77)))","v":""}]
[35,null,{"$f":"IF((B38=\"\"),\"\",IF(ISERROR(MATCH(B38,WKNrListe_Mannschaft,0)),\"WK falsch\",LOOKUP(B38,WKNrListe_Mannschaft,Übersicht!$B$76:$B$77)))","v":""}]
[36,null,{"$f":"IF((B39=\"\"),\"\",IF(ISERROR(MATCH(B39,WKNrListe_Mannschaft,0)),\"WK falsch\",LOOKUP(B39,WKNrListe_Mannschaft,Übersicht!$B$76:$B$77)))","v":""}]
[37,null,{"$f":"IF((B40=\"\"),\"\",IF(ISERROR(MATCH(B40,WKNrListe_Mannschaft,0)),\"WK falsch\",LOOKUP(B40,WKNrListe_Mannschaft,Übersicht!$B$76:$B$77)))","v":""}]
[38,null,{"$f":"IF((B41=\"\"),\"\",IF(ISERROR(MATCH(B41,WKNrListe_Mannschaft,0)),\"WK falsch\",LOOKUP(B41,WKNrListe_Mannschaft,Übersicht!$B$76:$B$77)))","v":""}]
[39,null,{"$f":"IF((B42=\"\"),\"\",IF(ISERROR(MATCH(B42,WKNrListe_Mannschaft,0)),\"WK falsch\",LOOKUP(B42,WKNrListe_Mannschaft,Übersicht!$B$76:$B$77)))","v":""}]
[40,null,{"$f":"IF((B43=\"\"),\"\",IF(ISERROR(MATCH(B43,WKNrListe_Mannschaft,0)),\"WK falsch\",LOOKUP(B43,WKNrListe_Mannschaft,Übersicht!$B$76:$B$77)))","v":""}]
[41,null,{"$f":"IF((B44=\"\"),\"\",IF(ISERROR(MATCH(B44,WKNrListe_Mannschaft,0)),\"WK falsch\",LOOKUP(B44,WKNrListe_Mannschaft,Übersicht!$B$76:$B$77)))","v":""}]
[42,null,{"$f":"IF((B45=\"\"),\"\",IF(ISERROR(MATCH(B45,WKNrListe_Mannschaft,0)),\"WK falsch\",LOOKUP(B45,WKNrListe_Mannschaft,Übersicht!$B$76:$B$77)))","v":""}]
[43,null,{"$f":"IF((B46=\"\"),\"\",IF(ISERROR(MATCH(B46,WKNrListe_Mannschaft,0)),\"WK falsch\",LOOKUP(B46,WKNrListe_Mannschaft,Übersicht!$B$76:$B$77)))","v":""}]
[44,null,{"$f":"IF((B47=\"\"),\"\",IF(ISERROR(MATCH(B47,WKNrListe_Mannschaft,0)),\"WK falsch\",LOOKUP(B47,WKNrListe_Mannschaft,Übersicht!$B$76:$B$77)))","v":""}]
[45,null,{"$f":"IF((B48=\"\"),\"\",IF(ISERROR(MATCH(B48,WKNrListe_Mannschaft,0)),\"WK falsch\",LOOKUP(B48,WKNrListe_Mannschaft,Übersicht!$B$76:$B$77)))","v":""}]
[46,null,{"$f":"IF((B49=\"\"),\"\",IF(ISERROR(MATCH(B49,WKNrListe_Mannschaft,0)),\"WK falsch\",LOOKUP(B49,WKNrListe_Mannschaft,Übersicht!$B$76:$B$77)))","v":""}]
[47,null,{"$f":"IF((B50=\"\"),\"\",IF(ISERROR(MATCH(B50,WKNrListe_Mannschaft,0)),\"WK falsch\",LOOKUP(B50,WKNrListe_Mannschaft,Übersicht!$B$76:$B$77)))","v":""}]
[48,null,{"$f":"IF((B51=\"\"),\"\",IF(ISERROR(MATCH(B51,WKNrListe_Mannschaft,0)),\"WK falsch\",LOOKUP(B51,WKNrListe_Mannschaft,Übersicht!$B$76:$B$77)))","v":""}]
[49,null,{"$f":"IF((B52=\"\"),\"\",IF(ISERROR(MATCH(B52,WKNrListe_Mannschaft,0)),\"WK falsch\",LOOKUP(B52,WKNrListe_Mannschaft,Übersicht!$B$76:$B$77)))","v":""}]
[50,null,{"$f":"IF((B53=\"\"),\"\",IF(ISERROR(MATCH(B53,WKNrListe_Mannschaft,0)),\"WK falsch\",LOOKUP(B53,WKNrListe_Mannschaft,Übersicht!$B$76:$B$77)))","v":""}]

{"sheet":"Kampfrichter","index":4,"n_rows":23,"n_cols":9,"rows_kept":23,"cut":false,"hidden":false,"merged":[]}
[{"$f":"\"Kampfrichter und Übungsleiter / Helfer \"&IF(LEN(Deckblatt!C24)>0,Deckblatt!C24,\"\")","v":"Kampfrichter und Übungsleiter / Helfer "}]
["Nr.","Nachname","Vorname","E-Mail","Strasse","PLZ","Ort","Telefon","Funktion"]
[]
[1]
[2]
[3]
[4]
[5]
[6]
[7]
[8]
[9]
[10]
[11]
[12]
[13]
[14]
[15]
[16]
[17]
[18]
[19]
[20]

{"sheet":"Übersicht","index":5,"n_rows":83,"n_cols":21,"rows_kept":83,"cut":false,"hidden":false,"merged":[[5,18,5,19],[5,9,5,10],[5,5,5,6],[5,14,5,15]]}
["Anmeldungsübersicht"]
[null,null,null,null,null,null,null,null,null,null,null,null,{"$f":"IF(LEN(Deckblatt!C24)>0,Deckblatt!C24,\"Bitte tragen Sie auf dem Deckblatt ihren Verein ein!\")","v":"Bitte tragen Sie auf dem Deckblatt ihren Verein ein!"}]
["Die Zahlen auf dieser Seite werden aus Ihren Angaben auf dem Blatt"]
["\"Namentliche Meldung\" automatisch errechnet"]
[]
["Wettkampf","Bezeichnung","Bereich","Teilnehmer","Disziplinen","Gebühr",null,"EUR","Summe","Mitarbeiter",null,"Mannschafts-WK","Mannschaften","Disziplinen","Gebühr",null,"EUR","Summe","Mitarbeiter"]
[{"$f":"IF(A6=\"ENDE\",\"ENDE\",IF(Deckblatt!$C$17=Wettkämpfe!$A$1,Wettkämpfe!A3,\"-\"))","v":89902},{"$f":"IF(A7=\"ENDE\",\"-\",IF(Deckblatt!$C$17=Wettkämpfe!$A$1,Wettkämpfe!B3,\"\"))","v":"Turniade I ElKi 1-2 Jahre"},{"$f":"IF(B7=\"ENDE\",\"-\",IF(Deckblatt!$C$17=Wettkämpfe!$A$1,IF(Wettkämpfe!G3=0,\"\",Wettkämpfe!G3)))","v":""},{"$f":"COUNTIF(Teilnehmer!$F$5:$F$1005,A7)","v":0},0,true,{"$f":"IF(F7,D7,0)","v":0},3,{"$f":"D7*H7","v":0},false,{"$f":"IF(J7,D7,0)","v":0},false,{"$f":"COUNTIF(Mannschaften!$B$4:$B$53,A7)","v":0},0,false,{"$f":"IF(O7,M7,0)","v":0},0,{"$f":"M7*Q7","v":0},false,{"$f":"IF(S7,M7,0)","v":0}]
[{"$f":"IF(A7=\"ENDE\",\"ENDE\",IF(Deckblatt!$C$17=Wettkämpfe!$A$1,Wettkämpfe!A4,\"-\"))","v":89903},{"$f":"IF(A8=\"ENDE\",\"-\",IF(Deckblatt!$C$17=Wettkämpfe!$A$1,Wettkämpfe!B4,\"\"))","v":"Turniade I ElKi 3-4 Jahre"},{"$f":"IF(B8=\"ENDE\",\"-\",IF(Deckblatt!$C$17=Wettkämpfe!$A$1,IF(Wettkämpfe!G4=0,\"\",Wettkämpfe!G4)))","v":""},{"$f":"COUNTIF(Teilnehmer!$F$5:$F$1005,A8)","v":0},0,true,0,3,{"$f":"D8*H8","v":0},false,0,false,{"$f":"COUNTIF(Mannschaften!$B$4:$B$53,A8)","v":0},0,false,0,0,{"$f":"M8*Q8","v":0},false,0]
[{"$f":"IF(A8=\"ENDE\",\"ENDE\",IF(Deckblatt!$C$17=Wettkämpfe!$A$1,Wettkämpfe!A5,\"-\"))","v":89904},{"$f":"IF(A9=\"ENDE\",\"-\",IF(Deckblatt!$C$17=Wettkämpfe!$A$1,Wettkämpfe!B5,\"\"))","v":"Turniade II Vorschulturnen 4 Jahre"},{"$f":"IF(B9=\"ENDE\",\"-\",IF(Deckblatt!$C$17=Wettkämpfe!$A$1,IF(Wettkämpfe!G5=0,\"\",Wettkämpfe!G5)))","v":""},{"$f":"COUNTIF(Teilnehmer!$F$5:$F$1005,A9)","v":0},0,true,0,3,0,false,0,false,{"$f":"COUNTIF(Mannschaften!$B$4:$B$53,A9)","v":0},0,false,0,0,0,false,0]
[{"$f":"IF(A9=\"ENDE\",\"ENDE\",IF(Deckblatt!$C$17=Wettkämpfe!$A$1,Wettkämpfe!A6,\"-\"))","v":89905},{"$f":"IF(A10=\"ENDE\",\"-\",IF(Deckblatt!$C$17=Wettkämpfe!$A$1,Wettkämpfe!B6,\"\"))","v":"Turniade II Vorschulturnen 5 Jahre"},{"$f":"IF(B10=\"ENDE\",\"-\",IF(Deckblatt!$C$17=Wettkämpfe!$A$1,IF(Wettkämpfe!G6=0,\"\",Wettkämpfe!G6)))","v":""},{"$f":"COUNTIF(Teilnehmer!$F$5:$F$1005,A10)","v":0},0,true,0,3,0,false,0,false,{"$f":"COUNTIF(Mannschaften!$B$4:$B$53,A10)","v":0},0,false,0,0,0,false,0]
[{"$f":"IF(A10=\"ENDE\",\"ENDE\",IF(Deckblatt!$C$17=Wettkämpfe!$A$1,Wettkämpfe!A7,\"-\"))","v":89906},{"$f":"IF(A11=\"ENDE\",\"-\",IF(Deckblatt!$C$17=Wettkämpfe!$A$1,Wettkämpfe!B7,\"\"))","v":"Turniade II Vorschulturnen 6 Jahre"},{"$f":"IF(B11=\"ENDE\",\"-\",IF(Deckblatt!$C$17=Wettkämpfe!$A$1,IF(Wettkämpfe!G7=0,\"\",Wettkämpfe!G7)))","v":""},{"$f":"COUNTIF(Teilnehmer!$F$5:$F$1005,A11)","v":0},0,true,0,3,0,false,0,false,{"$f":"COUNTIF(Mannschaften!$B$4:$B$53,A11)","v":0},0,false,0,0,0,false,0]
[{"$f":"IF(A5=\"ENDE\",\"ENDE\",IF(Deckblatt!$C$17=Wettkämpfe!$A$1,Wettkämpfe!A8,\"-\"))","v":297061},{"$f":"IF(A12=\"ENDE\",\"-\",IF(Deckblatt!$C$17=Wettkämpfe!$A$1,Wettkämpfe!B8,\"\"))","v":"Wahl-Dreikampf Jungen F 6"},{"$f":"IF(B12=\"ENDE\",\"-\",IF(Deckblatt!$C$17=Wettkämpfe!$A$1,IF(Wettkämpfe!G8=0,\"\",Wettkämpfe!G8)))","v":"Wettkampfsport"},{"$f":"COUNTIF(Teilnehmer!$F$5:$F$1005,A12)","v":0},3,true,0,3,0,true,0,false,{"$f":"COUNTIF(Mannschaften!$B$4:$B$53,A12)","v":0},0,false,0,0,0,false,0]
[{"$f":"IF(A6=\"ENDE\",\"ENDE\",IF(Deckblatt!$C$17=Wettkämpfe!$A$1,Wettkämpfe!A9,\"-\"))","v":297062},{"$f":"IF(A13=\"ENDE\",\"-\",IF(Deckblatt!$C$17=Wettkämpfe!$A$1,Wettkämpfe!B8,\"\"))","v":"Wahl-Dreikampf Jungen F 6"},{"$f":"IF(B13=\"ENDE\",\"-\",IF(Deckblatt!$C$17=Wettkämpfe!$A$1,IF(Wettkämpfe!G9=0,\"\",Wettkämpfe!G9)))","v":"Allgemeines Kinderturnen"},{"$f":"COUNTIF(Teilnehmer!$F$5:$F$1005,A13)","v":0},3,true,0,3,0,true,0,false,{"$f":"COUNTIF(Mannschaften!$B$4:$B$53,A13)","v":0},0,false,0,0,0,false,0]
[{"$f":"IF(A12=\"ENDE\",\"ENDE\",IF(Deckblatt!$C$17=Wettkämpfe!$A$1,Wettkämpfe!A10,\"-\"))","v":297071},{"$f":"IF(A14=\"ENDE\",\"-\",IF(Deckblatt!$C$17=Wettkämpfe!$A$1,Wettkämpfe!B10,\"\"))","v":"Wahl-Dreikampf Jungen F 7"},{"$f":"IF(B14=\"ENDE\",\"-\",IF(Deckblatt!$C$17=Wettkämpfe!$A$1,IF(Wettkämpfe!G10=0,\"\",Wettkämpfe!G10)))","v":"Wettkampfsport"},{"$f":"COUNTIF(Teilnehmer!$F$5:$F$1005,A14)","v":0},3,true,0,3,0,true,0,false,{"$f":"COUNTIF(Mannschaften!$B$4:$B$53,A14)","v":0},0,false,0,0,0,false,0]
[{"$f":"IF(A13=\"ENDE\",\"ENDE\",IF(Deckblatt!$C$17=Wettkämpfe!$A$1,Wettkämpfe!A11,\"-\"))","v":297072},{"$f":"IF(A15=\"ENDE\",\"-\",IF(Deckblatt!$C$17=Wettkämpfe!$A$1,Wettkämpfe!B11,\"\"))","v":"Wahl-Dreikampf Jungen F 7"},{"$f":"IF(B15=\"ENDE\",\"-\",IF(Deckblatt!$C$17=Wettkämpfe!$A$1,IF(Wettkämpfe!G11=0,\"\",Wettkämpfe!G11)))","v":"Allgemeines Kinderturnen"},{"$f":"COUNTIF(Teilnehmer!$F$5:$F$1005,A15)","v":0},3,true,0,3,0,true,0,false,{"$f":"COUNTIF(Mannschaften!$B$4:$B$53,A15)","v":0},0,false,0,0,0,false,0]
[{"$f":"IF(A14=\"ENDE\",\"ENDE\",IF(Deckblatt!$C$17=Wettkämpfe!$A$1,Wettkämpfe!A12,\"-\"))","v":297081},{"$f":"IF(A16=\"ENDE\",\"-\",IF(Deckblatt!$C$17=Wettkämpfe!$A$1,Wettkämpfe!B12,\"\"))","v":"Wahl-Dreikampf Jungen E 8"},{"$f":"IF(B16=\"ENDE\",\"-\",IF(Deckblatt!$C$17=Wettkämpfe!$A$1,IF(Wettkämpfe!G12=0,\"\",Wettkämpfe!G12)))","v":"Wettkampfsport"},{"$f":"COUNTIF(Teilnehmer!$F$5:$F$1005,A16)","v":0},3,true,0,3,0,true,0,false,{"$f":"COUNTIF(Mannschaften!$B$4:$B$53,A16)","v":0},0,false,0,0,0,false,0]
[{"$f":"IF(A15=\"ENDE\",\"ENDE\",IF(Deckblatt!$C$17=Wettkämpfe!$A$1,Wettkämpfe!A13,\"-\"))","v":297082},{"$f":"IF(A17=\"ENDE\",\"-\",IF(Deckblatt!$C$17=Wettkämpfe!$A$1,Wettkämpfe!B13,\"\"))","v":"Wahl-Dreikampf Jungen E 8"},{"$f":"IF(B17=\"ENDE\",\"-\",IF(Deckblatt!$C$17=Wettkämpfe!$A$1,IF(Wettkämpfe!G13=0,\"\",Wettkämpfe!G13)))","v":"Allgemeines Kinderturnen"},{"$f":"COUNTIF(Teilnehmer!$F$5:$F$1005,A17)","v":0},3,true,0,3,0,true,0,false,{"$f":"COUNTIF(Mannschaften!$B$4:$B$53,A17)","v":0},0,false,0,0,0,false,0]
[{"$f":"IF(A16=\"ENDE\",\"ENDE\",IF(Deckblatt!$C$17=Wettkämpfe!$A$1,Wettkämpfe!A14,\"-\"))","v":297091},{"$f":"IF(A18=\"ENDE\",\"-\",IF(Deckblatt!$C$17=Wettkämpfe!$A$1,Wettkämpfe!B14,\"\"))","v":"Wahl-Dreikampf Jungen E 9"},{"$f":"IF(B18=\"ENDE\",\"-\",IF(Deckblatt!$C$17=Wettkämpfe!$A$1,IF(Wettkämpfe!G14=0,\"\",Wettkämpfe!G14)))","v":"Wettkampfsport"},{"$f":"COUNTIF(Teilnehmer!$F$5:$F$1005,A18)","v":0},3,true,0,3,0,true,0,false,{"$f":"COUNTIF(Mannschaften!$B$4:$B$53,A18)","v":0},0,false,0,0,0,false,0]
[{"$f":"IF(A17=\"ENDE\",\"ENDE\",IF(Deckblatt!$C$17=Wettkämpfe!$A$1,Wettkämpfe!A15,\"-\"))","v":297092},{"$f":"IF(A19=\"ENDE\",\"-\",IF(Deckblatt!$C$17=Wettkämpfe!$A$1,Wettkämpfe!B15,\"\"))","v":"Wahl-Dreikampf Jungen E 9"},{"$f":"IF(B19=\"ENDE\",\"-\",IF(Deckblatt!$C$17=Wettkämpfe!$A$1,IF(Wettkämpfe!G15=0,\"\",Wettkämpfe!G15)))","v":"Allgemeines Kinderturnen"},{"$f":"COUNTIF(Teilnehmer!$F$5:$F$1005,A19)","v":0},3,true,0,3,0,true,0,false,{"$f":"COUNTIF(Mannschaften!$B$4:$B$53,A19)","v":0},0,false,0,0,0,false,0]
[{"$f":"IF(A18=\"ENDE\",\"ENDE\",IF(Deckblatt!$C$17=Wettkämpfe!$A$1,Wettkämpfe!A16,\"-\"))","v":297101},{"$f":"IF(A20=\"ENDE\",\"-\",IF(Deckblatt!$C$17=Wettkämpfe!$A$1,Wettkämpfe!B16,\"\"))","v":"Wahl-Dreikampf Jungen D 10"},{"$f":"IF(B20=\"ENDE\",\"-\",IF(Deckblatt!$C$17=Wettkämpfe!$A$1,IF(Wettkämpfe!G16=0,\"\",Wettkämpfe!G16)))","v":"Wettkampfsport"},{"$f":"COUNTIF(Teilnehmer!$F$5:$F$1005,A20)","v":0},3,true,0,3,0,true,0,false,{"$f":"COUNTIF(Mannschaften!$B$4:$B$53,A20)","v":0},0,false,0,0,0,false,0]
[{"$f":"IF(A19=\"ENDE\",\"ENDE\",IF(Deckblatt!$C$17=Wettkämpfe!$A$1,Wettkämpfe!A17,\"-\"))","v":297102},{"$f":"IF(A21=\"ENDE\",\"-\",IF(Deckblatt!$C$17=Wettkämpfe!$A$1,Wettkämpfe!B17,\"\"))","v":"Wahl-Dreikampf Jungen D 10"},{"$f":"IF(B21=\"ENDE\",\"-\",IF(Deckblatt!$C$17=Wettkämpfe!$A$1,IF(Wettkämpfe!G17=0,\"\",Wettkämpfe!G17)))","v":"Allgemeines Kinderturnen"},{"$f":"COUNTIF(Teilnehmer!$F$5:$F$1005,A21)","v":0},3,true,0,3,0,true,0,false,{"$f":"COUNTIF(Mannschaften!$B$4:$B$53,A21)","v":0},0,false,0,0,0,false,0]
[{"$f":"IF(A20=\"ENDE\",\"ENDE\",IF(Deckblatt!$C$17=Wettkämpfe!$A$1,Wettkämpfe!A18,\"-\"))","v":297111},{"$f":"IF(A22=\"ENDE\",\"-\",IF(Deckblatt!$C$17=Wettkämpfe!$A$1,Wettkämpfe!B18,\"\"))","v":"Wahl-Dreikampf Jungen D 11"},{"$f":"IF(B22=\"ENDE\",\"-\",IF(Deckblatt!$C$17=Wettkämpfe!$A$1,IF(Wettkämpfe!G18=0,\"\",Wettkämpfe!G18)))","v":"Wettkampfsport"},{"$f":"COUNTIF(Teilnehmer!$F$5:$F$1005,A22)","v":0},3,true,0,3,0,true,0,false,{"$f":"COUNTIF(Mannschaften!$B$4:$B$53,A22)","v":0},0,false,0,0,0,false,0]
[{"$f":"IF(A21=\"ENDE\",\"ENDE\",IF(Deckblatt!$C$17=Wettkämpfe!$A$1,Wettkämpfe!A19,\"-\"))","v":297112},{"$f":"IF(A23=\"ENDE\",\"-\",IF(Deckblatt!$C$17=Wettkämpfe!$A$1,Wettkämpfe!B19,\"\"))","v":"Wahl-Dreikampf Jungen D 11"},{"$f":"IF(B23=\"ENDE\",\"-\",IF(Deckblatt!$C$17=Wettkämpfe!$A$1,IF(Wettkämpfe!G19=0,\"\",Wettkämpfe!G19)))","v":"Allgemeines Kinderturnen"},{"$f":"COUNTIF(Teilnehmer!$F$5:$F$1005,A23)","v":0},3,true,0,3,0,true,0,false,{"$f":"COUNTIF(Mannschaften!$B$4:$B$53,A23)","v":0},0,false,0,0,0,false,0]
[{"$f":"IF(A22=\"ENDE\",\"ENDE\",IF(Deckblatt!$C$17=Wettkämpfe!$A$1,Wettkämpfe!A20,\"-\"))","v":297121},{"$f":"IF(A24=\"ENDE\",\"-\",IF(Deckblatt!$C$17=Wettkämpfe!$A$1,Wettkämpfe!B20,\"\"))","v":"Wahl-Dreikampf männl. C 12"},{"$f":"IF(B24=\"ENDE\",\"-\",IF(Deckblatt!$C$17=Wettkämpfe!$A$1,IF(Wettkämpfe!G20=0,\"\",Wettkämpfe!G20)))","v":"Wettkampfsport"},{"$f":"COUNTIF(Teilnehmer!$F$5:$F$1005,A24)","v":0},3,true,0,3,0,true,0,false,{"$f":"COUNTIF(Mannschaften!$B$4:$B$53,A24)","v":0},0,false,0,0,0,false,0]
[{"$f":"IF(A23=\"ENDE\",\"ENDE\",IF(Deckblatt!$C$17=Wettkämpfe!$A$1,Wettkämpfe!A21,\"-\"))","v":297122},{"$f":"IF(A25=\"ENDE\",\"-\",IF(Deckblatt!$C$17=Wettkämpfe!$A$1,Wettkämpfe!B21,\"\"))","v":"Wahl-Dreikampf männl. C 12"},{"$f":"IF(B25=\"ENDE\",\"-\",IF(Deckblatt!$C$17=Wettkämpfe!$A$1,IF(Wettkämpfe!G21=0,\"\",Wettkämpfe!G21)))","v":"Allgemeines Kinderturnen"},{"$f":"COUNTIF(Teilnehmer!$F$5:$F$1005,A25)","v":0},3,true,0,3,0,true,0,false,{"$f":"COUNTIF(Mannschaften!$B$4:$B$53,A25)","v":0},0,false,0,0,0,false,0]
[{"$f":"IF(A24=\"ENDE\",\"ENDE\",IF(Deckblatt!$C$17=Wettkämpfe!$A$1,Wettkämpfe!A22,\"-\"))","v":297131},{"$f":"IF(A26=\"ENDE\",\"-\",IF(Deckblatt!$C$17=Wettkämpfe!$A$1,Wettkämpfe!B22,\"\"))","v":"Wahl-Dreikampf männl. C 13"},{"$f":"IF(B26=\"ENDE\",\"-\",IF(Deckblatt!$C$17=Wettkämpfe!$A$1,IF(Wettkämpfe!G22=0,\"\",Wettkämpfe!G22)))","v":"Wettkampfsport"},{"$f":"COUNTIF(Teilnehmer!$F$5:$F$1005,A26)","v":0},3,true,0,3,0,true,0,false,{"$f":"COUNTIF(Mannschaften!$B$4:$B$53,A26)","v":0},0,false,0,0,0,false,0]
[{"$f":"IF(A25=\"ENDE\",\"ENDE\",IF(Deckblatt!$C$17=Wettkämpfe!$A$1,Wettkämpfe!A23,\"-\"))","v":297132},{"$f":"IF(A27=\"ENDE\",\"-\",IF(Deckblatt!$C$17=Wettkämpfe!$A$1,Wettkämpfe!B23,\"\"))","v":"Wahl-Dreikampf männl. C 13"},{"$f":"IF(B27=\"ENDE\",\"-\",IF(Deckblatt!$C$17=Wettkämpfe!$A$1,IF(Wettkämpfe!G23=0,\"\",Wettkämpfe!G23)))","v":"Allgemeines Kinderturnen"},{"$f":"COUNTIF(Teilnehmer!$F$5:$F$1005,A27)","v":0},3,true,0,3,0,true,0,false,{"$f":"COUNTIF(Mannschaften!$B$4:$B$53,A27)","v":0},0,false,0,0,0,false,0]
[{"$f":"IF(A27=\"ENDE\",\"ENDE\",IF(Deckblatt!$C$17=Wettkämpfe!$A$1,Wettkämpfe!A24,\"-\"))","v":297141},{"$f":"IF(A28=\"ENDE\",\"-\",IF(Deckblatt!$C$17=Wettkämpfe!$A$1,Wettkämpfe!B24,\"\"))","v":"Wahl-Dreikampf männl. B 14/15"},{"$f":"IF(B28=\"ENDE\",\"-\",IF(Deckblatt!$C$17=Wettkämpfe!$A$1,IF(Wettkämpfe!G24=0,\"\",Wettkämpfe!G24)))","v":"Wettkampfsport"},{"$f":"COUNTIF(Teilnehmer!$F$5:$F$1005,A28)","v":0},3,true,0,3,0,true,0,false,{"$f":"COUNTIF(Mannschaften!$B$4:$B$53,A28)","v":0},0,false,0,0,0,false,0]
[{"$f":"IF(A28=\"ENDE\",\"ENDE\",IF(Deckblatt!$C$17=Wettkämpfe!$A$1,Wettkämpfe!A25,\"-\"))","v":297161},{"$f":"IF(A29=\"ENDE\",\"-\",IF(Deckblatt!$C$17=Wettkämpfe!$A$1,Wettkämpfe!B25,\"\"))","v":"Wahl-Dreikampf männl. A 16/17"},{"$f":"IF(B29=\"ENDE\",\"-\",IF(Deckblatt!$C$17=Wettkämpfe!$A$1,IF(Wettkämpfe!G25=0,\"\",Wettkämpfe!G25)))","v":"Wettkampfsport"},{"$f":"COUNTIF(Teilnehmer!$F$5:$F$1005,A29)","v":0},3,true,0,3,0,true,0,false,{"$f":"COUNTIF(Mannschaften!$B$4:$B$53,A29)","v":0},0,false,0,0,0,false,0]
[{"$f":"IF(A29=\"ENDE\",\"ENDE\",IF(Deckblatt!$C$17=Wettkämpfe!$A$1,Wettkämpfe!A26,\"-\"))","v":297181},{"$f":"IF(A30=\"ENDE\",\"-\",IF(Deckblatt!$C$17=Wettkämpfe!$A$1,Wettkämpfe!B26,\"\"))","v":"Wahl-Dreikampf männl. Jun. 18/19"},{"$f":"IF(B30=\"ENDE\",\"-\",IF(Deckblatt!$C$17=Wettkämpfe!$A$1,IF(Wettkämpfe!G26=0,\"\",Wettkämpfe!G26)))","v":"Wettkampfsport"},{"$f":"COUNTIF(Teilnehmer!$F$5:$F$1005,A30)","v":0},3,true,0,6,0,true,0,false,{"$f":"COUNTIF(Mannschaften!$B$4:$B$53,A30)","v":0},0,false,0,0,0,false,0]
[{"$f":"IF(A30=\"ENDE\",\"ENDE\",IF(Deckblatt!$C$17=Wettkämpfe!$A$1,Wettkämpfe!A27,\"-\"))","v":297201},{"$f":"IF(A31=\"ENDE\",\"-\",IF(Deckblatt!$C$17=Wettkämpfe!$A$1,Wettkämpfe!B27,\"\"))","v":"Wahl-Dreikampf männl. 20-24"},{"$f":"IF(B31=\"ENDE\",\"-\",IF(Deckblatt!$C$17=Wettkämpfe!$A$1,IF(Wettkämpfe!G27=0,\"\",Wettkämpfe!G27)))","v":"Wettkampfsport"},{"$f":"COUNTIF(Teilnehmer!$F$5:$F$1005,A31)","v":0},3,true,{"$f":"IF(F31,D31,0)","v":0},6,0,true,0,false,{"$f":"COUNTIF(Mannschaften!$B$4:$B$53,A31)","v":0},0,false,0,0,0,false,0]
[{"$f":"IF(A31=\"ENDE\",\"ENDE\",IF(Deckblatt!$C$17=Wettkämpfe!$A$1,Wettkämpfe!A28,\"-\"))","v":297251},{"$f":"IF(A32=\"ENDE\",\"-\",IF(Deckblatt!$C$17=Wettkämpfe!$A$1,Wettkämpfe!B28,\"\"))","v":"Wahl-Dreikampf männl. 25-29"},{"$f":"IF(B32=\"ENDE\",\"-\",IF(Deckblatt!$C$17=Wettkämpfe!$A$1,IF(Wettkämpfe!G28=0,\"\",Wettkämpfe!G28)))","v":"Wettkampfsport"},{"$f":"COUNTIF(Teilnehmer!$F$5:$F$1005,A32)","v":0},3,true,0,6,0,true,0,false,{"$f":"COUNTIF(Mannschaften!$B$4:$B$53,A32)","v":0},0,false,0,0,0,false,0]
[{"$f":"IF(A32=\"ENDE\",\"ENDE\",IF(Deckblatt!$C$17=Wettkämpfe!$A$1,Wettkämpfe!A29,\"-\"))","v":297301},{"$f":"IF(A33=\"ENDE\",\"-\",IF(Deckblatt!$C$17=Wettkämpfe!$A$1,Wettkämpfe!B29,\"\"))","v":"Wahl-Dreikampf männl. 30-34"},{"$f":"IF(B33=\"ENDE\",\"-\",IF(Deckblatt!$C$17=Wettkämpfe!$A$1,IF(Wettkämpfe!G29=0,\"\",Wettkämpfe!G29)))","v":"Wettkampfsport"},{"$f":"COUNTIF(Teilnehmer!$F$5:$F$1005,A33)","v":0},3,true,0,6,0,true,0,false,{"$f":"COUNTIF(Mannschaften!$B$4:$B$53,A33)","v":0},0,false,0,0,0,false,0]
[{"$f":"IF(A33=\"ENDE\",\"ENDE\",IF(Deckblatt!$C$17=Wettkämpfe!$A$1,Wettkämpfe!A30,\"-\"))","v":297351},{"$f":"IF(A34=\"ENDE\",\"-\",IF(Deckblatt!$C$17=Wettkämpfe!$A$1,Wettkämpfe!B30,\"\"))","v":"Wahl-Dreikampf männl. 35-39"},{"$f":"IF(B34=\"ENDE\",\"-\",IF(Deckblatt!$C$17=Wettkämpfe!$A$1,IF(Wettkämpfe!G30=0,\"\",Wettkämpfe!G30)))","v":"Wettkampfsport"},{"$f":"COUNTIF(Teilnehmer!$F$5:$F$1005,A34)","v":0},3,true,0,6,0,true,0,false,{"$f":"COUNTIF(Mannschaften!$B$4:$B$53,A34)","v":0},0,false,0,0,0,false,0]
[{"$f":"IF(A34=\"ENDE\",\"ENDE\",IF(Deckblatt!$C$17=Wettkämpfe!$A$1,Wettkämpfe!A31,\"-\"))","v":297401},{"$f":"IF(A35=\"ENDE\",\"-\",IF(Deckblatt!$C$17=Wettkämpfe!$A$1,Wettkämpfe!B31,\"\"))","v":"Wahl-Dreikampf männl. 40-44"},{"$f":"IF(B35=\"ENDE\",\"-\",IF(Deckblatt!$C$17=Wettkämpfe!$A$1,IF(Wettkämpfe!G31=0,\"\",Wettkämpfe!G31)))","v":"Wettkampfsport"},{"$f":"COUNTIF(Teilnehmer!$F$5:$F$1005,A35)","v":0},3,true,0,6,0,true,0,false,{"$f":"COUNTIF(Mannschaften!$B$4:$B$53,A35)","v":0},0,false,0,0,0,false,0]
[{"$f":"IF(A35=\"ENDE\",\"ENDE\",IF(Deckblatt!$C$17=Wettkämpfe!$A$1,Wettkämpfe!A32,\"-\"))","v":297451},{"$f":"IF(A36=\"ENDE\",\"-\",IF(Deckblatt!$C$17=Wettkämpfe!$A$1,Wettkämpfe!B32,\"\"))","v":"Wahl-Dreikampf männl. 45-49"},{"$f":"IF(B36=\"ENDE\",\"-\",IF(Deckblatt!$C$17=Wettkämpfe!$A$1,IF(Wettkämpfe!G32=0,\"\",Wettkämpfe!G32)))","v":"Wettkampfsport"},{"$f":"COUNTIF(Teilnehmer!$F$5:$F$1005,A36)","v":0},3,true,0,6,0,true,0,false,{"$f":"COUNTIF(Mannschaften!$B$4:$B$53,A36)","v":0},0,false,0,0,0,false,0]
[{"$f":"IF(A36=\"ENDE\",\"ENDE\",IF(Deckblatt!$C$17=Wettkämpfe!$A$1,Wettkämpfe!A33,\"-\"))","v":297501},{"$f":"IF(A37=\"ENDE\",\"-\",IF(Deckblatt!$C$17=Wettkämpfe!$A$1,Wettkämpfe!B33,\"\"))","v":"Wahl-Dreikampf männl. 50-54"},{"$f":"IF(B37=\"ENDE\",\"-\",IF(Deckblatt!$C$17=Wettkämpfe!$A$1,IF(Wettkämpfe!G33=0,\"\",Wettkämpfe!G33)))","v":"Wettkampfsport"},{"$f":"COUNTIF(Teilnehmer!$F$5:$F$1005,A37)","v":0},3,true,0,6,0,true,0,false,{"$f":"COUNTIF(Mannschaften!$B$4:$B$53,A37)","v":0},0,false,0,0,0,false,0]
[{"$f":"IF(A37=\"ENDE\",\"ENDE\",IF(Deckblatt!$C$17=Wettkämpfe!$A$1,Wettkämpfe!A34,\"-\"))","v":297551},{"$f":"IF(A38=\"ENDE\",\"-\",IF(Deckblatt!$C$17=Wettkämpfe!$A$1,Wettkämpfe!B34,\"\"))","v":"Wahl-Dreikampf männl. 55-59"},{"$f":"IF(B38=\"ENDE\",\"-\",IF(Deckblatt!$C$17=Wettkämpfe!$A$1,IF(Wettkämpfe!G34=0,\"\",Wettkämpfe!G34)))","v":"Wettkampfsport"},{"$f":"COUNTIF(Teilnehmer!$F$5:$F$1005,A38)","v":0},3,true,0,6,0,true,0,false,{"$f":"COUNTIF(Mannschaften!$B$4:$B$53,A38)","v":0},0,false,0,0,0,false,0]
[{"$f":"IF(A38=\"ENDE\",\"ENDE\",IF(Deckblatt!$C$17=Wettkämpfe!$A$1,Wettkämpfe!A35,\"-\"))","v":297601},{"$f":"IF(A39=\"ENDE\",\"-\",IF(Deckblatt!$C$17=Wettkämpfe!$A$1,Wettkämpfe!B35,\"\"))","v":"Wahl-Dreikampf männl. 60-64"},{"$f":"IF(B39=\"ENDE\",\"-\",IF(Deckblatt!$C$17=Wettkämpfe!$A$1,IF(Wettkämpfe!G35=0,\"\",Wettkämpfe!G35)))","v":"Wettkampfsport"},{"$f":"COUNTIF(Teilnehmer!$F$5:$F$1005,A39)","v":0},3,true,0,6,0,true,{"$f":"IF(J39,D39,0)","v":0},false,{"$f":"COUNTIF(Mannschaften!$B$4:$B$53,A39)","v":0},0,false,{"$f":"IF(O39,M39,0)","v":0},0,0,false,{"$f":"IF(S39,M39,0)","v":0}]
[{"$f":"IF(A39=\"ENDE\",\"ENDE\",IF(Deckblatt!$C$17=Wettkämpfe!$A$1,Wettkämpfe!A36,\"-\"))","v":297651},{"$f":"IF(A40=\"ENDE\",\"-\",IF(Deckblatt!$C$17=Wettkämpfe!$A$1,Wettkämpfe!B36,\"\"))","v":"Wahl-Dreikampf männl. 65-69"},{"$f":"IF(B40=\"ENDE\",\"-\",IF(Deckblatt!$C$17=Wettkämpfe!$A$1,IF(Wettkämpfe!G36=0,\"\",Wettkämpfe!G36)))","v":"Wettkampfsport"},{"$f":"COUNTIF(Teilnehmer!$F$5:$F$1005,A40)","v":0},3,true,0,6,0,true,0,false,{"$f":"COUNTIF(Mannschaften!$B$4:$B$53,A40)","v":0},0,false,0,0,0,false,0]
[{"$f":"IF(A40=\"ENDE\",\"ENDE\",IF(Deckblatt!$C$17=Wettkämpfe!$A$1,Wettkämpfe!A37,\"-\"))","v":297701},{"$f":"IF(A41=\"ENDE\",\"-\",IF(Deckblatt!$C$17=Wettkämpfe!$A$1,Wettkämpfe!B37,\"\"))","v":"Wahl-Dreikampf männl. 70-74"},{"$f":"IF(B41=\"ENDE\",\"-\",IF(Deckblatt!$C$17=Wettkämpfe!$A$1,IF(Wettkämpfe!G37=0,\"\",Wettkämpfe!G37)))","v":"Wettkampfsport"},{"$f":"COUNTIF(Teilnehmer!$F$5:$F$1005,A41)","v":0},3,true,0,6,0,true,0,false,{"$f":"COUNTIF(Mannschaften!$B$4:$B$53,A41)","v":0},0,false,0,0,0,false,0]
[{"$f":"IF(A41=\"ENDE\",\"ENDE\",IF(Deckblatt!$C$17=Wettkämpfe!$A$1,Wettkämpfe!A38,\"-\"))","v":297751},{"$f":"IF(A42=\"ENDE\",\"-\",IF(Deckblatt!$C$17=Wettkämpfe!$A$1,Wettkämpfe!B38,\"\"))","v":"Wahl-Dreikampf männl. 75-79"},{"$f":"IF(B42=\"ENDE\",\"-\",IF(Deckblatt!$C$17=Wettkämpfe!$A$1,IF(Wettkämpfe!G38=0,\"\",Wettkämpfe!G38)))","v":"Wettkampfsport"},{"$f":"COUNTIF(Teilnehmer!$F$5:$F$1005,A42)","v":0},3,true,0,6,0,true,0,false,{"$f":"COUNTIF(Mannschaften!$B$4:$B$53,A42)","v":0},0,false,0,0,0,false,0]
[{"$f":"IF(A42=\"ENDE\",\"ENDE\",IF(Deckblatt!$C$17=Wettkämpfe!$A$1,Wettkämpfe!A39,\"-\"))","v":297801},{"$f":"IF(A43=\"ENDE\",\"-\",IF(Deckblatt!$C$17=Wettkämpfe!$A$1,Wettkämpfe!B39,\"\"))","v":"Wahl-Dreikampf männl. 80-99"},{"$f":"IF(B43=\"ENDE\",\"-\",IF(Deckblatt!$C$17=Wettkämpfe!$A$1,IF(Wettkämpfe!G39=0,\"\",Wettkämpfe!G39)))","v":"Wettkampfsport"},{"$f":"COUNTIF(Teilnehmer!$F$5:$F$1005,A43)","v":0},3,true,0,6,0,true,0,false,{"$f":"COUNTIF(Mannschaften!$B$4:$B$53,A43)","v":0},0,false,0,0,0,false,0]
[{"$f":"IF(A30=\"ENDE\",\"ENDE\",IF(Deckblatt!$C$17=Wettkämpfe!$A$1,Wettkämpfe!A40,\"-\"))","v":298061},{"$f":"IF(A44=\"ENDE\",\"-\",IF(Deckblatt!$C$17=Wettkämpfe!$A$1,Wettkämpfe!B40,\"\"))","v":"Wahl-Dreikampf Mädchen F 6"},{"$f":"IF(B44=\"ENDE\",\"-\",IF(Deckblatt!$C$17=Wettkämpfe!$A$1,IF(Wettkämpfe!G40=0,\"\",Wettkämpfe!G40)))","v":"Wettkampfsport"},{"$f":"COUNTIF(Teilnehmer!$F$5:$F$1005,A44)","v":0},3,true,{"$f":"IF(F44,D44,0)","v":0},3,0,true,0,false,{"$f":"COUNTIF(Mannschaften!$B$4:$B$53,A44)","v":0},0,false,0,0,0,false,0]
[{"$f":"IF(A44=\"ENDE\",\"ENDE\",IF(Deckblatt!$C$17=Wettkämpfe!$A$1,Wettkämpfe!A41,\"-\"))","v":298062},{"$f":"IF(A45=\"ENDE\",\"-\",IF(Deckblatt!$C$17=Wettkämpfe!$A$1,Wettkämpfe!B41,\"\"))","v":"Wahl-Dreikampf Mädchen F 6"},{"$f":"IF(B45=\"ENDE\",\"-\",IF(Deckblatt!$C$17=Wettkämpfe!$A$1,IF(Wettkämpfe!G41=0,\"\",Wettkämpfe!G41)))","v":"Allgemeines Kinderturnen"},{"$f":"COUNTIF(Teilnehmer!$F$5:$F$1005,A45)","v":0},3,true,0,3,0,true,0,false,{"$f":"COUNTIF(Mannschaften!$B$4:$B$53,A45)","v":0},0,false,0,0,0,false,0]
[{"$f":"IF(A44=\"ENDE\",\"ENDE\",IF(Deckblatt!$C$17=Wettkämpfe!$A$1,Wettkämpfe!A42,\"-\"))","v":298071},{"$f":"IF(A46=\"ENDE\",\"-\",IF(Deckblatt!$C$17=Wettkämpfe!$A$1,Wettkämpfe!B42,\"\"))","v":"Wahl-Dreikampf Mädchen F 7"},{"$f":"IF(B46=\"ENDE\",\"-\",IF(Deckblatt!$C$17=Wettkämpfe!$A$1,IF(Wettkämpfe!G42=0,\"\",Wettkämpfe!G42)))","v":"Wettkampfsport"},{"$f":"COUNTIF(Teilnehmer!$F$5:$F$1005,A46)","v":0},3,true,0,3,0,true,0,false,{"$f":"COUNTIF(Mannschaften!$B$4:$B$53,A46)","v":0},0,false,0,0,0,false,0]
[{"$f":"IF(A45=\"ENDE\",\"ENDE\",IF(Deckblatt!$C$17=Wettkämpfe!$A$1,Wettkämpfe!A43,\"-\"))","v":298072},{"$f":"IF(A47=\"ENDE\",\"-\",IF(Deckblatt!$C$17=Wettkämpfe!$A$1,Wettkämpfe!B43,\"\"))","v":"Wahl-Dreikampf Mädchen F 7"},{"$f":"IF(B47=\"ENDE\",\"-\",IF(Deckblatt!$C$17=Wettkämpfe!$A$1,IF(Wettkämpfe!G43=0,\"\",Wettkämpfe!G43)))","v":"Allgemeines Kinderturnen"},{"$f":"COUNTIF(Teilnehmer!$F$5:$F$1005,A47)","v":0},3,true,0,3,0,true,0,false,{"$f":"COUNTIF(Mannschaften!$B$4:$B$53,A47)","v":0},0,false,0,0,0,false,0]
[{"$f":"IF(A46=\"ENDE\",\"ENDE\",IF(Deckblatt!$C$17=Wettkämpfe!$A$1,Wettkämpfe!A44,\"-\"))","v":298081},{"$f":"IF(A48=\"ENDE\",\"-\",IF(Deckblatt!$C$17=Wettkämpfe!$A$1,Wettkämpfe!B44,\"\"))","v":"Wahl-Dreikampf Mädchen E 8"},{"$f":"IF(B48=\"ENDE\",\"-\",IF(Deckblatt!$C$17=Wettkämpfe!$A$1,IF(Wettkämpfe!G44=0,\"\",Wettkämpfe!G44)))","v":"Wettkampfsport"},{"$f":"COUNTIF(Teilnehmer!$F$5:$F$1005,A48)","v":0},3,true,0,3,0,true,0,false,{"$f":"COUNTIF(Mannschaften!$B$4:$B$53,A48)","v":0},0,false,0,0,0,false,0]
[{"$f":"IF(A47=\"ENDE\",\"ENDE\",IF(Deckblatt!$C$17=Wettkämpfe!$A$1,Wettkämpfe!A45,\"-\"))","v":298082},{"$f":"IF(A49=\"ENDE\",\"-\",IF(Deckblatt!$C$17=Wettkämpfe!$A$1,Wettkämpfe!B45,\"\"))","v":"Wahl-Dreikampf Mädchen E 8"},{"$f":"IF(B49=\"ENDE\",\"-\",IF(Deckblatt!$C$17=Wettkämpfe!$A$1,IF(Wettkämpfe!G45=0,\"\",Wettkämpfe!G45)))","v":"Allgemeines Kinderturnen"},{"$f":"COUNTIF(Teilnehmer!$F$5:$F$1005,A49)","v":0},3,true,0,3,0,true,0,false,{"$f":"COUNTIF(Mannschaften!$B$4:$B$53,A49)","v":0},0,false,0,0,0,false,0]
[{"$f":"IF(A48=\"ENDE\",\"ENDE\",IF(Deckblatt!$C$17=Wettkämpfe!$A$1,Wettkämpfe!A46,\"-\"))","v":298091},{"$f":"IF(A50=\"ENDE\",\"-\",IF(Deckblatt!$C$17=Wettkämpfe!$A$1,Wettkämpfe!B46,\"\"))","v":"Wahl-Dreikampf Mädchen E 9"},{"$f":"IF(B50=\"ENDE\",\"-\",IF(Deckblatt!$C$17=Wettkämpfe!$A$1,IF(Wettkämpfe!G46=0,\"\",Wettkämpfe!G46)))","v":"Wettkampfsport"},{"$f":"COUNTIF(Teilnehmer!$F$5:$F$1005,A50)","v":0},3,true,0,3,0,true,0,false,{"$f":"COUNTIF(Mannschaften!$B$4:$B$53,A50)","v":0},0,false,0,0,0,false,0]
[{"$f":"IF(A49=\"ENDE\",\"ENDE\",IF(Deckblatt!$C$17=Wettkämpfe!$A$1,Wettkämpfe!A47,\"-\"))","v":298092},{"$f":"IF(A51=\"ENDE\",\"-\",IF(Deckblatt!$C$17=Wettkämpfe!$A$1,Wettkämpfe!B47,\"\"))","v":"Wahl-Dreikampf Mädchen E 9"},{"$f":"IF(B51=\"ENDE\",\"-\",IF(Deckblatt!$C$17=Wettkämpfe!$A$1,IF(Wettkämpfe!G47=0,\"\",Wettkämpfe!G47)))","v":"Allgemeines Kinderturnen"},{"$f":"COUNTIF(Teilnehmer!$F$5:$F$1005,A51)","v":0},3,true,0,3,0,true,0,false,{"$f":"COUNTIF(Mannschaften!$B$4:$B$53,A51)","v":0},0,false,0,0,0,false,0]
[{"$f":"IF(A50=\"ENDE\",\"ENDE\",IF(Deckblatt!$C$17=Wettkämpfe!$A$1,Wettkämpfe!A48,\"-\"))","v":298101},{"$f":"IF(A52=\"ENDE\",\"-\",IF(Deckblatt!$C$17=Wettkämpfe!$A$1,Wettkämpfe!B48,\"\"))","v":"Wahl-Dreikampf Mädchen D 10"},{"$f":"IF(B52=\"ENDE\",\"-\",IF(Deckblatt!$C$17=Wettkämpfe!$A$1,IF(Wettkämpfe!G48=0,\"\",Wettkämpfe!G48)))","v":"Wettkampfsport"},{"$f":"COUNTIF(Teilnehmer!$F$5:$F$1005,A52)","v":0},3,true,0,3,0,true,0,false,{"$f":"COUNTIF(Mannschaften!$B$4:$B$53,A52)","v":0},0,false,0,0,0,false,0]
[{"$f":"IF(A51=\"ENDE\",\"ENDE\",IF(Deckblatt!$C$17=Wettkämpfe!$A$1,Wettkämpfe!A49,\"-\"))","v":298102},{"$f":"IF(A53=\"ENDE\",\"-\",IF(Deckblatt!$C$17=Wettkämpfe!$A$1,Wettkämpfe!B49,\"\"))","v":"Wahl-Dreikampf Mädchen D 10"},{"$f":"IF(B53=\"ENDE\",\"-\",IF(Deckblatt!$C$17=Wettkämpfe!$A$1,IF(Wettkämpfe!G49=0,\"\",Wettkämpfe!G49)))","v":"Allgemeines Kinderturnen"},{"$f":"COUNTIF(Teilnehmer!$F$5:$F$1005,A53)","v":0},3,true,0,3,0,true,0,false,{"$f":"COUNTIF(Mannschaften!$B$4:$B$53,A53)","v":0},0,false,0,0,0,false,0]
[{"$f":"IF(A52=\"ENDE\",\"ENDE\",IF(Deckblatt!$C$17=Wettkämpfe!$A$1,Wettkämpfe!A50,\"-\"))","v":298111},{"$f":"IF(A54=\"ENDE\",\"-\",IF(Deckblatt!$C$17=Wettkämpfe!$A$1,Wettkämpfe!B50,\"\"))","v":"Wahl-Dreikampf Mädchen D 11"},{"$f":"IF(B54=\"ENDE\",\"-\",IF(Deckblatt!$C$17=Wettkämpfe!$A$1,IF(Wettkämpfe!G50=0,\"\",Wettkämpfe!G50)))","v":"Wettkampfsport"},{"$f":"COUNTIF(Teilnehmer!$F$5:$F$1005,A54)","v":0},3,true,0,3,0,true,0,false,{"$f":"COUNTIF(Mannschaften!$B$4:$B$53,A54)","v":0},0,false,0,0,0,false,0]
[{"$f":"IF(A53=\"ENDE\",\"ENDE\",IF(Deckblatt!$C$17=Wettkämpfe!$A$1,Wettkämpfe!A51,\"-\"))","v":298112},{"$f":"IF(A55=\"ENDE\",\"-\",IF(Deckblatt!$C$17=Wettkämpfe!$A$1,Wettkämpfe!B51,\"\"))","v":"Wahl-Dreikampf Mädchen D 11"},{"$f":"IF(B55=\"ENDE\",\"-\",IF(Deckblatt!$C$17=Wettkämpfe!$A$1,IF(Wettkämpfe!G51=0,\"\",Wettkämpfe!G51)))","v":"Allgemeines Kinderturnen"},{"$f":"COUNTIF(Teilnehmer!$F$5:$F$1005,A55)","v":0},3,true,0,3,0,true,0,false,{"$f":"COUNTIF(Mannschaften!$B$4:$B$53,A55)","v":0},0,false,0,0,0,false,0]
[{"$f":"IF(A54=\"ENDE\",\"ENDE\",IF(Deckblatt!$C$17=Wettkämpfe!$A$1,Wettkämpfe!A52,\"-\"))","v":298121},{"$f":"IF(A56=\"ENDE\",\"-\",IF(Deckblatt!$C$17=Wettkämpfe!$A$1,Wettkämpfe!B52,\"\"))","v":"Wahl-Dreikampf weibl. C 12"},{"$f":"IF(B56=\"ENDE\",\"-\",IF(Deckblatt!$C$17=Wettkämpfe!$A$1,IF(Wettkämpfe!G52=0,\"\",Wettkämpfe!G52)))","v":"Wettkampfsport"},{"$f":"COUNTIF(Teilnehmer!$F$5:$F$1005,A56)","v":0},3,true,0,3,0,true,0,false,{"$f":"COUNTIF(Mannschaften!$B$4:$B$53,A56)","v":0},0,false,0,0,0,false,0]
[{"$f":"IF(A55=\"ENDE\",\"ENDE\",IF(Deckblatt!$C$17=Wettkämpfe!$A$1,Wettkämpfe!A53,\"-\"))","v":298122},{"$f":"IF(A57=\"ENDE\",\"-\",IF(Deckblatt!$C$17=Wettkämpfe!$A$1,Wettkämpfe!B53,\"\"))","v":"Wahl-Dreikampf weibl. C 12"},{"$f":"IF(B57=\"ENDE\",\"-\",IF(Deckblatt!$C$17=Wettkämpfe!$A$1,IF(Wettkämpfe!G53=0,\"\",Wettkämpfe!G53)))","v":"Allgemeines Kinderturnen"},{"$f":"COUNTIF(Teilnehmer!$F$5:$F$1005,A57)","v":0},3,true,0,3,0,true,0,false,{"$f":"COUNTIF(Mannschaften!$B$4:$B$53,A57)","v":0},0,false,0,0,0,false,0]
[{"$f":"IF(A56=\"ENDE\",\"ENDE\",IF(Deckblatt!$C$17=Wettkämpfe!$A$1,Wettkämpfe!A54,\"-\"))","v":298131},{"$f":"IF(A58=\"ENDE\",\"-\",IF(Deckblatt!$C$17=Wettkämpfe!$A$1,Wettkämpfe!B54,\"\"))","v":"Wahl-Dreikampf weibl. C 13"},{"$f":"IF(B58=\"ENDE\",\"-\",IF(Deckblatt!$C$17=Wettkämpfe!$A$1,IF(Wettkämpfe!G54=0,\"\",Wettkämpfe!G54)))","v":"Wettkampfsport"},{"$f":"COUNTIF(Teilnehmer!$F$5:$F$1005,A58)","v":0},3,true,0,3,0,true,0,false,{"$f":"COUNTIF(Mannschaften!$B$4:$B$53,A58)","v":0},0,false,0,0,0,false,0]
[{"$f":"IF(A57=\"ENDE\",\"ENDE\",IF(Deckblatt!$C$17=Wettkämpfe!$A$1,Wettkämpfe!A55,\"-\"))","v":298132},{"$f":"IF(A59=\"ENDE\",\"-\",IF(Deckblatt!$C$17=Wettkämpfe!$A$1,Wettkämpfe!B55,\"\"))","v":"Wahl-Dreikampf weibl. C 13"},{"$f":"IF(B59=\"ENDE\",\"-\",IF(Deckblatt!$C$17=Wettkämpfe!$A$1,IF(Wettkämpfe!G55=0,\"\",Wettkämpfe!G55)))","v":"Allgemeines Kinderturnen"},{"$f":"COUNTIF(Teilnehmer!$F$5:$F$1005,A59)","v":0},3,true,0,3,0,true,0,false,{"$f":"COUNTIF(Mannschaften!$B$4:$B$53,A59)","v":0},0,false,0,0,0,false,0]
[{"$f":"IF(A59=\"ENDE\",\"ENDE\",IF(Deckblatt!$C$17=Wettkämpfe!$A$1,Wettkämpfe!A56,\"-\"))","v":298141},{"$f":"IF(A60=\"ENDE\",\"-\",IF(Deckblatt!$C$17=Wettkämpfe!$A$1,Wettkämpfe!B56,\"\"))","v":"Wahl-Dreikampf weibl. B 14/15"},{"$f":"IF(B60=\"ENDE\",\"-\",IF(Deckblatt!$C$17=Wettkämpfe!$A$1,IF(Wettkämpfe!G56=0,\"\",Wettkämpfe!G56)))","v":"Wettkampfsport"},{"$f":"COUNTIF(Teilnehmer!$F$5:$F$1005,A60)","v":0},3,true,0,3,0,true,0,false,{"$f":"COUNTIF(Mannschaften!$B$4:$B$53,A60)","v":0},0,false,0,0,0,false,0]
[{"$f":"IF(A60=\"ENDE\",\"ENDE\",IF(Deckblatt!$C$17=Wettkämpfe!$A$1,Wettkämpfe!A57,\"-\"))","v":298161},{"$f":"IF(A61=\"ENDE\",\"-\",IF(Deckblatt!$C$17=Wettkämpfe!$A$1,Wettkämpfe!B57,\"\"))","v":"Wahl-Dreikampf weibl. A 16/17"},{"$f":"IF(B61=\"ENDE\",\"-\",IF(Deckblatt!$C$17=Wettkämpfe!$A$1,IF(Wettkämpfe!G57=0,\"\",Wettkämpfe!G57)))","v":"Wettkampfsport"},{"$f":"COUNTIF(Teilnehmer!$F$5:$F$1005,A61)","v":0},3,true,0,3,0,true,0,false,{"$f":"COUNTIF(Mannschaften!$B$4:$B$53,A61)","v":0},0,false,0,0,0,false,0]
[{"$f":"IF(A61=\"ENDE\",\"ENDE\",IF(Deckblatt!$C$17=Wettkämpfe!$A$1,Wettkämpfe!A58,\"-\"))","v":298181},{"$f":"IF(A62=\"ENDE\",\"-\",IF(Deckblatt!$C$17=Wettkämpfe!$A$1,Wettkämpfe!B58,\"\"))","v":"Wahl-Dreikampf weibl. Jun. 18/19"},{"$f":"IF(B62=\"ENDE\",\"-\",IF(Deckblatt!$C$17=Wettkämpfe!$A$1,IF(Wettkämpfe!G58=0,\"\",Wettkämpfe!G58)))","v":"Wettkampfsport"},{"$f":"COUNTIF(Teilnehmer!$F$5:$F$1005,A62)","v":0},3,true,0,6,0,true,0,false,{"$f":"COUNTIF(Mannschaften!$B$4:$B$53,A62)","v":0},0,false,0,0,0,false,0]
[{"$f":"IF(A62=\"ENDE\",\"ENDE\",IF(Deckblatt!$C$17=Wettkämpfe!$A$1,Wettkämpfe!A59,\"-\"))","v":298201},{"$f":"IF(A63=\"ENDE\",\"-\",IF(Deckblatt!$C$17=Wettkämpfe!$A$1,Wettkämpfe!B59,\"\"))","v":"Wahl-Dreikampf weibl. 20-24"},{"$f":"IF(B63=\"ENDE\",\"-\",IF(Deckblatt!$C$17=Wettkämpfe!$A$1,IF(Wettkämpfe!G59=0,\"\",Wettkämpfe!G59)))","v":"Wettkampfsport"},{"$f":"COUNTIF(Teilnehmer!$F$5:$F$1005,A63)","v":0},3,true,{"$f":"IF(F63,D63,0)","v":0},6,0,true,0,false,{"$f":"COUNTIF(Mannschaften!$B$4:$B$53,A63)","v":0},0,false,0,0,0,false,0]
[{"$f":"IF(A63=\"ENDE\",\"ENDE\",IF(Deckblatt!$C$17=Wettkämpfe!$A$1,Wettkämpfe!A60,\"-\"))","v":298251},{"$f":"IF(A64=\"ENDE\",\"-\",IF(Deckblatt!$C$17=Wettkämpfe!$A$1,Wettkämpfe!B60,\"\"))","v":"Wahl-Dreikampf weibl. 25-29"},{"$f":"IF(B64=\"ENDE\",\"-\",IF(Deckblatt!$C$17=Wettkämpfe!$A$1,IF(Wettkämpfe!G60=0,\"\",Wettkämpfe!G60)))","v":"Wettkampfsport"},{"$f":"COUNTIF(Teilnehmer!$F$5:$F$1005,A64)","v":0},3,true,0,6,0,true,0,false,{"$f":"COUNTIF(Mannschaften!$B$4:$B$53,A64)","v":0},0,false,0,0,0,false,0]
[{"$f":"IF(A64=\"ENDE\",\"ENDE\",IF(Deckblatt!$C$17=Wettkämpfe!$A$1,Wettkämpfe!A61,\"-\"))","v":298301},{"$f":"IF(A65=\"ENDE\",\"-\",IF(Deckblatt!$C$17=Wettkämpfe!$A$1,Wettkämpfe!B61,\"\"))","v":"Wahl-Dreikampf weibl. 30-34"},{"$f":"IF(B65=\"ENDE\",\"-\",IF(Deckblatt!$C$17=Wettkämpfe!$A$1,IF(Wettkämpfe!G61=0,\"\",Wettkämpfe!G61)))","v":"Wettkampfsport"},{"$f":"COUNTIF(Teilnehmer!$F$5:$F$1005,A65)","v":0},3,true,0,6,0,true,0,false,{"$f":"COUNTIF(Mannschaften!$B$4:$B$53,A65)","v":0},0,false,0,0,0,false,0]
[{"$f":"IF(A65=\"ENDE\",\"ENDE\",IF(Deckblatt!$C$17=Wettkämpfe!$A$1,Wettkämpfe!A62,\"-\"))","v":298351},{"$f":"IF(A66=\"ENDE\",\"-\",IF(Deckblatt!$C$17=Wettkämpfe!$A$1,Wettkämpfe!B62,\"\"))","v":"Wahl-Dreikampf weibl. 35-39"},{"$f":"IF(B66=\"ENDE\",\"-\",IF(Deckblatt!$C$17=Wettkämpfe!$A$1,IF(Wettkämpfe!G62=0,\"\",Wettkämpfe!G62)))","v":"Wettkampfsport"},{"$f":"COUNTIF(Teilnehmer!$F$5:$F$1005,A66)","v":0},3,true,0,6,0,true,0,false,{"$f":"COUNTIF(Mannschaften!$B$4:$B$53,A66)","v":0},0,false,0,0,0,false,0]
[{"$f":"IF(A66=\"ENDE\",\"ENDE\",IF(Deckblatt!$C$17=Wettkämpfe!$A$1,Wettkämpfe!A63,\"-\"))","v":298401},{"$f":"IF(A67=\"ENDE\",\"-\",IF(Deckblatt!$C$17=Wettkämpfe!$A$1,Wettkämpfe!B63,\"\"))","v":"Wahl-Dreikampf weibl. 40-44"},{"$f":"IF(B67=\"ENDE\",\"-\",IF(Deckblatt!$C$17=Wettkämpfe!$A$1,IF(Wettkämpfe!G63=0,\"\",Wettkämpfe!G63)))","v":"Wettkampfsport"},{"$f":"COUNTIF(Teilnehmer!$F$5:$F$1005,A67)","v":0},3,true,0,6,0,true,0,false,{"$f":"COUNTIF(Mannschaften!$B$4:$B$53,A67)","v":0},0,false,0,0,0,false,0]
[{"$f":"IF(A67=\"ENDE\",\"ENDE\",IF(Deckblatt!$C$17=Wettkämpfe!$A$1,Wettkämpfe!A64,\"-\"))","v":298451},{"$f":"IF(A68=\"ENDE\",\"-\",IF(Deckblatt!$C$17=Wettkämpfe!$A$1,Wettkämpfe!B64,\"\"))","v":"Wahl-Dreikampf weibl. 45-49"},{"$f":"IF(B68=\"ENDE\",\"-\",IF(Deckblatt!$C$17=Wettkämpfe!$A$1,IF(Wettkämpfe!G64=0,\"\",Wettkämpfe!G64)))","v":"Wettkampfsport"},{"$f":"COUNTIF(Teilnehmer!$F$5:$F$1005,A68)","v":0},3,true,0,6,0,true,0,false,{"$f":"COUNTIF(Mannschaften!$B$4:$B$53,A68)","v":0},0,false,0,0,0,false,0]
[{"$f":"IF(A68=\"ENDE\",\"ENDE\",IF(Deckblatt!$C$17=Wettkämpfe!$A$1,Wettkämpfe!A65,\"-\"))","v":298501},{"$f":"IF(A69=\"ENDE\",\"-\",IF(Deckblatt!$C$17=Wettkämpfe!$A$1,Wettkämpfe!B65,\"\"))","v":"Wahl-Dreikampf weibl. 50-54"},{"$f":"IF(B69=\"ENDE\",\"-\",IF(Deckblatt!$C$17=Wettkämpfe!$A$1,IF(Wettkämpfe!G65=0,\"\",Wettkämpfe!G65)))","v":"Wettkampfsport"},{"$f":"COUNTIF(Teilnehmer!$F$5:$F$1005,A69)","v":0},3,true,0,6,0,true,0,false,{"$f":"COUNTIF(Mannschaften!$B$4:$B$53,A69)","v":0},0,false,0,0,0,false,0]
[{"$f":"IF(A69=\"ENDE\",\"ENDE\",IF(Deckblatt!$C$17=Wettkämpfe!$A$1,Wettkämpfe!A66,\"-\"))","v":298551},{"$f":"IF(A70=\"ENDE\",\"-\",IF(Deckblatt!$C$17=Wettkämpfe!$A$1,Wettkämpfe!B66,\"\"))","v":"Wahl-Dreikampf weibl. 55-59"},{"$f":"IF(B70=\"ENDE\",\"-\",IF(Deckblatt!$C$17=Wettkämpfe!$A$1,IF(Wettkämpfe!G66=0,\"\",Wettkämpfe!G66)))","v":"Wettkampfsport"},{"$f":"COUNTIF(Teilnehmer!$F$5:$F$1005,A70)","v":0},3,true,0,6,0,true,0,false,{"$f":"COUNTIF(Mannschaften!$B$4:$B$53,A70)","v":0},0,false,0,0,0,false,0]
[{"$f":"IF(A70=\"ENDE\",\"ENDE\",IF(Deckblatt!$C$17=Wettkämpfe!$A$1,Wettkämpfe!A67,\"-\"))","v":298601},{"$f":"IF(A71=\"ENDE\",\"-\",IF(Deckblatt!$C$17=Wettkämpfe!$A$1,Wettkämpfe!B67,\"\"))","v":"Wahl-Dreikampf weibl. 60-64"},{"$f":"IF(B71=\"ENDE\",\"-\",IF(Deckblatt!$C$17=Wettkämpfe!$A$1,IF(Wettkämpfe!G67=0,\"\",Wettkämpfe!G67)))","v":"Wettkampfsport"},{"$f":"COUNTIF(Teilnehmer!$F$5:$F$1005,A71)","v":0},3,true,0,6,0,true,{"$f":"IF(J71,D71,0)","v":0},false,{"$f":"COUNTIF(Mannschaften!$B$4:$B$53,A71)","v":0},0,false,{"$f":"IF(O71,M71,0)","v":0},0,0,false,{"$f":"IF(S71,M71,0)","v":0}]
[{"$f":"IF(A71=\"ENDE\",\"ENDE\",IF(Deckblatt!$C$17=Wettkämpfe!$A$1,Wettkämpfe!A68,\"-\"))","v":298651},{"$f":"IF(A72=\"ENDE\",\"-\",IF(Deckblatt!$C$17=Wettkämpfe!$A$1,Wettkämpfe!B68,\"\"))","v":"Wahl-Dreikampf weibl. 65-69"},{"$f":"IF(B72=\"ENDE\",\"-\",IF(Deckblatt!$C$17=Wettkämpfe!$A$1,IF(Wettkämpfe!G68=0,\"\",Wettkämpfe!G68)))","v":"Wettkampfsport"},{"$f":"COUNTIF(Teilnehmer!$F$5:$F$1005,A72)","v":0},3,true,0,6,{"$f":"D72*H72","v":0},true,0,false,{"$f":"COUNTIF(Mannschaften!$B$4:$B$53,A72)","v":0},0,false,0,0,{"$f":"M72*Q72","v":0},false,0]
[{"$f":"IF(A72=\"ENDE\",\"ENDE\",IF(Deckblatt!$C$17=Wettkämpfe!$A$1,Wettkämpfe!A69,\"-\"))","v":298701},{"$f":"IF(A73=\"ENDE\",\"-\",IF(Deckblatt!$C$17=Wettkämpfe!$A$1,Wettkämpfe!B69,\"\"))","v":"Wahl-Dreikampf weibl. 70-74"},{"$f":"IF(B73=\"ENDE\",\"-\",IF(Deckblatt!$C$17=Wettkämpfe!$A$1,IF(Wettkämpfe!G69=0,\"\",Wettkämpfe!G69)))","v":"Wettkampfsport"},{"$f":"COUNTIF(Teilnehmer!$F$5:$F$1005,A73)","v":0},3,true,0,6,0,true,0,false,{"$f":"COUNTIF(Mannschaften!$B$4:$B$53,A73)","v":0},0,false,0,0,0,false,0]
[{"$f":"IF(A73=\"ENDE\",\"ENDE\",IF(Deckblatt!$C$17=Wettkämpfe!$A$1,Wettkämpfe!A70,\"-\"))","v":298751},{"$f":"IF(A74=\"ENDE\",\"-\",IF(Deckblatt!$C$17=Wettkämpfe!$A$1,Wettkämpfe!B70,\"\"))","v":"Wahl-Dreikampf weibl. 75-79"},{"$f":"IF(B74=\"ENDE\",\"-\",IF(Deckblatt!$C$17=Wettkämpfe!$A$1,IF(Wettkämpfe!G70=0,\"\",Wettkämpfe!G70)))","v":"Wettkampfsport"},{"$f":"COUNTIF(Teilnehmer!$F$5:$F$1005,A74)","v":0},3,true,{"$f":"IF(F74,D74,0)","v":0},6,0,true,0,false,{"$f":"COUNTIF(Mannschaften!$B$4:$B$53,A74)","v":0},0,false,0,0,0,false,0]
[{"$f":"IF(A74=\"ENDE\",\"ENDE\",IF(Deckblatt!$C$17=Wettkämpfe!$A$1,Wettkämpfe!A71,\"-\"))","v":298801},{"$f":"IF(A75=\"ENDE\",\"-\",IF(Deckblatt!$C$17=Wettkämpfe!$A$1,Wettkämpfe!B71,\"\"))","v":"Wahl-Dreikampf weibl. 80-99"},{"$f":"IF(B75=\"ENDE\",\"-\",IF(Deckblatt!$C$17=Wettkämpfe!$A$1,IF(Wettkämpfe!G71=0,\"\",Wettkämpfe!G71)))","v":"Wettkampfsport"},{"$f":"COUNTIF(Teilnehmer!$F$5:$F$1005,A75)","v":0},3,true,{"$f":"IF(F75,D75,0)","v":0},6,0,true,0,false,{"$f":"COUNTIF(Mannschaften!$B$4:$B$53,A75)","v":0},0,false,0,0,0,false,0]
[{"$f":"IF(A61=\"ENDE\",\"ENDE\",IF(Deckblatt!$C$17=Wettkämpfe!$A$1,Wettkämpfe!A72,\"-\"))","v":21400},{"$f":"IF(A76=\"ENDE\",\"-\",IF(Deckblatt!$C$17=Wettkämpfe!$A$1,Wettkämpfe!B72,\"\"))","v":"4inMotion"},{"$f":"IF(B76=\"ENDE\",\"-\",IF(Deckblatt!$C$17=Wettkämpfe!$A$1,IF(Wettkämpfe!G72=0,\"\",Wettkämpfe!G72)))","v":""},{"$f":"COUNTIF(Teilnehmer!$F$5:$F$1005,A76)","v":0},0,false,{"$f":"IF(F76,D76,0)","v":0},0,0,false,{"$f":"IF(J76,D76,0)","v":0},false,{"$f":"COUNTIF(Mannschaften!$B$4:$B$53,A76)","v":0},0,false,{"$f":"IF(O76,M76,0)","v":0},0,0,false,{"$f":"IF(S76,M76,0)","v":0}]
[{"$f":"IF(A62=\"ENDE\",\"ENDE\",IF(Deckblatt!$C$17=Wettkämpfe!$A$1,Wettkämpfe!A73,\"-\"))","v":999999},{"$f":"IF(A77=\"ENDE\",\"-\",IF(Deckblatt!$C$17=Wettkämpfe!$A$1,Wettkämpfe!B73,\"\"))","v":"Teamwettbewerb"},{"$f":"IF(B77=\"ENDE\",\"-\",IF(Deckblatt!$C$17=Wettkämpfe!$A$1,IF(Wettkämpfe!G73=0,\"\",Wettkämpfe!G73)))","v":""},{"$f":"COUNTIF(Teilnehmer!$F$5:$F$1005,A77)","v":0},0,false,{"$f":"IF(F77,D77,0)","v":0},0,0,false,0,true,{"$f":"COUNTIF(Mannschaften!$B$4:$B$53,A77)","v":0},0,true,0,10,0,false,0]
[null,"Summen:",null,{"$f":"SUM(D7:D77)","v":0},null,null,{"$f":"SUM(G7:G75)","v":0},null,{"$f":"SUM(I7:I75)","v":0},null,{"$f":"SUM(K7:K77)","v":0},null,{"$f":"SUM(M7:M77)","v":0},null,null,{"$f":"SUM(P7:P77)","v":0},null,{"$f":"SUM(R7:R77)","v":0},null,{"$f":"SUM(T7:T77)","v":0}]
[]
[]
[null,null,null,"Teilnehmer",null,null,null,null,null,null,null,null,"Mannschaften",null,null,null,null,null,null,null,"Gesamt"]
[null,"Meldegebühr für Anzahl Teilnehmer / Mannschaft",null,{"$f":"G78","v":0},null,null,null,null,null,null,null,null,{"$f":"P78","v":0}]
[null,"Meldegebühr gesamt:",null,{"$f":"I78","v":0},null,null,null,null,null,null,null,null,{"$f":"R78","v":0},null,null,null,null,null,null,null,{"$f":"D83+M83","v":0}]

{"sheet":"Veranstaltung","index":6,"n_rows":2,"n_cols":8,"rows_kept":2,"cut":false,"hidden":true,"merged":[]}
["Titel","Termin","Ort","Ausrichter","Meldeschluss","Meldeschluss + 1 Tag","Veranstaltung","Kürzel"]
["Turngau Event","2024-06-23","Weissach im Tal","SG Weissach im Tal","2024-06-07",{"$f":"E2+1","v":"2024-06-08"},"Turngau Event 2024","GauKi2024"]

{"sheet":"Vereine","index":7,"n_rows":96,"n_cols":2,"rows_kept":96,"cut":false,"hidden":true,"merged":[]}
["Verein nicht in Liste enthalten","1 Verein nicht in Liste enthalten"]
["FSG Alfdorf","Alfdorf, FSG"]
["TSV Alfdorf","Alfdorf, TSV"]
["TSV Allmersbach","Allmersbach, TSV"]
["TSV Althütte","Althütte, TSV"]
["LT Auenwald","Auenwald, LT"]
["Karnevalsclub Backnang","Backnang, Karnevalsclub"]
["TSG Backnang","Backnang, TSG, Turn- und Sportabteilungen"]
["RSV Backnang-Waldrems","Backnang-Waldrems, RSV"]
["TSV Bad Rietenau","Bad Rietenau, TSV"]
["TB Beinstein","Beinstein, TB"]
["Berkener Sport-Club 2008 Ober-/Unterberken","Berkener Sport-Club 2008 Ober-/Unterberken"]
["VfR Birkmannsweiler","Birkmannsweiler, VfR"]
["TV Bittenfeld","Bittenfeld, TV"]
["SV Breuningsweiler","Breuningsweiler, SV"]
["TSG Buhlbronn","Buhlbronn, TSG"]
["SV Burgstall","Burgstall, SV"]
["SKG Erbstetten","Erbstetten, SKG"]
["PSG Fellbach","Fellbach, PSG"]
["SV Fellbach","Fellbach, SV"]
["VGS Fellbach","Fellbach, VGS"]
["SK Fichtenberg","Fichtenberg, SK"]
["SC Fornsbach","Fornsbach, SC"]
["SF Großerlach","Großerlach, SF"]
["FSG Grunbach","Grunbach, FSG"]
["TSF Gschwend","Gschwend, TSF"]
["TSV Haubersbronn","Haubersbronn, TSV"]
["TV Hebsack","Hebsack, TV"]
["SV Hegnach","Hegnach, SV"]
["SV Hertmannsweiler","Hertmannsweiler, SV"]
["SF Höfen-Baach","Höfen-Baach, SF"]
["GTV Hohenacker","Hohenacker, GTV"]
["Skiclub Hohenacker","Hohenacker, Skiclub"]
["SSV Hohenacker","Hohenacker, SSV"]
["SV Kaisersbach","Kaisersbach, SV"]
["SVG Kirchberg","Kirchberg, SVG"]
["Spvgg Kirchenkirnberg","Kirchenkirnberg, Spvgg"]
["Spvgg Kleinaspach/Allmersbach","Kleinaspach/Allmersbach, Spvgg"]
["SC Korb","Korb, SC"]
["TSV Leutenbach","Leutenbach, TSV"]
["TSV Lippoldsweiler","Lippoldsweiler, TSV"]
["TSV Lorch","Lorch, TSV"]
["SV Maubach","Maubach, SV"]
["TSV Miedelsbach","Miedelsbach, TSV"]
["TV Murrhardt","Murrhardt, TV"]
["TSV Nellmersbach","Nellmersbach, TSV"]
["TSV Neustadt","Neustadt, TSV"]
["TSV Oberbrüden","Oberbrüden, TSV"]
["TSV Oberndorf","Oberndorf, TSV"]
["TV Oeffingen","Oeffingen, TV"]
["TV Oppenweiler","Oppenweiler, TV"]
["SV Pfahlbronn","Pfahlbronn, SV"]
["Tauziehfreunde Pfahlbronn","Pfahlbronn, TZF"]
["SC Plüderhausen","Plüderhausen, SC"]
["SV Plüderhausen","Plüderhausen, SV"]
["TSV Rattenharz","Rattenharz, TSV"]
["SV Remshalden","Remshalden, SV"]
["SG Rohrbronn","Rohrbronn, SG"]
["Spvgg Rommelshausen","Rommelshausen, Spvgg"]
["TSV Rudersberg","Rudersberg, TSV"]
["Verein für Psychomotorik Rudersberg","Rudersberg, Verein für Psychomotorik"]
["TSV Schlechtbach","Schlechtbach, TSV"]
["ASV Schlichten","Schlichten, ASV"]
["TSV Schmiden","Schmiden, TSV"]
["TSV Schnait","Schnait, TSV"]
["TSV Schornbach","Schornbach, TSV"]
["Kneipp-Verein Schorndorf","Schorndorf, Kneipp-Verein"]
["PSV Schorndorf","Schorndorf, PSV"]
["SG Schorndorf","Schorndorf, SG"]
["STV Schorndorf","Schorndorf, STV"]
["TSV Schwaikheim","Schwaikheim, TSV"]
["TSV Sechselberg","Sechselberg, TSV"]
["SG Sonnenhof-Großaspach Turn&Sport e.V.","Sonnenhof-Großaspach, SG"]
["SV Spiegelberg","Spiegelberg, SV"]
["SSV Steinach-Reichenbach","Steinach-Reichenbach, SSV"]
["SV Steinbach","Steinbach, SV"]
["SF Steinenberg","Steinenberg, SF"]
["TV Stetten","Stetten, TV"]
["TSV Strümpfelbach","Strümpfelbach, TSV"]
["TV Sulzbach/Murr","Sulzbach/Murr, TV"]
["SC Urbach","Urbach, SC"]
["Verband für Modernen Fünfkampf BW","Verband für Modernen Fünfkampf BW"]
["1. Waiblinger Faschingsgesellschaft","Waiblingen, 1. Faschingsgesellschaft"]
["Armare Waiblingen","Waiblingen, Armare"]
["FSV Waiblingen","Waiblingen, FSV"]
["Waiblinger Karneval Gesellschaft","Waiblingen, Karneval Gesellschaft"]
["PSV Waiblingen","Waiblingen, PSV"]
["VfL Waiblingen","Waiblingen, VfL"]
["TSV Waldhausen","Waldhausen, TSV"]
["TSV Weiler zum Stein","Weiler zum Stein, TSV"]
["TV Weiler/Rems","Weiler/Rems, TV"]
["SG Weinstadt","Weinstadt, SG"]
["SG Weissach im Tal","Weissach im Tal, SG"]
["TSF Welzheim","Welzheim, TSF"]
["SV Winnenden","Winnenden, SV"]
["VfL Winterbach","Winterbach, VfL"]

{"sheet":"Wettkämpfe","index":8,"n_rows":74,"n_cols":7,"rows_kept":74,"cut":false,"hidden":true,"merged":[]}
[{"$f":"Veranstaltung!A2","v":"Turngau Event"}]
["WK-Nr.","Bezeichnung","JG min","JG max",null,null,"Bereich"]
[89902,"Turniade I ElKi 1-2 Jahre",2022,2023,null,"Einzelwettkampf"]
[89903,"Turniade I ElKi 3-4 Jahre",2020,2021,null,"Einzelwettkampf"]
[89904,"Turniade II Vorschulturnen 4 Jahre",2020,2020,null,"Einzelwettkampf"]
[89905,"Turniade II Vorschulturnen 5 Jahre",2019,2019,null,"Einzelwettkampf"]
[89906,"Turniade II Vorschulturnen 6 Jahre",2018,2018,null,"Einzelwettkampf"]
[297061,"Wahl-Dreikampf Jungen F 6",2018,2018,null,"Einzelwettkampf","Wettkampfsport"]
[297062,"Wahl-Dreikampf Jungen F 6",2018,2018,null,"Einzelwettkampf","Allgemeines Kinderturnen"]
[297071,"Wahl-Dreikampf Jungen F 7",2017,2017,null,"Einzelwettkampf","Wettkampfsport"]
[297072,"Wahl-Dreikampf Jungen F 7",2017,2017,null,"Einzelwettkampf","Allgemeines Kinderturnen"]
[297081,"Wahl-Dreikampf Jungen E 8",2016,2016,null,"Einzelwettkampf","Wettkampfsport"]
[297082,"Wahl-Dreikampf Jungen E 8",2016,2016,null,"Einzelwettkampf","Allgemeines Kinderturnen"]
[297091,"Wahl-Dreikampf Jungen E 9",2015,2015,null,"Einzelwettkampf","Wettkampfsport"]
[297092,"Wahl-Dreikampf Jungen E 9",2015,2015,null,"Einzelwettkampf","Allgemeines Kinderturnen"]
[297101,"Wahl-Dreikampf Jungen D 10",2014,2014,null,"Einzelwettkampf","Wettkampfsport"]
[297102,"Wahl-Dreikampf Jungen D 10",2014,2014,null,"Einzelwettkampf","Allgemeines Kinderturnen"]
[297111,"Wahl-Dreikampf Jungen D 11",2013,2013,null,"Einzelwettkampf","Wettkampfsport"]
[297112,"Wahl-Dreikampf Jungen D 11",2013,2013,null,"Einzelwettkampf","Allgemeines Kinderturnen"]
[297121,"Wahl-Dreikampf männl. C 12",2012,2012,null,"Einzelwettkampf","Wettkampfsport"]
[297122,"Wahl-Dreikampf männl. C 12",2012,2012,null,"Einzelwettkampf","Allgemeines Kinderturnen"]
[297131,"Wahl-Dreikampf männl. C 13",2011,2011,null,"Einzelwettkampf","Wettkampfsport"]
[297132,"Wahl-Dreikampf männl. C 13",2011,2011,null,"Einzelwettkampf","Allgemeines Kinderturnen"]
[297141,"Wahl-Dreikampf männl. B 14/15",2009,2010,null,"Einzelwettkampf","Wettkampfsport"]
[297161,"Wahl-Dreikampf männl. A 16/17",2007,2008,null,"Einzelwettkampf","Wettkampfsport"]
[297181,"Wahl-Dreikampf männl. Jun. 18/19",2006,2005,null,"Einzelwettkampf","Wettkampfsport"]
[297201,"Wahl-Dreikampf männl. 20-24",2004,2000,null,"Einzelwettkampf","Wettkampfsport"]
[297251,"Wahl-Dreikampf männl. 25-29",1999,1995,null,"Einzelwettkampf","Wettkampfsport"]
[297301,"Wahl-Dreikampf männl. 30-34",1994,1990,null,"Einzelwettkampf","Wettkampfsport"]
[297351,"Wahl-Dreikampf männl. 35-39",1989,1985,null,"Einzelwettkampf","Wettkampfsport"]
[297401,"Wahl-Dreikampf männl. 40-44",1984,1980,null,"Einzelwettkampf","Wettkampfsport"]
[297451,"Wahl-Dreikampf männl. 45-49",1979,1975,null,"Einzelwettkampf","Wettkampfsport"]
[297501,"Wahl-Dreikampf männl. 50-54",1974,1970,null,"Einzelwettkampf","Wettkampfsport"]
[297551,"Wahl-Dreikampf männl. 55-59",1969,1965,null,"Einzelwettkampf","Wettkampfsport"]
[297601,"Wahl-Dreikampf männl. 60-64",1964,1960,null,"Einzelwettkampf","Wettkampfsport"]
[297651,"Wahl-Dreikampf männl. 65-69",1959,1955,null,"Einzelwettkampf","Wettkampfsport"]
[297701,"Wahl-Dreikampf männl. 70-74",1954,1950,null,"Einzelwettkampf","Wettkampfsport"]
[297751,"Wahl-Dreikampf männl. 75-79",1949,1945,null,"Einzelwettkampf","Wettkampfsport"]
[297801,"Wahl-Dreikampf männl. 80-99",1944,1925,null,"Einzelwettkampf","Wettkampfsport"]
[298061,"Wahl-Dreikampf Mädchen F 6",2018,2018,null,"Einzelwettkampf","Wettkampfsport"]
[298062,"Wahl-Dreikampf Mädchen F 6",2018,2018,null,"Einzelwettkampf","Allgemeines Kinderturnen"]
[298071,"Wahl-Dreikampf Mädchen F 7",2017,2017,null,"Einzelwettkampf","Wettkampfsport"]
[298072,"Wahl-Dreikampf Mädchen F 7",2017,2017,null,"Einzelwettkampf","Allgemeines Kinderturnen"]
[298081,"Wahl-Dreikampf Mädchen E 8",2016,2016,null,"Einzelwettkampf","Wettkampfsport"]
[298082,"Wahl-Dreikampf Mädchen E 8",2016,2016,null,"Einzelwettkampf","Allgemeines Kinderturnen"]
[298091,"Wahl-Dreikampf Mädchen E 9",2015,2015,null,"Einzelwettkampf","Wettkampfsport"]
[298092,"Wahl-Dreikampf Mädchen E 9",2015,2015,null,"Einzelwettkampf","Allgemeines Kinderturnen"]
[298101,"Wahl-Dreikampf Mädchen D 10",2014,2014,null,"Einzelwettkampf","Wettkampfsport"]
[298102,"Wahl-Dreikampf Mädchen D 10",2014,2014,null,"Einzelwettkampf","Allgemeines Kinderturnen"]
[298111,"Wahl-Dreikampf Mädchen D 11",2013,2013,null,"Einzelwettkampf","Wettkampfsport"]
[298112,"Wahl-Dreikampf Mädchen D 11",2013,2013,null,"Einzelwettkampf","Allgemeines Kinderturnen"]
[298121,"Wahl-Dreikampf weibl. C 12",2012,2012,null,"Einzelwettkampf","Wettkampfsport"]
[298122,"Wahl-Dreikampf weibl. C 12",2012,2012,null,"Einzelwettkampf","Allgemeines Kinderturnen"]
[298131,"Wahl-Dreikampf weibl. C 13",2011,2011,null,"Einzelwettkampf","Wettkampfsport"]
[298132,"Wahl-Dreikampf weibl. C 13",2011,2011,null,"Einzelwettkampf","Allgemeines Kinderturnen"]
[298141,"Wahl-Dreikampf weibl. B 14/15",2009,2010,null,"Einzelwettkampf","Wettkampfsport"]
[298161,"Wahl-Dreikampf weibl. A 16/17",2007,2008,null,"Einzelwettkampf","Wettkampfsport"]
[298181,"Wahl-Dreikampf weibl. Jun. 18/19",2006,2005,null,"Einzelwettkampf","Wettkampfsport"]
[298201,"Wahl-Dreikampf weibl. 20-24",2004,2000,null,"Einzelwettkampf","Wettkampfsport"]
[298251,"Wahl-Dreikampf weibl. 25-29",1999,1995,null,"Einzelwettkampf","Wettkampfsport"]
[298301,"Wahl-Dreikampf weibl. 30-34",1994,1990,null,"Einzelwettkampf","Wettkampfsport"]
[298351,"Wahl-Dreikampf weibl. 35-39",1989,1985,null,"Einzelwettkampf","Wettkampfsport"]
[298401,"Wahl-Dreikampf weibl. 40-44",1984,1980,null,"Einzelwettkampf","Wettkampfsport"]
[298451,"Wahl-Dreikampf weibl. 45-49",1979,1975,null,"Einzelwettkampf","Wettkampfsport"]
[298501,"Wahl-Dreikampf weibl. 50-54",1974,1970,null,"Einzelwettkampf","Wettkampfsport"]
[298551,"Wahl-Dreikampf weibl. 55-59",1969,1965,null,"Einzelwettkampf","Wettkampfsport"]
[298601,"Wahl-Dreikampf weibl. 60-64",1964,1960,null,"Einzelwettkampf","Wettkampfsport"]
[298651,"Wahl-Dreikampf weibl. 65-69",1959,1955,null,"Einzelwettkampf","Wettkampfsport"]
[298701,"Wahl-Dreikampf weibl. 70-74",1954,1950,null,"Einzelwettkampf","Wettkampfsport"]
[298751,"Wahl-Dreikampf weibl. 75-79",1949,1945,null,"Einzelwettkampf","Wettkampfsport"]
[298801,"Wahl-Dreikampf weibl. 80-99",1944,1925,null,"Einzelwettkampf","Wettkampfsport"]
[21400,"4inMotion",2014,1925,null,"Mannschaftswettkampf"]
[999999,"Teamwettbewerb",2018,1925,null,"Mannschaftswettkampf"]
["ENDE","ENDE","ENDE","ENDE"]

{"sheet":"Schwierigkeitsstufen","index":9,"n_rows":17,"n_cols":9,"rows_kept":17,"cut":false,"hidden":true,"merged":[]}
["LA","Gerätturnen","Gymnastik",null,"Validierung Geburtsdatum",null,null,"Einteilung","Validierung Geschlecht"]
["X","P1","P1",null,"Minimal:",1900,null,"1. Kampfrichter Turnen weiblich","m"]
[null,"P2","P2",null,"Maximal:",{"$f":"YEAR(NOW())","v":2024},null,"2. Kampfrichter Turnen männlich","w"]
[null,"P3","P3",null,null,null,null,"3. Kampfrichter Gymnastik"]
[null,"P4","P4",null,null,null,null,"4. Kampfrichter Schwimmen"]
[null,"P5","P5",null,null,null,null,"5. Kampfrichter Rope Skipping"]
[null,"P6","P6",null,null,null,null,"6. Helfer Leichtathletik"]
[null,"P7","P7",null,null,null,null,"7. Helfer ElKi / Turncup"]
[null,"P8","P8",null,null,null,null,"8. Eventhelfer"]
[null,"P9","P9"]
[null,null,"P11"]
[null,null,"P12"]
[null,null,"P13"]
[null,null,"P14"]
[null,null,"P15"]
[null,null,"P16"]
[null,null,"P17"]

{"sheet":"Zahlungsarten","index":10,"n_rows":3,"n_cols":3,"rows_kept":3,"cut":false,"hidden":true,"merged":[]}
["Zahlungsarten","Text","Hinweis"]
["SEPA-Lastschriftmandat für einmalige Zahlung","Ich ermächtige den Turngau Rems-Murr, einmalig eine Zahlung von meinem Konto mittels Lastschrift einzuziehen.  Zugleich weise ich mein Kreditinstitut an, die vom Turngau Rems-Murr auf mein Konto gezogene Lastschrift einzulösen. Hinweis: Ich kann innerhalb von 8 Wochen, beginnend mit dem Belastungsdatum, die Erstattung des belasteten Betrages verlangen. Es gelten dabei die mit meinem Kreditinstitut vereinbarten Bedingungen.","Bitte füllen Sie die nachfolgenden Felder aus und schicken Sie diese Seite unterschrieben per Post an den Turngau Rems-Murr (nicht per Fax)."]
["SEPA-Lastschriftmandat für wiederkehrende Zahlungen","Dem Turngau Rems-Murr liegt ein SEPA-Lastschriftmandat für wiederkehrende Zahlungen vor.","Nachfolgende Felder müssen nicht ausgefüllt werden."]